Workbook

Sheet K66SAE
A1: ĐẠI HỌC QUỐC GIA HÀ NỘI | G1: CỘNG HÒA XÃ HỘI CHỦ NGHĨA VIỆT NAM
A2: TRƯỜNG ĐẠI HỌC CÔNG NGHỆ | G2: Độc lập - Tự do - Hạnh phúc
A5: BẢNG TỔNG HỢP KẾT QUẢ RÈN LUYỆN CỦA SINH VIÊN
A6: LỚP QH-2021-I/CQ-S-AE, HỌC KỲ 1, NĂM HỌC 2025-2026
A7: VIỆN CÔNG NGHỆ HÀNG KHÔNG VŨ TRỤ
A10: STT | B10: MASV | C10: Họ và tên | D10: Ngày sinh | E10: Điểm tự ĐG | F10: Điểm BCS | G10: Điểm GVCN | H10: Điểm KL | J10: Điểm KL
H11: HĐ cấp Khoa | J11: HĐ cấp Trường (dự kiến)
H12: Điểm | I12: Xếp loại | J12: Điểm | K12: Xếp loại
A13: 1 | B13: 21021396 | C13: Lương Thành An | D13: 04/06/2003 | E13: 90 | F13: 90 | G13: 90 | H13: 90 | I13: =IF(H13>=90,"Xuất sắc",IF(H13>=80,"Tốt", IF(H13>=65,"Khá",IF(H13>=50,"Trung bình", IF(H13>=35, "Yếu", "Kém"))))) -> Xuất sắc | J13: 90 | K13: =IF(J13>=90,"Xuất sắc",IF(J13>=80,"Tốt", IF(J13>=65,"Khá",IF(J13>=50,"Trung bình", IF(J13>=35, "Yếu", "Kém"))))) -> Xuất sắc
A14: 2 | B14: 21021397 | C14: Dương Kỳ Anh | D14: 22/02/2003 | E14: 80 | F14: 80 | G14: 80 | H14: 80 | I14: =IF(H14>=90,"Xuất sắc",IF(H14>=80,"Tốt", IF(H14>=65,"Khá",IF(H14>=50,"Trung bình", IF(H14>=35, "Yếu", "Kém"))))) -> Tốt | J14: 80 | K14: =IF(J14>=90,"Xuất sắc",IF(J14>=80,"Tốt", IF(J14>=65,"Khá",IF(J14>=50,"Trung bình", IF(J14>=35, "Yếu", "Kém"))))) -> Tốt
A15: 3 | B15: 21021398 | C15: Đinh Quốc Anh | D15: 06/11/2003 | E15: 90 | F15: 90 | G15: 90 | H15: 90 | I15: =IF(H15>=90,"Xuất sắc",IF(H15>=80,"Tốt", IF(H15>=65,"Khá",IF(H15>=50,"Trung bình", IF(H15>=35, "Yếu", "Kém"))))) -> Xuất sắc | J15: 90 | K15: =IF(J15>=90,"Xuất sắc",IF(J15>=80,"Tốt", IF(J15>=65,"Khá",IF(J15>=50,"Trung bình", IF(J15>=35, "Yếu", "Kém"))))) -> Xuất sắc
A16: 4 | B16: 21020598 | C16: Phạm Việt Anh | D16: 10/10/2003 | E16: 90 | F16: 90 | G16: 90 | H16: 90 | I16: =IF(H16>=90,"Xuất sắc",IF(H16>=80,"Tốt", IF(H16>=65,"Khá",IF(H16>=50,"Trung bình", IF(H16>=35, "Yếu", "Kém"))))) -> Xuất sắc | J16: 90 | K16: =IF(J16>=90,"Xuất sắc",IF(J16>=80,"Tốt", IF(J16>=65,"Khá",IF(J16>=50,"Trung bình", IF(J16>=35, "Yếu", "Kém"))))) -> Xuất sắc
A17: 5 | B17: 21021400 | C17: Trần Văn Cao | D17: 25/07/2002 | E17: 90 | F17: 90 | G17: 90 | H17: 90 | I17: =IF(H17>=90,"Xuất sắc",IF(H17>=80,"Tốt", IF(H17>=65,"Khá",IF(H17>=50,"Trung bình", IF(H17>=35, "Yếu", "Kém"))))) -> Xuất sắc | J17: 90 | K17: =IF(J17>=90,"Xuất sắc",IF(J17>=80,"Tốt", IF(J17>=65,"Khá",IF(J17>=50,"Trung bình", IF(J17>=35, "Yếu", "Kém"))))) -> Xuất sắc
A18: 6 | B18: 21021401 | C18: Phùng Tuấn Cường | D18: 10/06/2003 | E18: 80 | F18: 80 | G18: 80 | H18: 80 | I18: =IF(H18>=90,"Xuất sắc",IF(H18>=80,"Tốt", IF(H18>=65,"Khá",IF(H18>=50,"Trung bình", IF(H18>=35, "Yếu", "Kém"))))) -> Tốt | J18: 80 | K18: =IF(J18>=90,"Xuất sắc",IF(J18>=80,"Tốt", IF(J18>=65,"Khá",IF(J18>=50,"Trung bình", IF(J18>=35, "Yếu", "Kém"))))) -> Tốt
A19: 7 | B19: 21021403 | C19: Lương Trí Dũng | D19: 04/10/2003 | E19: 92 | F19: 92 | G19: 92 | H19: 92 | I19: =IF(H19>=90,"Xuất sắc",IF(H19>=80,"Tốt", IF(H19>=65,"Khá",IF(H19>=50,"Trung bình", IF(H19>=35, "Yếu", "Kém"))))) -> Xuất sắc | J19: 92 | K19: =IF(J19>=90,"Xuất sắc",IF(J19>=80,"Tốt", IF(J19>=65,"Khá",IF(J19>=50,"Trung bình", IF(J19>=35, "Yếu", "Kém"))))) -> Xuất sắc
A20: 8 | B20: 21020724 | C20: Nguyễn Trung Dũng | D20: 02/08/2003 | E20: 92 | F20: 92 | G20: 92 | H20: 92 | I20: =IF(H20>=90,"Xuất sắc",IF(H20>=80,"Tốt", IF(H20>=65,"Khá",IF(H20>=50,"Trung bình", IF(H20>=35, "Yếu", "Kém"))))) -> Xuất sắc | J20: 92 | K20: =IF(J20>=90,"Xuất sắc",IF(J20>=80,"Tốt", IF(J20>=65,"Khá",IF(J20>=50,"Trung bình", IF(J20>=35, "Yếu", "Kém"))))) -> Xuất sắc
A21: 9 | B21: 21021404 | C21: Lâm Thanh Duy | D21: 28/01/2003 | E21: 70 | F21: 90 | G21: 90 | H21: 90 | I21: =IF(H21>=90,"Xuất sắc",IF(H21>=80,"Tốt", IF(H21>=65,"Khá",IF(H21>=50,"Trung bình", IF(H21>=35, "Yếu", "Kém"))))) -> Xuất sắc | J21: 90 | K21: =IF(J21>=90,"Xuất sắc",IF(J21>=80,"Tốt", IF(J21>=65,"Khá",IF(J21>=50,"Trung bình", IF(J21>=35, "Yếu", "Kém"))))) -> Xuất sắc
A22: 10 | B22: 21021405 | C22: Nguyễn Sỹ Duy | D22: 03/02/2003 | E22: 85 | F22: 90 | G22: 90 | H22: 90 | I22: =IF(H22>=90,"Xuất sắc",IF(H22>=80,"Tốt", IF(H22>=65,"Khá",IF(H22>=50,"Trung bình", IF(H22>=35, "Yếu", "Kém"))))) -> Xuất sắc | J22: 90 | K22: =IF(J22>=90,"Xuất sắc",IF(J22>=80,"Tốt", IF(J22>=65,"Khá",IF(J22>=50,"Trung bình", IF(J22>=35, "Yếu", "Kém"))))) -> Xuất sắc
A23: 11 | B23: 21021406 | C23: Nguyễn Phúc Dương | D23: 28/04/2003 | E23: 65 | F23: 0 | G23: 0 | H23: 0 | I23: =IF(H23>=90,"Xuất sắc",IF(H23>=80,"Tốt", IF(H23>=65,"Khá",IF(H23>=50,"Trung bình", IF(H23>=35, "Yếu", "Kém"))))) -> Kém | J23: 65 | K23: =IF(J23>=90,"Xuất sắc",IF(J23>=80,"Tốt", IF(J23>=65,"Khá",IF(J23>=50,"Trung bình", IF(J23>=35, "Yếu", "Kém"))))) -> Khá
A24: 12 | B24: 21021407 | C24: Phạm Thái Dương | D24: 18/01/2003 | E24: 90 | F24: 87 | G24: 87 | H24: 87 | I24: =IF(H24>=90,"Xuất sắc",IF(H24>=80,"Tốt", IF(H24>=65,"Khá",IF(H24>=50,"Trung bình", IF(H24>=35, "Yếu", "Kém"))))) -> Tốt | J24: 87 | K24: =IF(J24>=90,"Xuất sắc",IF(J24>=80,"Tốt", IF(J24>=65,"Khá",IF(J24>=50,"Trung bình", IF(J24>=35, "Yếu", "Kém"))))) -> Tốt
... A57: 45 | B57: 21021451 | C57: Phạm Thành Việt | D57: 10/12/2003 | E57: 70 | F57: 77 | G57: 77 | H57: 77 | I57: =IF(H57>=90,"Xuất sắc",IF(H57>=80,"Tốt", IF(H57>=65,"Khá",IF(H57>=50,"Trung bình", IF(H57>=35, "Yếu", "Kém"))))) -> Khá | J57: 77 | K57: =IF(J57>=90,"Xuất sắc",IF(J57>=80,"Tốt", IF(J57>=65,"Khá",IF(J57>=50,"Trung bình", IF(J57>=35, "Yếu", "Kém"))))) -> Khá
A59: Danh sách có: 45 sinh viên

Sheet Thống kê
A1: ĐẠI HỌC QUỐC GIA HÀ NỘI | I1: CỘNG HÒA XÃ HỘI CHỦ NGHĨA VIỆT NAM
A2: TRƯỜNG ĐẠI HỌC CÔNG NGHỆ | I2: Độc lập - Tự do - Hạnh phúc
B4: BẢNG TỔNG HỢP KẾT QUẢ RÈN LUYỆN CỦA SINH VIÊN VIỆN CÔNG NGHỆ HÀNG KHÔNG VŨ TRỤ
A6: STT | B6: Lớp | C6: Sĩ số | D6: Kết quả xếp loại
D7: Xuất sắc | F7: Tốt | H7: Khá | J7: Trung bình | L7: Yếu | N7: Kém
D8: Số lượng | E8: % | F8: Số lượng | G8: % | H8: Số lượng | I8: % | J8: Số lượng | K8: % | L8: Số lượng | M8: % | N8: Số lượng | O8: %
A9: 1 | B9: QH-2021-I/CQ-S-AE | C9: =K66SAE!A57 -> 45 | D9: =COUNTIF(K66SAE!$K$13:$K$57,"Xuất sắc") -> 31 | E9: =D9/C9 -> 0.68888889 | F9: =COUNTIF(K66SAE!K$13:K$57,"Tốt") -> 4 | G9: =F9/C9 -> 0.088888889 | H9: =COUNTIF(K66SAE!K$13:K$57,"Khá") -> 9 | I9: =H9/C9 -> 0.2 | J9: =COUNTIF(K66SAE!K$13:K$57,"Trung bình") -> 0 | K9: =J9/C9 -> 0 | L9: =COUNTIF(K66SAE!K$13:K$57,"Yếu") -> 0 | M9: =L9/C9 -> 0 | N9: =COUNTIF(K66SAE!$K$13:$K$57,"kém") -> 1 | O9: =N9/C9 -> 0.022222222 | P9: =SUM(N9,L9,J9,H9,F9,D9) -> 45 | Q9: =SUM(E9,G9,I9,K9,M9,O9) -> 1
A10: Tổng Viện CNHKVT | C10: =SUM(C9:C9) -> 45 | D10: =SUM(D9:D9) -> 31 | E10: =D10/C10 -> 0.68888889 | F10: =SUM(F9:F9) -> 4 | G10: =F10/C10 -> 0.088888889 | H10: =SUM(H9:H9) -> 9 | I10: =H10/C10 -> 0.2 | J10: =SUM(J9:J9) -> 0 | K10: =J10/C10 -> 0 | L10: =SUM(L9:L9) -> 0 | M10: =L10/C10 -> 0 | N10: =SUM(N9:N9) -> 1 | O10: =N10/C10 -> 0.022222222 | P10: =SUM(P9:P9) -> 45 | Q10: =SUM(E10,G10,I10,K10,M10,O10) -> 1
