Workbook

Sheet K66ECE
A1: ĐẠI HỌC QUỐC GIA HÀ NỘI | G1: CỘNG HÒA XÃ HỘI CHỦ NGHĨA VIỆT NAM
A2: TRƯỜNG ĐẠI HỌC CÔNG NGHỆ | G2: Độc lập - Tự do - Hạnh phúc
A5: BẢNG TỔNG HỢP KẾT QUẢ RÈN LUYỆN CỦA SINH VIÊN
A6: LỚP QH-2021-I/CQ-E-CE, HỌC KỲ 2, NĂM HỌC 2024-2025
A7: KHOA ĐIỆN TỬ VIỄN THÔNG
A10: STT | B10: MASV | C10: Họ và tên | D10: Ngày sinh | E10: Điểm tự ĐG | F10: Điểm BCS | G10: Điểm GVCN | H10: Điểm KL | J10: Điểm KL
H11: HĐ cấp Khoa | J11: HĐ cấp Trường (dự kiến)
H12: Điểm | I12: Xếp loại | J12: Điểm | K12: Xếp loại
A13: 1 | B13: 21020426 | C13: Nguyễn Duy Anh | D13: 37773 | E13: =VLOOKUP(B13,[1]Sheet1!B$4:L$8446,4,0) -> 75 | F13: =VLOOKUP(B13,[1]Sheet1!B$4:F$8446,5,0) -> 85 | G13: =VLOOKUP(B13,[1]Sheet1!B$4:J$8446,6,0) -> 85 | H13: =VLOOKUP(B13,[1]Sheet1!B$4:H$8446,7,0) -> 85 | I13: =IF(H13>=90,"Xuất sắc",IF(H13>=80,"Tốt", IF(H13>=65,"Khá",IF(H13>=50,"Trung bình", IF(H13>=35, "Yếu", "Kém"))))) -> Tốt | J13: =VLOOKUP(B13,[1]Sheet1!B$4:K$8446,9,0) -> 85 | K13: =IF(J13>=90,"Xuất sắc",IF(J13>=80,"Tốt", IF(J13>=65,"Khá",IF(J13>=50,"Trung bình", IF(J13>=35, "Yếu", "Kém"))))) -> Tốt
A14: 2 | B14: 21020558 | C14: Nguyễn Đức Anh | D14: 37873 | E14: =VLOOKUP(B14,[1]Sheet1!B$4:L$8446,4,0) -> 70 | F14: =VLOOKUP(B14,[1]Sheet1!B$4:F$8446,5,0) -> 80 | G14: =VLOOKUP(B14,[1]Sheet1!B$4:J$8446,6,0) -> 80 | H14: =VLOOKUP(B14,[1]Sheet1!B$4:H$8446,7,0) -> 80 | I14: =IF(H14>=90,"Xuất sắc",IF(H14>=80,"Tốt", IF(H14>=65,"Khá",IF(H14>=50,"Trung bình", IF(H14>=35, "Yếu", "Kém"))))) -> Tốt | J14: =VLOOKUP(B14,[1]Sheet1!B$4:K$8446,9,0) -> 80 | K14: =IF(J14>=90,"Xuất sắc",IF(J14>=80,"Tốt", IF(J14>=65,"Khá",IF(J14>=50,"Trung bình", IF(J14>=35, "Yếu", "Kém"))))) -> Tốt
A15: 3 | B15: 21020099 | C15: Phạm Tuấn Anh | D15: 37944 | E15: =VLOOKUP(B15,[1]Sheet1!B$4:L$8446,4,0) -> 80 | F15: =VLOOKUP(B15,[1]Sheet1!B$4:F$8446,5,0) -> 80 | G15: =VLOOKUP(B15,[1]Sheet1!B$4:J$8446,6,0) -> 80 | H15: =VLOOKUP(B15,[1]Sheet1!B$4:H$8446,7,0) -> 80 | I15: =IF(H15>=90,"Xuất sắc",IF(H15>=80,"Tốt", IF(H15>=65,"Khá",IF(H15>=50,"Trung bình", IF(H15>=35, "Yếu", "Kém"))))) -> Tốt | J15: =VLOOKUP(B15,[1]Sheet1!B$4:K$8446,9,0) -> 80 | K15: =IF(J15>=90,"Xuất sắc",IF(J15>=80,"Tốt", IF(J15>=65,"Khá",IF(J15>=50,"Trung bình", IF(J15>=35, "Yếu", "Kém"))))) -> Tốt
A16: 4 | B16: 21020889 | C16: Trần Quốc Ánh | D16: 37866 | E16: =VLOOKUP(B16,[1]Sheet1!B$4:L$8446,4,0) -> 80 | F16: =VLOOKUP(B16,[1]Sheet1!B$4:F$8446,5,0) -> 80 | G16: =VLOOKUP(B16,[1]Sheet1!B$4:J$8446,6,0) -> 80 | H16: =VLOOKUP(B16,[1]Sheet1!B$4:H$8446,7,0) -> 80 | I16: =IF(H16>=90,"Xuất sắc",IF(H16>=80,"Tốt", IF(H16>=65,"Khá",IF(H16>=50,"Trung bình", IF(H16>=35, "Yếu", "Kém"))))) -> Tốt | J16: =VLOOKUP(B16,[1]Sheet1!B$4:K$8446,9,0) -> 80 | K16: =IF(J16>=90,"Xuất sắc",IF(J16>=80,"Tốt", IF(J16>=65,"Khá",IF(J16>=50,"Trung bình", IF(J16>=35, "Yếu", "Kém"))))) -> Tốt
A17: 5 | B17: 21020890 | C17: Trịnh Minh Chiến | D17: 37835 | E17: =VLOOKUP(B17,[1]Sheet1!B$4:L$8446,4,0) -> 80 | F17: =VLOOKUP(B17,[1]Sheet1!B$4:F$8446,5,0) -> 80 | G17: =VLOOKUP(B17,[1]Sheet1!B$4:J$8446,6,0) -> 80 | H17: =VLOOKUP(B17,[1]Sheet1!B$4:H$8446,7,0) -> 80 | I17: =IF(H17>=90,"Xuất sắc",IF(H17>=80,"Tốt", IF(H17>=65,"Khá",IF(H17>=50,"Trung bình", IF(H17>=35, "Yếu", "Kém"))))) -> Tốt | J17: =VLOOKUP(B17,[1]Sheet1!B$4:K$8446,9,0) -> 80 | K17: =IF(J17>=90,"Xuất sắc",IF(J17>=80,"Tốt", IF(J17>=65,"Khá",IF(J17>=50,"Trung bình", IF(J17>=35, "Yếu", "Kém"))))) -> Tốt
A18: 6 | B18: 21020134 | C18: Lê Xuân Dân | D18: 37699 | E18: =VLOOKUP(B18,[1]Sheet1!B$4:L$8446,4,0) -> 90 | F18: =VLOOKUP(B18,[1]Sheet1!B$4:F$8446,5,0) -> 90 | G18: =VLOOKUP(B18,[1]Sheet1!B$4:J$8446,6,0) -> 90 | H18: =VLOOKUP(B18,[1]Sheet1!B$4:H$8446,7,0) -> 90 | I18: =IF(H18>=90,"Xuất sắc",IF(H18>=80,"Tốt", IF(H18>=65,"Khá",IF(H18>=50,"Trung bình", IF(H18>=35, "Yếu", "Kém"))))) -> Xuất sắc | J18: =VLOOKUP(B18,[1]Sheet1!B$4:K$8446,9,0) -> 90 | K18: =IF(J18>=90,"Xuất sắc",IF(J18>=80,"Tốt", IF(J18>=65,"Khá",IF(J18>=50,"Trung bình", IF(J18>=35, "Yếu", "Kém"))))) -> Xuất sắc
A19: 7 | B19: 21020895 | C19: Vũ Ngọc Duy | D19: 37784 | E19: =VLOOKUP(B19,[1]Sheet1!B$4:L$8446,4,0) -> 90 | F19: =VLOOKUP(B19,[1]Sheet1!B$4:F$8446,5,0) -> 90 | G19: =VLOOKUP(B19,[1]Sheet1!B$4:J$8446,6,0) -> 90 | H19: =VLOOKUP(B19,[1]Sheet1!B$4:H$8446,7,0) -> 90 | I19: =IF(H19>=90,"Xuất sắc",IF(H19>=80,"Tốt", IF(H19>=65,"Khá",IF(H19>=50,"Trung bình", IF(H19>=35, "Yếu", "Kém"))))) -> Xuất sắc | J19: =VLOOKUP(B19,[1]Sheet1!B$4:K$8446,9,0) -> 90 | K19: =IF(J19>=90,"Xuất sắc",IF(J19>=80,"Tốt", IF(J19>=65,"Khá",IF(J19>=50,"Trung bình", IF(J19>=35, "Yếu", "Kém"))))) -> Xuất sắc
A20: 8 | B20: 21020432 | C20: Trương Vũ Hoàng Dương | D20: 37881 | E20: =VLOOKUP(B20,[1]Sheet1!B$4:L$8446,4,0) -> 80 | F20: =VLOOKUP(B20,[1]Sheet1!B$4:F$8446,5,0) -> 90 | G20: =VLOOKUP(B20,[1]Sheet1!B$4:J$8446,6,0) -> 90 | H20: =VLOOKUP(B20,[1]Sheet1!B$4:H$8446,7,0) -> 90 | I20: =IF(H20>=90,"Xuất sắc",IF(H20>=80,"Tốt", IF(H20>=65,"Khá",IF(H20>=50,"Trung bình", IF(H20>=35, "Yếu", "Kém"))))) -> Xuất sắc | J20: =VLOOKUP(B20,[1]Sheet1!B$4:K$8446,9,0) -> 90 | K20: =IF(J20>=90,"Xuất sắc",IF(J20>=80,"Tốt", IF(J20>=65,"Khá",IF(J20>=50,"Trung bình", IF(J20>=35, "Yếu", "Kém"))))) -> Xuất sắc
A21: 9 | B21: 21020897 | C21: Nguyễn Quang Đạo | D21: 37945 | E21: =VLOOKUP(B21,[1]Sheet1!B$4:L$8446,4,0) -> 70 | F21: =VLOOKUP(B21,[1]Sheet1!B$4:F$8446,5,0) -> 70 | G21: =VLOOKUP(B21,[1]Sheet1!B$4:J$8446,6,0) -> 70 | H21: =VLOOKUP(B21,[1]Sheet1!B$4:H$8446,7,0) -> 70 | I21: =IF(H21>=90,"Xuất sắc",IF(H21>=80,"Tốt", IF(H21>=65,"Khá",IF(H21>=50,"Trung bình", IF(H21>=35, "Yếu", "Kém"))))) -> Khá | J21: =VLOOKUP(B21,[1]Sheet1!B$4:K$8446,9,0) -> 70 | K21: =IF(J21>=90,"Xuất sắc",IF(J21>=80,"Tốt", IF(J21>=65,"Khá",IF(J21>=50,"Trung bình", IF(J21>=35, "Yếu", "Kém"))))) -> Khá
A22: 10 | B22: 21020900 | C22: Bùi Anh Đức | D22: 37893 | E22: =VLOOKUP(B22,[1]Sheet1!B$4:L$8446,4,0) -> 70 | F22: =VLOOKUP(B22,[1]Sheet1!B$4:F$8446,5,0) -> 75 | G22: =VLOOKUP(B22,[1]Sheet1!B$4:J$8446,6,0) -> 75 | H22: =VLOOKUP(B22,[1]Sheet1!B$4:H$8446,7,0) -> 75 | I22: =IF(H22>=90,"Xuất sắc",IF(H22>=80,"Tốt", IF(H22>=65,"Khá",IF(H22>=50,"Trung bình", IF(H22>=35, "Yếu", "Kém"))))) -> Khá | J22: =VLOOKUP(B22,[1]Sheet1!B$4:K$8446,9,0) -> 75 | K22: =IF(J22>=90,"Xuất sắc",IF(J22>=80,"Tốt", IF(J22>=65,"Khá",IF(J22>=50,"Trung bình", IF(J22>=35, "Yếu", "Kém"))))) -> Khá
A23: 11 | B23: 21020901 | C23: Mai Anh Đức | D23: 37849 | E23: =VLOOKUP(B23,[1]Sheet1!B$4:L$8446,4,0) -> 80 | F23: =VLOOKUP(B23,[1]Sheet1!B$4:F$8446,5,0) -> 80 | G23: =VLOOKUP(B23,[1]Sheet1!B$4:J$8446,6,0) -> 80 | H23: =VLOOKUP(B23,[1]Sheet1!B$4:H$8446,7,0) -> 80 | I23: =IF(H23>=90,"Xuất sắc",IF(H23>=80,"Tốt", IF(H23>=65,"Khá",IF(H23>=50,"Trung bình", IF(H23>=35, "Yếu", "Kém"))))) -> Tốt | J23: =VLOOKUP(B23,[1]Sheet1!B$4:K$8446,9,0) -> 80 | K23: =IF(J23>=90,"Xuất sắc",IF(J23>=80,"Tốt", IF(J23>=65,"Khá",IF(J23>=50,"Trung bình", IF(J23>=35, "Yếu", "Kém"))))) -> Tốt
A24: 12 | B24: 21020902 | C24: Nguyễn Anh Đức | D24: 37774 | E24: =VLOOKUP(B24,[1]Sheet1!B$4:L$8446,4,0) -> 70 | F24: =VLOOKUP(B24,[1]Sheet1!B$4:F$8446,5,0) -> 75 | G24: =VLOOKUP(B24,[1]Sheet1!B$4:J$8446,6,0) -> 75 | H24: =VLOOKUP(B24,[1]Sheet1!B$4:H$8446,7,0) -> 75 | I24: =IF(H24>=90,"Xuất sắc",IF(H24>=80,"Tốt", IF(H24>=65,"Khá",IF(H24>=50,"Trung bình", IF(H24>=35, "Yếu", "Kém"))))) -> Khá | J24: =VLOOKUP(B24,[1]Sheet1!B$4:K$8446,9,0) -> 75 | K24: =IF(J24>=90,"Xuất sắc",IF(J24>=80,"Tốt", IF(J24>=65,"Khá",IF(J24>=50,"Trung bình", IF(J24>=35, "Yếu", "Kém"))))) -> Khá
... A71: 59 | B71: 21020459 | C71: Nguyễn Thế Việt | D71: 37880 | E71: =VLOOKUP(B71,[1]Sheet1!B$4:L$8446,4,0) -> 68 | F71: =VLOOKUP(B71,[1]Sheet1!B$4:F$8446,5,0) -> 73 | G71: =VLOOKUP(B71,[1]Sheet1!B$4:J$8446,6,0) -> 73 | H71: =VLOOKUP(B71,[1]Sheet1!B$4:H$8446,7,0) -> 78 | I71: =IF(H71>=90,"Xuất sắc",IF(H71>=80,"Tốt", IF(H71>=65,"Khá",IF(H71>=50,"Trung bình", IF(H71>=35, "Yếu", "Kém"))))) -> Khá | J71: =VLOOKUP(B71,[1]Sheet1!B$4:K$8446,9,0) -> 78 | K71: =IF(J71>=90,"Xuất sắc",IF(J71>=80,"Tốt", IF(J71>=65,"Khá",IF(J71>=50,"Trung bình", IF(J71>=35, "Yếu", "Kém"))))) -> Khá
A73: Ấn định danh sách có 59 sinh viên./.

Sheet K66ERE
A1: ĐẠI HỌC QUỐC GIA HÀ NỘI | G1: CỘNG HÒA XÃ HỘI CHỦ NGHĨA VIỆT NAM
A2: TRƯỜNG ĐẠI HỌC CÔNG NGHỆ | G2: Độc lập - Tự do - Hạnh phúc
A5: BẢNG TỔNG HỢP KẾT QUẢ RÈN LUYỆN CỦA SINH VIÊN
A6: LỚP QH-2021-I/CQ-E-RE, HỌC KỲ 2, NĂM HỌC 2024-2025
A7: KHOA ĐIỆN TỬ VIỄN THÔNG
A10: STT | B10: MASV | C10: Họ và tên | D10: Ngày sinh | E10: Điểm tự ĐG | F10: Điểm BCS | G10: Điểm GVCN | H10: Điểm KL | J10: Điểm KL
H11: HĐ cấp Khoa | J11: HĐ cấp Trường (dự kiến)
H12: Điểm | I12: Xếp loại | J12: Điểm | K12: Xếp loại
A13: 1 | B13: 21020557 | C13: Nguyễn Quy Thành An | D13: 37905 | E13: =VLOOKUP(B13,[1]Sheet1!B$4:L$8446,4,0) -> 80 | F13: =VLOOKUP(B13,[1]Sheet1!B$4:F$8446,5,0) -> 80 | G13: =VLOOKUP(B13,[1]Sheet1!B$4:J$8446,6,0) -> 80 | H13: =VLOOKUP(B13,[1]Sheet1!B$4:H$8446,7,0) -> 80 | I13: =IF(H13>=90,"Xuất sắc",IF(H13>=80,"Tốt", IF(H13>=65,"Khá",IF(H13>=50,"Trung bình", IF(H13>=35, "Yếu", "Kém"))))) -> Tốt | J13: =VLOOKUP(B13,[1]Sheet1!B$4:K$8446,9,0) -> 80 | K13: =IF(J13>=90,"Xuất sắc",IF(J13>=80,"Tốt", IF(J13>=65,"Khá",IF(J13>=50,"Trung bình", IF(J13>=35, "Yếu", "Kém"))))) -> Tốt
A14: 2 | B14: 21020428 | C14: Nguyễn Trung Phúc Anh | D14: 37656 | E14: =VLOOKUP(B14,[1]Sheet1!B$4:L$8446,4,0) -> 90 | F14: =VLOOKUP(B14,[1]Sheet1!B$4:F$8446,5,0) -> 90 | G14: =VLOOKUP(B14,[1]Sheet1!B$4:J$8446,6,0) -> 90 | H14: =VLOOKUP(B14,[1]Sheet1!B$4:H$8446,7,0) -> 90 | I14: =IF(H14>=90,"Xuất sắc",IF(H14>=80,"Tốt", IF(H14>=65,"Khá",IF(H14>=50,"Trung bình", IF(H14>=35, "Yếu", "Kém"))))) -> Xuất sắc | J14: =VLOOKUP(B14,[1]Sheet1!B$4:K$8446,9,0) -> 90 | K14: =IF(J14>=90,"Xuất sắc",IF(J14>=80,"Tốt", IF(J14>=65,"Khá",IF(J14>=50,"Trung bình", IF(J14>=35, "Yếu", "Kém"))))) -> Xuất sắc
A15: 3 | B15: 21020559 | C15: Nguyễn Gia Bảo | D15: 37928 | E15: =VLOOKUP(B15,[1]Sheet1!B$4:L$8446,4,0) -> 90 | F15: =VLOOKUP(B15,[1]Sheet1!B$4:F$8446,5,0) -> 90 | G15: =VLOOKUP(B15,[1]Sheet1!B$4:J$8446,6,0) -> 90 | H15: =VLOOKUP(B15,[1]Sheet1!B$4:H$8446,7,0) -> 90 | I15: =IF(H15>=90,"Xuất sắc",IF(H15>=80,"Tốt", IF(H15>=65,"Khá",IF(H15>=50,"Trung bình", IF(H15>=35, "Yếu", "Kém"))))) -> Xuất sắc | J15: =VLOOKUP(B15,[1]Sheet1!B$4:K$8446,9,0) -> 90 | K15: =IF(J15>=90,"Xuất sắc",IF(J15>=80,"Tốt", IF(J15>=65,"Khá",IF(J15>=50,"Trung bình", IF(J15>=35, "Yếu", "Kém"))))) -> Xuất sắc
A16: 4 | B16: 21020891 | C16: Trần Đàm Mạnh Cường | D16: 37927 | E16: =VLOOKUP(B16,[1]Sheet1!B$4:L$8446,4,0) -> 90 | F16: =VLOOKUP(B16,[1]Sheet1!B$4:F$8446,5,0) -> 90 | G16: =VLOOKUP(B16,[1]Sheet1!B$4:J$8446,6,0) -> 90 | H16: =VLOOKUP(B16,[1]Sheet1!B$4:H$8446,7,0) -> 90 | I16: =IF(H16>=90,"Xuất sắc",IF(H16>=80,"Tốt", IF(H16>=65,"Khá",IF(H16>=50,"Trung bình", IF(H16>=35, "Yếu", "Kém"))))) -> Xuất sắc | J16: =VLOOKUP(B16,[1]Sheet1!B$4:K$8446,9,0) -> 90 | K16: =IF(J16>=90,"Xuất sắc",IF(J16>=80,"Tốt", IF(J16>=65,"Khá",IF(J16>=50,"Trung bình", IF(J16>=35, "Yếu", "Kém"))))) -> Xuất sắc
A17: 5 | B17: 21020430 | C17: Hà Hữu Dũng | D17: 37730 | E17: =VLOOKUP(B17,[1]Sheet1!B$4:L$8446,4,0) -> 70 | F17: 70 | G17: 70 | H17: =VLOOKUP(B17,[1]Sheet1!B$4:H$8446,7,0) -> 70 | I17: =IF(H17>=90,"Xuất sắc",IF(H17>=80,"Tốt", IF(H17>=65,"Khá",IF(H17>=50,"Trung bình", IF(H17>=35, "Yếu", "Kém"))))) -> Khá | J17: 70 | K17: =IF(J17>=90,"Xuất sắc",IF(J17>=80,"Tốt", IF(J17>=65,"Khá",IF(J17>=50,"Trung bình", IF(J17>=35, "Yếu", "Kém"))))) -> Khá
A18: 6 | B18: 21020135 | C18: Thân Ngọc Dũng | D18: 37754 | E18: =VLOOKUP(B18,[1]Sheet1!B$4:L$8446,4,0) -> 90 | F18: =VLOOKUP(B18,[1]Sheet1!B$4:F$8446,5,0) -> 90 | G18: =VLOOKUP(B18,[1]Sheet1!B$4:J$8446,6,0) -> 90 | H18: =VLOOKUP(B18,[1]Sheet1!B$4:H$8446,7,0) -> 90 | I18: =IF(H18>=90,"Xuất sắc",IF(H18>=80,"Tốt", IF(H18>=65,"Khá",IF(H18>=50,"Trung bình", IF(H18>=35, "Yếu", "Kém"))))) -> Xuất sắc | J18: =VLOOKUP(B18,[1]Sheet1!B$4:K$8446,9,0) -> 90 | K18: =IF(J18>=90,"Xuất sắc",IF(J18>=80,"Tốt", IF(J18>=65,"Khá",IF(J18>=50,"Trung bình", IF(J18>=35, "Yếu", "Kém"))))) -> Xuất sắc
A19: 7 | B19: 21020431 | C19: Trần Tiến Dũng | D19: 37676 | E19: =VLOOKUP(B19,[1]Sheet1!B$4:L$8446,4,0) -> 80 | F19: =VLOOKUP(B19,[1]Sheet1!B$4:F$8446,5,0) -> 80 | G19: =VLOOKUP(B19,[1]Sheet1!B$4:J$8446,6,0) -> 80 | H19: =VLOOKUP(B19,[1]Sheet1!B$4:H$8446,7,0) -> 80 | I19: =IF(H19>=90,"Xuất sắc",IF(H19>=80,"Tốt", IF(H19>=65,"Khá",IF(H19>=50,"Trung bình", IF(H19>=35, "Yếu", "Kém"))))) -> Tốt | J19: =VLOOKUP(B19,[1]Sheet1!B$4:K$8446,9,0) -> 80 | K19: =IF(J19>=90,"Xuất sắc",IF(J19>=80,"Tốt", IF(J19>=65,"Khá",IF(J19>=50,"Trung bình", IF(J19>=35, "Yếu", "Kém"))))) -> Tốt
A20: 8 | B20: 21021662 | C20: Đinh Quang Dự | D20: 37476 | E20: =VLOOKUP(B20,[1]Sheet1!B$4:L$8446,4,0) -> 67 | F20: =VLOOKUP(B20,[1]Sheet1!B$4:F$8446,5,0) -> 67 | G20: =VLOOKUP(B20,[1]Sheet1!B$4:J$8446,6,0) -> 67 | H20: =VLOOKUP(B20,[1]Sheet1!B$4:H$8446,7,0) -> 67 | I20: =IF(H20>=90,"Xuất sắc",IF(H20>=80,"Tốt", IF(H20>=65,"Khá",IF(H20>=50,"Trung bình", IF(H20>=35, "Yếu", "Kém"))))) -> Khá | J20: =VLOOKUP(B20,[1]Sheet1!B$4:K$8446,9,0) -> 67 | K20: =IF(J20>=90,"Xuất sắc",IF(J20>=80,"Tốt", IF(J20>=65,"Khá",IF(J20>=50,"Trung bình", IF(J20>=35, "Yếu", "Kém"))))) -> Khá
A21: 9 | B21: 21020138 | C21: Đào Ngọc Đức | D21: 37853 | E21: =VLOOKUP(B21,[1]Sheet1!B$4:L$8446,4,0) -> 90 | F21: =VLOOKUP(B21,[1]Sheet1!B$4:F$8446,5,0) -> 90 | G21: =VLOOKUP(B21,[1]Sheet1!B$4:J$8446,6,0) -> 90 | H21: =VLOOKUP(B21,[1]Sheet1!B$4:H$8446,7,0) -> 90 | I21: =IF(H21>=90,"Xuất sắc",IF(H21>=80,"Tốt", IF(H21>=65,"Khá",IF(H21>=50,"Trung bình", IF(H21>=35, "Yếu", "Kém"))))) -> Xuất sắc | J21: =VLOOKUP(B21,[1]Sheet1!B$4:K$8446,9,0) -> 90 | K21: =IF(J21>=90,"Xuất sắc",IF(J21>=80,"Tốt", IF(J21>=65,"Khá",IF(J21>=50,"Trung bình", IF(J21>=35, "Yếu", "Kém"))))) -> Xuất sắc
A22: 10 | B22: 21020912 | C22: Nguyễn Huy Hoàng | D22: 37696 | E22: =VLOOKUP(B22,[1]Sheet1!B$4:L$8446,4,0) -> 90 | F22: =VLOOKUP(B22,[1]Sheet1!B$4:F$8446,5,0) -> 90 | G22: =VLOOKUP(B22,[1]Sheet1!B$4:J$8446,6,0) -> 90 | H22: =VLOOKUP(B22,[1]Sheet1!B$4:H$8446,7,0) -> 90 | I22: =IF(H22>=90,"Xuất sắc",IF(H22>=80,"Tốt", IF(H22>=65,"Khá",IF(H22>=50,"Trung bình", IF(H22>=35, "Yếu", "Kém"))))) -> Xuất sắc | J22: =VLOOKUP(B22,[1]Sheet1!B$4:K$8446,9,0) -> 90 | K22: =IF(J22>=90,"Xuất sắc",IF(J22>=80,"Tốt", IF(J22>=65,"Khá",IF(J22>=50,"Trung bình", IF(J22>=35, "Yếu", "Kém"))))) -> Xuất sắc
A23: 11 | B23: 21020913 | C23: Nguyễn Đắc Học | D23: 37663 | E23: =VLOOKUP(B23,[1]Sheet1!B$4:L$8446,4,0) -> 82 | F23: =VLOOKUP(B23,[1]Sheet1!B$4:F$8446,5,0) -> 82 | G23: =VLOOKUP(B23,[1]Sheet1!B$4:J$8446,6,0) -> 82 | H23: =VLOOKUP(B23,[1]Sheet1!B$4:H$8446,7,0) -> 82 | I23: =IF(H23>=90,"Xuất sắc",IF(H23>=80,"Tốt", IF(H23>=65,"Khá",IF(H23>=50,"Trung bình", IF(H23>=35, "Yếu", "Kém"))))) -> Tốt | J23: =VLOOKUP(B23,[1]Sheet1!B$4:K$8446,9,0) -> 82 | K23: =IF(J23>=90,"Xuất sắc",IF(J23>=80,"Tốt", IF(J23>=65,"Khá",IF(J23>=50,"Trung bình", IF(J23>=35, "Yếu", "Kém"))))) -> Tốt
A24: 12 | B24: 21020915 | C24: Ngô Quang Huy | D24: 37839 | E24: =VLOOKUP(B24,[1]Sheet1!B$4:L$8446,4,0) -> 67 | F24: =VLOOKUP(B24,[1]Sheet1!B$4:F$8446,5,0) -> 67 | G24: =VLOOKUP(B24,[1]Sheet1!B$4:J$8446,6,0) -> 67 | H24: =VLOOKUP(B24,[1]Sheet1!B$4:H$8446,7,0) -> 67 | I24: =IF(H24>=90,"Xuất sắc",IF(H24>=80,"Tốt", IF(H24>=65,"Khá",IF(H24>=50,"Trung bình", IF(H24>=35, "Yếu", "Kém"))))) -> Khá | J24: =VLOOKUP(B24,[1]Sheet1!B$4:K$8446,9,0) -> 67 | K24: =IF(J24>=90,"Xuất sắc",IF(J24>=80,"Tốt", IF(J24>=65,"Khá",IF(J24>=50,"Trung bình", IF(J24>=35, "Yếu", "Kém"))))) -> Khá
A25: 13 | B25: 21020917 | C25: Dương Bá Hưng | D25: 37699 | E25: =VLOOKUP(B25,[1]Sheet1!B$4:L$8446,4,0) -> 90 | F25: =VLOOKUP(B25,[1]Sheet1!B$4:F$8446,5,0) -> 80 | G25: =VLOOKUP(B25,[1]Sheet1!B$4:J$8446,6,0) -> 80 | H25: =VLOOKUP(B25,[1]Sheet1!B$4:H$8446,7,0) -> 90 | I25: =IF(H25>=90,"Xuất sắc",IF(H25>=80,"Tốt", IF(H25>=65,"Khá",IF(H25>=50,"Trung bình", IF(H25>=35, "Yếu", "Kém"))))) -> Xuất sắc | J25: =VLOOKUP(B25,[1]Sheet1!B$4:K$8446,9,0) -> 80 | K25: =IF(J25>=90,"Xuất sắc",IF(J25>=80,"Tốt", IF(J25>=65,"Khá",IF(J25>=50,"Trung bình", IF(J25>=35, "Yếu", "Kém"))))) -> Tốt
A26: 14 | B26: 21020919 | C26: Khương Gia Khánh | D26: 37963 | E26: =VLOOKUP(B26,[1]Sheet1!B$4:L$8446,4,0) -> 70 | F26: =VLOOKUP(B26,[1]Sheet1!B$4:F$8446,5,0) -> 60 | G26: =VLOOKUP(B26,[1]Sheet1!B$4:J$8446,6,0) -> 60 | H26: =VLOOKUP(B26,[1]Sheet1!B$4:H$8446,7,0) -> 60 | I26: =IF(H26>=90,"Xuất sắc",IF(H26>=80,"Tốt", IF(H26>=65,"Khá",IF(H26>=50,"Trung bình", IF(H26>=35, "Yếu", "Kém"))))) -> Trung bình | J26: =VLOOKUP(B26,[1]Sheet1!B$4:K$8446,9,0) -> 60 | K26: =IF(J26>=90,"Xuất sắc",IF(J26>=80,"Tốt", IF(J26>=65,"Khá",IF(J26>=50,"Trung bình", IF(J26>=35, "Yếu", "Kém"))))) -> Trung bình
A27: 15 | B27: 21020562 | C27: Nguyễn Hồ Khánh | D27: 37902 | E27: =VLOOKUP(B27,[1]Sheet1!B$4:L$8446,4,0) -> 90 | F27: =VLOOKUP(B27,[1]Sheet1!B$4:F$8446,5,0) -> 90 | G27: =VLOOKUP(B27,[1]Sheet1!B$4:J$8446,6,0) -> 90 | H27: =VLOOKUP(B27,[1]Sheet1!B$4:H$8446,7,0) -> 90 | I27: =IF(H27>=90,"Xuất sắc",IF(H27>=80,"Tốt", IF(H27>=65,"Khá",IF(H27>=50,"Trung bình", IF(H27>=35, "Yếu", "Kém"))))) -> Xuất sắc | J27: =VLOOKUP(B27,[1]Sheet1!B$4:K$8446,9,0) -> 90 | K27: =IF(J27>=90,"Xuất sắc",IF(J27>=80,"Tốt", IF(J27>=65,"Khá",IF(J27>=50,"Trung bình", IF(J27>=35, "Yếu", "Kém"))))) -> Xuất sắc
A28: 16 | B28: 21020445 | C28: Phạm Thị Mỹ Lệ | D28: 37824 | E28: =VLOOKUP(B28,[1]Sheet1!B$4:L$8446,4,0) -> 77 | F28: =VLOOKUP(B28,[1]Sheet1!B$4:F$8446,5,0) -> 80 | G28: =VLOOKUP(B28,[1]Sheet1!B$4:J$8446,6,0) -> 80 | H28: =VLOOKUP(B28,[1]Sheet1!B$4:H$8446,7,0) -> 80 | I28: =IF(H28>=90,"Xuất sắc",IF(H28>=80,"Tốt", IF(H28>=65,"Khá",IF(H28>=50,"Trung bình", IF(H28>=35, "Yếu", "Kém"))))) -> Tốt | J28: =VLOOKUP(B28,[1]Sheet1!B$4:K$8446,9,0) -> 80 | K28: =IF(J28>=90,"Xuất sắc",IF(J28>=80,"Tốt", IF(J28>=65,"Khá",IF(J28>=50,"Trung bình", IF(J28>=35, "Yếu", "Kém"))))) -> Tốt
A29: 17 | B29: 21020446 | C29: Nguyễn Khánh Linh | D29: 37757 | E29: =VLOOKUP(B29,[1]Sheet1!B$4:L$8446,4,0) -> 80 | F29: =VLOOKUP(B29,[1]Sheet1!B$4:F$8446,5,0) -> 80 | G29: =VLOOKUP(B29,[1]Sheet1!B$4:J$8446,6,0) -> 80 | H29: =VLOOKUP(B29,[1]Sheet1!B$4:H$8446,7,0) -> 80 | I29: =IF(H29>=90,"Xuất sắc",IF(H29>=80,"Tốt", IF(H29>=65,"Khá",IF(H29>=50,"Trung bình", IF(H29>=35, "Yếu", "Kém"))))) -> Tốt | J29: =VLOOKUP(B29,[1]Sheet1!B$4:K$8446,9,0) -> 80 | K29: =IF(J29>=90,"Xuất sắc",IF(J29>=80,"Tốt", IF(J29>=65,"Khá",IF(J29>=50,"Trung bình", IF(J29>=35, "Yếu", "Kém"))))) -> Tốt
... A37: 25 | B37: 21020567 | C37: Đào Sơn Tùng | D37: 37679 | E37: =VLOOKUP(B37,[1]Sheet1!B$4:L$8446,4,0) -> 75 | F37: =VLOOKUP(B37,[1]Sheet1!B$4:F$8446,5,0) -> 75 | G37: =VLOOKUP(B37,[1]Sheet1!B$4:J$8446,6,0) -> 75 | H37: =VLOOKUP(B37,[1]Sheet1!B$4:H$8446,7,0) -> 75 | I37: =IF(H37>=90,"Xuất sắc",IF(H37>=80,"Tốt", IF(H37>=65,"Khá",IF(H37>=50,"Trung bình", IF(H37>=35, "Yếu", "Kém"))))) -> Khá | J37: =VLOOKUP(B37,[1]Sheet1!B$4:K$8446,9,0) -> 75 | K37: =IF(J37>=90,"Xuất sắc",IF(J37>=80,"Tốt", IF(J37>=65,"Khá",IF(J37>=50,"Trung bình", IF(J37>=35, "Yếu", "Kém"))))) -> Khá
A39: Ấn định danh sách có 25 sinh viên./.

Sheet K67ECE1
A1: ĐẠI HỌC QUỐC GIA HÀ NỘI | G1: CỘNG HÒA XÃ HỘI CHỦ NGHĨA VIỆT NAM
A2: TRƯỜNG ĐẠI HỌC CÔNG NGHỆ | G2: Độc lập - Tự do - Hạnh phúc
A5: BẢNG TỔNG HỢP KẾT QUẢ RÈN LUYỆN CỦA SINH VIÊN
A6: LỚP QH-2022-I/CQ-E-CE1, HỌC KỲ 2, NĂM HỌC 2024-2025
A7: KHOA ĐIỆN TỬ VIỄN THÔNG
A10: STT | B10: MASV | C10: Họ và tên | D10: Ngày sinh | E10: Điểm tự ĐG | F10: Điểm BCS | G10: Điểm GVCN | H10: Điểm KL | J10: Điểm KL
H11: HĐ cấp Khoa | J11: HĐ cấp Trường (dự kiến)
H12: Điểm | I12: Xếp loại | J12: Điểm | K12: Xếp loại
A13: 1 | B13: 22022138 | C13: Nguyễn Quốc An | D13: 38286 | E13: =VLOOKUP(B13,[1]Sheet1!B$4:L$8446,4,0) -> 80 | F13: =VLOOKUP(B13,[1]Sheet1!B$4:F$8446,5,0) -> 80 | G13: =VLOOKUP(B13,[1]Sheet1!B$4:J$8446,6,0) -> 80 | H13: =VLOOKUP(B13,[1]Sheet1!B$4:H$8446,7,0) -> 80 | I13: =IF(H13>=90,"Xuất sắc",IF(H13>=80,"Tốt", IF(H13>=65,"Khá",IF(H13>=50,"Trung bình", IF(H13>=35, "Yếu", "Kém"))))) -> Tốt | J13: =VLOOKUP(B13,[1]Sheet1!B$4:K$8446,9,0) -> 80 | K13: =IF(J13>=90,"Xuất sắc",IF(J13>=80,"Tốt", IF(J13>=65,"Khá",IF(J13>=50,"Trung bình", IF(J13>=35, "Yếu", "Kém"))))) -> Tốt
A14: 2 | B14: 22022171 | C14: Nguyễn Đức Anh | D14: 38064 | E14: =VLOOKUP(B14,[1]Sheet1!B$4:L$8446,4,0) -> 90 | F14: =VLOOKUP(B14,[1]Sheet1!B$4:F$8446,5,0) -> 90 | G14: =VLOOKUP(B14,[1]Sheet1!B$4:J$8446,6,0) -> 90 | H14: =VLOOKUP(B14,[1]Sheet1!B$4:H$8446,7,0) -> 90 | I14: =IF(H14>=90,"Xuất sắc",IF(H14>=80,"Tốt", IF(H14>=65,"Khá",IF(H14>=50,"Trung bình", IF(H14>=35, "Yếu", "Kém"))))) -> Xuất sắc | J14: =VLOOKUP(B14,[1]Sheet1!B$4:K$8446,9,0) -> 90 | K14: =IF(J14>=90,"Xuất sắc",IF(J14>=80,"Tốt", IF(J14>=65,"Khá",IF(J14>=50,"Trung bình", IF(J14>=35, "Yếu", "Kém"))))) -> Xuất sắc
A15: 3 | B15: 22022168 | C15: Nguyễn Tuấn Anh | D15: 38009 | E15: =VLOOKUP(B15,[1]Sheet1!B$4:L$8446,4,0) -> 92 | F15: =VLOOKUP(B15,[1]Sheet1!B$4:F$8446,5,0) -> 92 | G15: =VLOOKUP(B15,[1]Sheet1!B$4:J$8446,6,0) -> 92 | H15: =VLOOKUP(B15,[1]Sheet1!B$4:H$8446,7,0) -> 92 | I15: =IF(H15>=90,"Xuất sắc",IF(H15>=80,"Tốt", IF(H15>=65,"Khá",IF(H15>=50,"Trung bình", IF(H15>=35, "Yếu", "Kém"))))) -> Xuất sắc | J15: =VLOOKUP(B15,[1]Sheet1!B$4:K$8446,9,0) -> 92 | K15: =IF(J15>=90,"Xuất sắc",IF(J15>=80,"Tốt", IF(J15>=65,"Khá",IF(J15>=50,"Trung bình", IF(J15>=35, "Yếu", "Kém"))))) -> Xuất sắc
A16: 4 | B16: 22022189 | C16: Trần Đức Anh | D16: 38164 | E16: =VLOOKUP(B16,[1]Sheet1!B$4:L$8446,4,0) -> 90 | F16: =VLOOKUP(B16,[1]Sheet1!B$4:F$8446,5,0) -> 91 | G16: =VLOOKUP(B16,[1]Sheet1!B$4:J$8446,6,0) -> 91 | H16: =VLOOKUP(B16,[1]Sheet1!B$4:H$8446,7,0) -> 91 | I16: =IF(H16>=90,"Xuất sắc",IF(H16>=80,"Tốt", IF(H16>=65,"Khá",IF(H16>=50,"Trung bình", IF(H16>=35, "Yếu", "Kém"))))) -> Xuất sắc | J16: =VLOOKUP(B16,[1]Sheet1!B$4:K$8446,9,0) -> 91 | K16: =IF(J16>=90,"Xuất sắc",IF(J16>=80,"Tốt", IF(J16>=65,"Khá",IF(J16>=50,"Trung bình", IF(J16>=35, "Yếu", "Kém"))))) -> Xuất sắc
A17: 5 | B17: 22022162 | C17: Nguyễn Văn Bình | D17: 38308 | E17: =VLOOKUP(B17,[1]Sheet1!B$4:L$8446,4,0) -> 90 | F17: =VLOOKUP(B17,[1]Sheet1!B$4:F$8446,5,0) -> 90 | G17: =VLOOKUP(B17,[1]Sheet1!B$4:J$8446,6,0) -> 90 | H17: =VLOOKUP(B17,[1]Sheet1!B$4:H$8446,7,0) -> 90 | I17: =IF(H17>=90,"Xuất sắc",IF(H17>=80,"Tốt", IF(H17>=65,"Khá",IF(H17>=50,"Trung bình", IF(H17>=35, "Yếu", "Kém"))))) -> Xuất sắc | J17: =VLOOKUP(B17,[1]Sheet1!B$4:K$8446,9,0) -> 90 | K17: =IF(J17>=90,"Xuất sắc",IF(J17>=80,"Tốt", IF(J17>=65,"Khá",IF(J17>=50,"Trung bình", IF(J17>=35, "Yếu", "Kém"))))) -> Xuất sắc
A18: 6 | B18: 22022200 | C18: Võ Văn Cường | D18: 38024 | E18: =VLOOKUP(B18,[1]Sheet1!B$4:L$8446,4,0) -> 80 | F18: =VLOOKUP(B18,[1]Sheet1!B$4:F$8446,5,0) -> 81 | G18: =VLOOKUP(B18,[1]Sheet1!B$4:J$8446,6,0) -> 81 | H18: =VLOOKUP(B18,[1]Sheet1!B$4:H$8446,7,0) -> 81 | I18: =IF(H18>=90,"Xuất sắc",IF(H18>=80,"Tốt", IF(H18>=65,"Khá",IF(H18>=50,"Trung bình", IF(H18>=35, "Yếu", "Kém"))))) -> Tốt | J18: =VLOOKUP(B18,[1]Sheet1!B$4:K$8446,9,0) -> 81 | K18: =IF(J18>=90,"Xuất sắc",IF(J18>=80,"Tốt", IF(J18>=65,"Khá",IF(J18>=50,"Trung bình", IF(J18>=35, "Yếu", "Kém"))))) -> Tốt
A19: 7 | B19: 22022201 | C19: Phan Đình Danh | D19: 37641 | E19: =VLOOKUP(B19,[1]Sheet1!B$4:L$8446,4,0) -> 80 | F19: =VLOOKUP(B19,[1]Sheet1!B$4:F$8446,5,0) -> 80 | G19: =VLOOKUP(B19,[1]Sheet1!B$4:J$8446,6,0) -> 80 | H19: =VLOOKUP(B19,[1]Sheet1!B$4:H$8446,7,0) -> 80 | I19: =IF(H19>=90,"Xuất sắc",IF(H19>=80,"Tốt", IF(H19>=65,"Khá",IF(H19>=50,"Trung bình", IF(H19>=35, "Yếu", "Kém"))))) -> Tốt | J19: =VLOOKUP(B19,[1]Sheet1!B$4:K$8446,9,0) -> 80 | K19: =IF(J19>=90,"Xuất sắc",IF(J19>=80,"Tốt", IF(J19>=65,"Khá",IF(J19>=50,"Trung bình", IF(J19>=35, "Yếu", "Kém"))))) -> Tốt
A20: 8 | B20: 22022206 | C20: Hoàng Anh Dũng | D20: 38082 | E20: =VLOOKUP(B20,[1]Sheet1!B$4:L$8446,4,0) -> 80 | F20: =VLOOKUP(B20,[1]Sheet1!B$4:F$8446,5,0) -> 80 | G20: =VLOOKUP(B20,[1]Sheet1!B$4:J$8446,6,0) -> 80 | H20: =VLOOKUP(B20,[1]Sheet1!B$4:H$8446,7,0) -> 80 | I20: =IF(H20>=90,"Xuất sắc",IF(H20>=80,"Tốt", IF(H20>=65,"Khá",IF(H20>=50,"Trung bình", IF(H20>=35, "Yếu", "Kém"))))) -> Tốt | J20: =VLOOKUP(B20,[1]Sheet1!B$4:K$8446,9,0) -> 80 | K20: =IF(J20>=90,"Xuất sắc",IF(J20>=80,"Tốt", IF(J20>=65,"Khá",IF(J20>=50,"Trung bình", IF(J20>=35, "Yếu", "Kém"))))) -> Tốt
A21: 9 | B21: 22022105 | C21: Nguyễn Mạnh Dũng | D21: 38269 | E21: =VLOOKUP(B21,[1]Sheet1!B$4:L$8446,4,0) -> 100 | F21: =VLOOKUP(B21,[1]Sheet1!B$4:F$8446,5,0) -> 100 | G21: =VLOOKUP(B21,[1]Sheet1!B$4:J$8446,6,0) -> 100 | H21: =VLOOKUP(B21,[1]Sheet1!B$4:H$8446,7,0) -> 100 | I21: =IF(H21>=90,"Xuất sắc",IF(H21>=80,"Tốt", IF(H21>=65,"Khá",IF(H21>=50,"Trung bình", IF(H21>=35, "Yếu", "Kém"))))) -> Xuất sắc | J21: =VLOOKUP(B21,[1]Sheet1!B$4:K$8446,9,0) -> 100 | K21: =IF(J21>=90,"Xuất sắc",IF(J21>=80,"Tốt", IF(J21>=65,"Khá",IF(J21>=50,"Trung bình", IF(J21>=35, "Yếu", "Kém"))))) -> Xuất sắc
A22: 10 | B22: 22022121 | C22: Đỗ An Duy | D22: 38336 | E22: =VLOOKUP(B22,[1]Sheet1!B$4:L$8446,4,0) -> 80 | F22: =VLOOKUP(B22,[1]Sheet1!B$4:F$8446,5,0) -> 80 | G22: =VLOOKUP(B22,[1]Sheet1!B$4:J$8446,6,0) -> 80 | H22: =VLOOKUP(B22,[1]Sheet1!B$4:H$8446,7,0) -> 80 | I22: =IF(H22>=90,"Xuất sắc",IF(H22>=80,"Tốt", IF(H22>=65,"Khá",IF(H22>=50,"Trung bình", IF(H22>=35, "Yếu", "Kém"))))) -> Tốt | J22: =VLOOKUP(B22,[1]Sheet1!B$4:K$8446,9,0) -> 80 | K22: =IF(J22>=90,"Xuất sắc",IF(J22>=80,"Tốt", IF(J22>=65,"Khá",IF(J22>=50,"Trung bình", IF(J22>=35, "Yếu", "Kém"))))) -> Tốt
A23: 11 | B23: 22022186 | C23: Vũ Quang Duy | D23: 38006 | E23: =VLOOKUP(B23,[1]Sheet1!B$4:L$8446,4,0) -> 80 | F23: =VLOOKUP(B23,[1]Sheet1!B$4:F$8446,5,0) -> 81 | G23: =VLOOKUP(B23,[1]Sheet1!B$4:J$8446,6,0) -> 81 | H23: =VLOOKUP(B23,[1]Sheet1!B$4:H$8446,7,0) -> 81 | I23: =IF(H23>=90,"Xuất sắc",IF(H23>=80,"Tốt", IF(H23>=65,"Khá",IF(H23>=50,"Trung bình", IF(H23>=35, "Yếu", "Kém"))))) -> Tốt | J23: =VLOOKUP(B23,[1]Sheet1!B$4:K$8446,9,0) -> 81 | K23: =IF(J23>=90,"Xuất sắc",IF(J23>=80,"Tốt", IF(J23>=65,"Khá",IF(J23>=50,"Trung bình", IF(J23>=35, "Yếu", "Kém"))))) -> Tốt
A24: 12 | B24: 22022122 | C24: Đoàn Hải Dương | D24: 38125 | E24: =VLOOKUP(B24,[1]Sheet1!B$4:L$8446,4,0) -> 90 | F24: =VLOOKUP(B24,[1]Sheet1!B$4:F$8446,5,0) -> 90 | G24: =VLOOKUP(B24,[1]Sheet1!B$4:J$8446,6,0) -> 90 | H24: =VLOOKUP(B24,[1]Sheet1!B$4:H$8446,7,0) -> 90 | I24: =IF(H24>=90,"Xuất sắc",IF(H24>=80,"Tốt", IF(H24>=65,"Khá",IF(H24>=50,"Trung bình", IF(H24>=35, "Yếu", "Kém"))))) -> Xuất sắc | J24: =VLOOKUP(B24,[1]Sheet1!B$4:K$8446,9,0) -> 90 | K24: =IF(J24>=90,"Xuất sắc",IF(J24>=80,"Tốt", IF(J24>=65,"Khá",IF(J24>=50,"Trung bình", IF(J24>=35, "Yếu", "Kém"))))) -> Xuất sắc
... A69: 57 | B69: 22022102 | C69: Vũ Đình Vương | D69: 38314 | E69: =VLOOKUP(B69,[1]Sheet1!B$4:L$8446,4,0) -> 80 | F69: =VLOOKUP(B69,[1]Sheet1!B$4:F$8446,5,0) -> 80 | G69: =VLOOKUP(B69,[1]Sheet1!B$4:J$8446,6,0) -> 80 | H69: =VLOOKUP(B69,[1]Sheet1!B$4:H$8446,7,0) -> 80 | I69: =IF(H69>=90,"Xuất sắc",IF(H69>=80,"Tốt", IF(H69>=65,"Khá",IF(H69>=50,"Trung bình", IF(H69>=35, "Yếu", "Kém"))))) -> Tốt | J69: =VLOOKUP(B69,[1]Sheet1!B$4:K$8446,9,0) -> 80 | K69: =IF(J69>=90,"Xuất sắc",IF(J69>=80,"Tốt", IF(J69>=65,"Khá",IF(J69>=50,"Trung bình", IF(J69>=35, "Yếu", "Kém"))))) -> Tốt
A71: Ấn định danh sách có 57 sinh viên./.

Sheet K67ECE2
A1: ĐẠI HỌC QUỐC GIA HÀ NỘI | G1: CỘNG HÒA XÃ HỘI CHỦ NGHĨA VIỆT NAM
A2: TRƯỜNG ĐẠI HỌC CÔNG NGHỆ | G2: Độc lập - Tự do - Hạnh phúc
A5: BẢNG TỔNG HỢP KẾT QUẢ RÈN LUYỆN CỦA SINH VIÊN
A6: LỚP QH-2022-I/CQ-E-CE2, HỌC KỲ 2, NĂM HỌC 2024-2025
A7: KHOA ĐIỆN TỬ VIỄN THÔNG
A10: STT | B10: MASV | C10: Họ và tên | D10: Ngày sinh | E10: Điểm tự ĐG | F10: Điểm BCS | G10: Điểm GVCN | H10: Điểm KL | J10: Điểm KL
H11: HĐ cấp Khoa | J11: HĐ cấp Trường (dự kiến)
H12: Điểm | I12: Xếp loại | J12: Điểm | K12: Xếp loại
A13: 1 | B13: 22022163 | C13: Đỗ Nhất Anh | D13: 38103 | E13: =VLOOKUP(B13,[1]Sheet1!B$4:L$8446,4,0) -> 90 | F13: =VLOOKUP(B13,[1]Sheet1!B$4:F$8446,5,0) -> 90 | G13: =VLOOKUP(B13,[1]Sheet1!B$4:J$8446,6,0) -> 90 | H13: =VLOOKUP(B13,[1]Sheet1!B$4:H$8446,7,0) -> 90 | I13: =IF(H13>=90,"Xuất sắc",IF(H13>=80,"Tốt", IF(H13>=65,"Khá",IF(H13>=50,"Trung bình", IF(H13>=35, "Yếu", "Kém"))))) -> Xuất sắc | J13: =VLOOKUP(B13,[1]Sheet1!B$4:K$8446,9,0) -> 90 | K13: =IF(J13>=90,"Xuất sắc",IF(J13>=80,"Tốt", IF(J13>=65,"Khá",IF(J13>=50,"Trung bình", IF(J13>=35, "Yếu", "Kém"))))) -> Xuất sắc
A14: 2 | B14: 22022196 | C14: Nguyễn Hữu Trọng Anh | D14: 38103 | E14: =VLOOKUP(B14,[1]Sheet1!B$4:L$8446,4,0) -> 80 | F14: =VLOOKUP(B14,[1]Sheet1!B$4:F$8446,5,0) -> 80 | G14: =VLOOKUP(B14,[1]Sheet1!B$4:J$8446,6,0) -> 80 | H14: =VLOOKUP(B14,[1]Sheet1!B$4:H$8446,7,0) -> 80 | I14: =IF(H14>=90,"Xuất sắc",IF(H14>=80,"Tốt", IF(H14>=65,"Khá",IF(H14>=50,"Trung bình", IF(H14>=35, "Yếu", "Kém"))))) -> Tốt | J14: =VLOOKUP(B14,[1]Sheet1!B$4:K$8446,9,0) -> 80 | K14: =IF(J14>=90,"Xuất sắc",IF(J14>=80,"Tốt", IF(J14>=65,"Khá",IF(J14>=50,"Trung bình", IF(J14>=35, "Yếu", "Kém"))))) -> Tốt
A15: 3 | B15: 22022190 | C15: Trần Đức Việt Anh | D15: 38263 | E15: =VLOOKUP(B15,[1]Sheet1!B$4:L$8446,4,0) -> 80 | F15: =VLOOKUP(B15,[1]Sheet1!B$4:F$8446,5,0) -> 80 | G15: =VLOOKUP(B15,[1]Sheet1!B$4:J$8446,6,0) -> 80 | H15: =VLOOKUP(B15,[1]Sheet1!B$4:H$8446,7,0) -> 80 | I15: =IF(H15>=90,"Xuất sắc",IF(H15>=80,"Tốt", IF(H15>=65,"Khá",IF(H15>=50,"Trung bình", IF(H15>=35, "Yếu", "Kém"))))) -> Tốt | J15: =VLOOKUP(B15,[1]Sheet1!B$4:K$8446,9,0) -> 80 | K15: =IF(J15>=90,"Xuất sắc",IF(J15>=80,"Tốt", IF(J15>=65,"Khá",IF(J15>=50,"Trung bình", IF(J15>=35, "Yếu", "Kém"))))) -> Tốt
A16: 4 | B16: 22022185 | C16: Vũ Minh Chiến | D16: 38117 | E16: =VLOOKUP(B16,[1]Sheet1!B$4:L$8446,4,0) -> 80 | F16: =VLOOKUP(B16,[1]Sheet1!B$4:F$8446,5,0) -> 80 | G16: =VLOOKUP(B16,[1]Sheet1!B$4:J$8446,6,0) -> 80 | H16: =VLOOKUP(B16,[1]Sheet1!B$4:H$8446,7,0) -> 80 | I16: =IF(H16>=90,"Xuất sắc",IF(H16>=80,"Tốt", IF(H16>=65,"Khá",IF(H16>=50,"Trung bình", IF(H16>=35, "Yếu", "Kém"))))) -> Tốt | J16: =VLOOKUP(B16,[1]Sheet1!B$4:K$8446,9,0) -> 80 | K16: =IF(J16>=90,"Xuất sắc",IF(J16>=80,"Tốt", IF(J16>=65,"Khá",IF(J16>=50,"Trung bình", IF(J16>=35, "Yếu", "Kém"))))) -> Tốt
A17: 5 | B17: 22022183 | C17: Nguyễn Quốc Cường | D17: 37989 | E17: =VLOOKUP(B17,[1]Sheet1!B$4:L$8446,4,0) -> 90 | F17: =VLOOKUP(B17,[1]Sheet1!B$4:F$8446,5,0) -> 90 | G17: =VLOOKUP(B17,[1]Sheet1!B$4:J$8446,6,0) -> 90 | H17: =VLOOKUP(B17,[1]Sheet1!B$4:H$8446,7,0) -> 90 | I17: =IF(H17>=90,"Xuất sắc",IF(H17>=80,"Tốt", IF(H17>=65,"Khá",IF(H17>=50,"Trung bình", IF(H17>=35, "Yếu", "Kém"))))) -> Xuất sắc | J17: =VLOOKUP(B17,[1]Sheet1!B$4:K$8446,9,0) -> 90 | K17: =IF(J17>=90,"Xuất sắc",IF(J17>=80,"Tốt", IF(J17>=65,"Khá",IF(J17>=50,"Trung bình", IF(J17>=35, "Yếu", "Kém"))))) -> Xuất sắc
A18: 6 | B18: 22022158 | C18: Nguyễn Văn Diện | D18: 38110 | E18: =VLOOKUP(B18,[1]Sheet1!B$4:L$8446,4,0) -> 80 | F18: =VLOOKUP(B18,[1]Sheet1!B$4:F$8446,5,0) -> 80 | G18: =VLOOKUP(B18,[1]Sheet1!B$4:J$8446,6,0) -> 80 | H18: =VLOOKUP(B18,[1]Sheet1!B$4:H$8446,7,0) -> 80 | I18: =IF(H18>=90,"Xuất sắc",IF(H18>=80,"Tốt", IF(H18>=65,"Khá",IF(H18>=50,"Trung bình", IF(H18>=35, "Yếu", "Kém"))))) -> Tốt | J18: =VLOOKUP(B18,[1]Sheet1!B$4:K$8446,9,0) -> 80 | K18: =IF(J18>=90,"Xuất sắc",IF(J18>=80,"Tốt", IF(J18>=65,"Khá",IF(J18>=50,"Trung bình", IF(J18>=35, "Yếu", "Kém"))))) -> Tốt
A19: 7 | B19: 22022149 | C19: Nguyễn Đức Dũng | D19: 38204 | E19: =VLOOKUP(B19,[1]Sheet1!B$4:L$8446,4,0) -> 80 | F19: =VLOOKUP(B19,[1]Sheet1!B$4:F$8446,5,0) -> 80 | G19: =VLOOKUP(B19,[1]Sheet1!B$4:J$8446,6,0) -> 80 | H19: =VLOOKUP(B19,[1]Sheet1!B$4:H$8446,7,0) -> 80 | I19: =IF(H19>=90,"Xuất sắc",IF(H19>=80,"Tốt", IF(H19>=65,"Khá",IF(H19>=50,"Trung bình", IF(H19>=35, "Yếu", "Kém"))))) -> Tốt | J19: =VLOOKUP(B19,[1]Sheet1!B$4:K$8446,9,0) -> 80 | K19: =IF(J19>=90,"Xuất sắc",IF(J19>=80,"Tốt", IF(J19>=65,"Khá",IF(J19>=50,"Trung bình", IF(J19>=35, "Yếu", "Kém"))))) -> Tốt
A20: 8 | B20: 22022113 | C20: Nguyễn Tiến Dũng | D20: 38263 | E20: =VLOOKUP(B20,[1]Sheet1!B$4:L$8446,4,0) -> 90 | F20: =VLOOKUP(B20,[1]Sheet1!B$4:F$8446,5,0) -> 90 | G20: =VLOOKUP(B20,[1]Sheet1!B$4:J$8446,6,0) -> 90 | H20: =VLOOKUP(B20,[1]Sheet1!B$4:H$8446,7,0) -> 90 | I20: =IF(H20>=90,"Xuất sắc",IF(H20>=80,"Tốt", IF(H20>=65,"Khá",IF(H20>=50,"Trung bình", IF(H20>=35, "Yếu", "Kém"))))) -> Xuất sắc | J20: =VLOOKUP(B20,[1]Sheet1!B$4:K$8446,9,0) -> 90 | K20: =IF(J20>=90,"Xuất sắc",IF(J20>=80,"Tốt", IF(J20>=65,"Khá",IF(J20>=50,"Trung bình", IF(J20>=35, "Yếu", "Kém"))))) -> Xuất sắc
A21: 9 | B21: 22022148 | C21: Nguyễn Quang Duy | D21: 38093 | E21: =VLOOKUP(B21,[1]Sheet1!B$4:L$8446,4,0) -> 90 | F21: =VLOOKUP(B21,[1]Sheet1!B$4:F$8446,5,0) -> 90 | G21: =VLOOKUP(B21,[1]Sheet1!B$4:J$8446,6,0) -> 90 | H21: =VLOOKUP(B21,[1]Sheet1!B$4:H$8446,7,0) -> 90 | I21: =IF(H21>=90,"Xuất sắc",IF(H21>=80,"Tốt", IF(H21>=65,"Khá",IF(H21>=50,"Trung bình", IF(H21>=35, "Yếu", "Kém"))))) -> Xuất sắc | J21: =VLOOKUP(B21,[1]Sheet1!B$4:K$8446,9,0) -> 90 | K21: =IF(J21>=90,"Xuất sắc",IF(J21>=80,"Tốt", IF(J21>=65,"Khá",IF(J21>=50,"Trung bình", IF(J21>=35, "Yếu", "Kém"))))) -> Xuất sắc
A22: 10 | B22: 22022118 | C22: Phạm Văn Duy | D22: 38125 | E22: =VLOOKUP(B22,[1]Sheet1!B$4:L$8446,4,0) -> 90 | F22: =VLOOKUP(B22,[1]Sheet1!B$4:F$8446,5,0) -> 90 | G22: =VLOOKUP(B22,[1]Sheet1!B$4:J$8446,6,0) -> 90 | H22: =VLOOKUP(B22,[1]Sheet1!B$4:H$8446,7,0) -> 90 | I22: =IF(H22>=90,"Xuất sắc",IF(H22>=80,"Tốt", IF(H22>=65,"Khá",IF(H22>=50,"Trung bình", IF(H22>=35, "Yếu", "Kém"))))) -> Xuất sắc | J22: =VLOOKUP(B22,[1]Sheet1!B$4:K$8446,9,0) -> 90 | K22: =IF(J22>=90,"Xuất sắc",IF(J22>=80,"Tốt", IF(J22>=65,"Khá",IF(J22>=50,"Trung bình", IF(J22>=35, "Yếu", "Kém"))))) -> Xuất sắc
A23: 11 | B23: 22022157 | C23: Đặng Minh Dương | D23: 38257 | E23: =VLOOKUP(B23,[1]Sheet1!B$4:L$8446,4,0) -> 80 | F23: =VLOOKUP(B23,[1]Sheet1!B$4:F$8446,5,0) -> 90 | G23: =VLOOKUP(B23,[1]Sheet1!B$4:J$8446,6,0) -> 90 | H23: =VLOOKUP(B23,[1]Sheet1!B$4:H$8446,7,0) -> 90 | I23: =IF(H23>=90,"Xuất sắc",IF(H23>=80,"Tốt", IF(H23>=65,"Khá",IF(H23>=50,"Trung bình", IF(H23>=35, "Yếu", "Kém"))))) -> Xuất sắc | J23: =VLOOKUP(B23,[1]Sheet1!B$4:K$8446,9,0) -> 90 | K23: =IF(J23>=90,"Xuất sắc",IF(J23>=80,"Tốt", IF(J23>=65,"Khá",IF(J23>=50,"Trung bình", IF(J23>=35, "Yếu", "Kém"))))) -> Xuất sắc
A24: 12 | B24: 22022104 | C24: Nghiêm Đình Dương | D24: 38231 | E24: =VLOOKUP(B24,[1]Sheet1!B$4:L$8446,4,0) -> 80 | F24: =VLOOKUP(B24,[1]Sheet1!B$4:F$8446,5,0) -> 80 | G24: =VLOOKUP(B24,[1]Sheet1!B$4:J$8446,6,0) -> 80 | H24: =VLOOKUP(B24,[1]Sheet1!B$4:H$8446,7,0) -> 80 | I24: =IF(H24>=90,"Xuất sắc",IF(H24>=80,"Tốt", IF(H24>=65,"Khá",IF(H24>=50,"Trung bình", IF(H24>=35, "Yếu", "Kém"))))) -> Tốt | J24: =VLOOKUP(B24,[1]Sheet1!B$4:K$8446,9,0) -> 80 | K24: =IF(J24>=90,"Xuất sắc",IF(J24>=80,"Tốt", IF(J24>=65,"Khá",IF(J24>=50,"Trung bình", IF(J24>=35, "Yếu", "Kém"))))) -> Tốt
... A70: 58 | B70: 22022156 | C70: Dương Minh Vương | D70: 38111 | E70: =VLOOKUP(B70,[1]Sheet1!B$4:L$8446,4,0) -> 80 | F70: =VLOOKUP(B70,[1]Sheet1!B$4:F$8446,5,0) -> 80 | G70: =VLOOKUP(B70,[1]Sheet1!B$4:J$8446,6,0) -> 80 | H70: =VLOOKUP(B70,[1]Sheet1!B$4:H$8446,7,0) -> 80 | I70: =IF(H70>=90,"Xuất sắc",IF(H70>=80,"Tốt", IF(H70>=65,"Khá",IF(H70>=50,"Trung bình", IF(H70>=35, "Yếu", "Kém"))))) -> Tốt | J70: =VLOOKUP(B70,[1]Sheet1!B$4:K$8446,9,0) -> 80 | K70: =IF(J70>=90,"Xuất sắc",IF(J70>=80,"Tốt", IF(J70>=65,"Khá",IF(J70>=50,"Trung bình", IF(J70>=35, "Yếu", "Kém"))))) -> Tốt
A72: Ấn định danh sách có 58 sinh viên./.

Sheet K67EEC
A1: ĐẠI HỌC QUỐC GIA HÀ NỘI | G1: CỘNG HÒA XÃ HỘI CHỦ NGHĨA VIỆT NAM
A2: TRƯỜNG ĐẠI HỌC CÔNG NGHỆ | G2: Độc lập - Tự do - Hạnh phúc
A5: BẢNG TỔNG HỢP KẾT QUẢ RÈN LUYỆN CỦA SINH VIÊN
A6: LỚP QH-2022-I/CQ-E-EC, HỌC KỲ 2, NĂM HỌC 2024-2025
A7: KHOA ĐIỆN TỬ VIỄN THÔNG
A10: STT | B10: MASV | C10: Họ và tên | D10: Ngày sinh | E10: Điểm tự ĐG | F10: Điểm BCS | G10: Điểm GVCN | H10: Điểm KL | J10: Điểm KL
H11: HĐ cấp Khoa | J11: HĐ cấp Trường (dự kiến)
H12: Điểm | I12: Xếp loại | J12: Điểm | K12: Xếp loại
A13: 1 | B13: 22029039 | C13: Nguyễn Đình An | D13: 38328 | E13: =VLOOKUP(B13,[1]Sheet1!B$4:L$8446,4,0) -> 80 | F13: =VLOOKUP(B13,[1]Sheet1!B$4:F$8446,5,0) -> 75 | G13: =VLOOKUP(B13,[1]Sheet1!B$4:J$8446,6,0) -> 65 | H13: =VLOOKUP(B13,[1]Sheet1!B$4:H$8446,7,0) -> 65 | I13: =IF(H13>=90,"Xuất sắc",IF(H13>=80,"Tốt", IF(H13>=65,"Khá",IF(H13>=50,"Trung bình", IF(H13>=35, "Yếu", "Kém"))))) -> Khá | J13: =VLOOKUP(B13,[1]Sheet1!B$4:K$8446,9,0) -> 65 | K13: =IF(J13>=90,"Xuất sắc",IF(J13>=80,"Tốt", IF(J13>=65,"Khá",IF(J13>=50,"Trung bình", IF(J13>=35, "Yếu", "Kém"))))) -> Khá
A14: 2 | B14: 22029029 | C14: Nguyễn Quang An | D14: 38251 | E14: =VLOOKUP(B14,[1]Sheet1!B$4:L$8446,4,0) -> 80 | F14: =VLOOKUP(B14,[1]Sheet1!B$4:F$8446,5,0) -> 80 | G14: =VLOOKUP(B14,[1]Sheet1!B$4:J$8446,6,0) -> 80 | H14: =VLOOKUP(B14,[1]Sheet1!B$4:H$8446,7,0) -> 80 | I14: =IF(H14>=90,"Xuất sắc",IF(H14>=80,"Tốt", IF(H14>=65,"Khá",IF(H14>=50,"Trung bình", IF(H14>=35, "Yếu", "Kém"))))) -> Tốt | J14: =VLOOKUP(B14,[1]Sheet1!B$4:K$8446,9,0) -> 80 | K14: =IF(J14>=90,"Xuất sắc",IF(J14>=80,"Tốt", IF(J14>=65,"Khá",IF(J14>=50,"Trung bình", IF(J14>=35, "Yếu", "Kém"))))) -> Tốt
A15: 3 | B15: 22029042 | C15: Bùi Duy Anh | D15: 38039 | E15: =VLOOKUP(B15,[1]Sheet1!B$4:L$8446,4,0) -> 80 | F15: =VLOOKUP(B15,[1]Sheet1!B$4:F$8446,5,0) -> 80 | G15: =VLOOKUP(B15,[1]Sheet1!B$4:J$8446,6,0) -> 80 | H15: =VLOOKUP(B15,[1]Sheet1!B$4:H$8446,7,0) -> 80 | I15: =IF(H15>=90,"Xuất sắc",IF(H15>=80,"Tốt", IF(H15>=65,"Khá",IF(H15>=50,"Trung bình", IF(H15>=35, "Yếu", "Kém"))))) -> Tốt | J15: =VLOOKUP(B15,[1]Sheet1!B$4:K$8446,9,0) -> 80 | K15: =IF(J15>=90,"Xuất sắc",IF(J15>=80,"Tốt", IF(J15>=65,"Khá",IF(J15>=50,"Trung bình", IF(J15>=35, "Yếu", "Kém"))))) -> Tốt
A16: 4 | B16: 22029084 | C16: Nguyễn Nhật Anh | D16: 38167 | E16: =VLOOKUP(B16,[1]Sheet1!B$4:L$8446,4,0) -> 70 | F16: =VLOOKUP(B16,[1]Sheet1!B$4:F$8446,5,0) -> 65 | G16: =VLOOKUP(B16,[1]Sheet1!B$4:J$8446,6,0) -> 65 | H16: =VLOOKUP(B16,[1]Sheet1!B$4:H$8446,7,0) -> 65 | I16: =IF(H16>=90,"Xuất sắc",IF(H16>=80,"Tốt", IF(H16>=65,"Khá",IF(H16>=50,"Trung bình", IF(H16>=35, "Yếu", "Kém"))))) -> Khá | J16: =VLOOKUP(B16,[1]Sheet1!B$4:K$8446,9,0) -> 65 | K16: =IF(J16>=90,"Xuất sắc",IF(J16>=80,"Tốt", IF(J16>=65,"Khá",IF(J16>=50,"Trung bình", IF(J16>=35, "Yếu", "Kém"))))) -> Khá
A17: 5 | B17: 22029060 | C17: Nguyễn Phan Anh | D17: 38330 | E17: =VLOOKUP(B17,[1]Sheet1!B$4:L$8446,4,0) -> 72 | F17: =VLOOKUP(B17,[1]Sheet1!B$4:F$8446,5,0) -> 72 | G17: =VLOOKUP(B17,[1]Sheet1!B$4:J$8446,6,0) -> 72 | H17: =VLOOKUP(B17,[1]Sheet1!B$4:H$8446,7,0) -> 72 | I17: =IF(H17>=90,"Xuất sắc",IF(H17>=80,"Tốt", IF(H17>=65,"Khá",IF(H17>=50,"Trung bình", IF(H17>=35, "Yếu", "Kém"))))) -> Khá | J17: =VLOOKUP(B17,[1]Sheet1!B$4:K$8446,9,0) -> 72 | K17: =IF(J17>=90,"Xuất sắc",IF(J17>=80,"Tốt", IF(J17>=65,"Khá",IF(J17>=50,"Trung bình", IF(J17>=35, "Yếu", "Kém"))))) -> Khá
A18: 6 | B18: 22029053 | C18: Nguyễn Tuấn Anh | D18: 38309 | E18: =VLOOKUP(B18,[1]Sheet1!B$4:L$8446,4,0) -> 80 | F18: =VLOOKUP(B18,[1]Sheet1!B$4:F$8446,5,0) -> 75 | G18: =VLOOKUP(B18,[1]Sheet1!B$4:J$8446,6,0) -> 75 | H18: =VLOOKUP(B18,[1]Sheet1!B$4:H$8446,7,0) -> 80 | I18: =IF(H18>=90,"Xuất sắc",IF(H18>=80,"Tốt", IF(H18>=65,"Khá",IF(H18>=50,"Trung bình", IF(H18>=35, "Yếu", "Kém"))))) -> Tốt | J18: =VLOOKUP(B18,[1]Sheet1!B$4:K$8446,9,0) -> 80 | K18: =IF(J18>=90,"Xuất sắc",IF(J18>=80,"Tốt", IF(J18>=65,"Khá",IF(J18>=50,"Trung bình", IF(J18>=35, "Yếu", "Kém"))))) -> Tốt
A19: 7 | B19: 22029057 | C19: Nguyễn Việt Anh | D19: 38349 | E19: =VLOOKUP(B19,[1]Sheet1!B$4:L$8446,4,0) -> 90 | F19: =VLOOKUP(B19,[1]Sheet1!B$4:F$8446,5,0) -> 90 | G19: =VLOOKUP(B19,[1]Sheet1!B$4:J$8446,6,0) -> 90 | H19: =VLOOKUP(B19,[1]Sheet1!B$4:H$8446,7,0) -> 90 | I19: =IF(H19>=90,"Xuất sắc",IF(H19>=80,"Tốt", IF(H19>=65,"Khá",IF(H19>=50,"Trung bình", IF(H19>=35, "Yếu", "Kém"))))) -> Xuất sắc | J19: =VLOOKUP(B19,[1]Sheet1!B$4:K$8446,9,0) -> 90 | K19: =IF(J19>=90,"Xuất sắc",IF(J19>=80,"Tốt", IF(J19>=65,"Khá",IF(J19>=50,"Trung bình", IF(J19>=35, "Yếu", "Kém"))))) -> Xuất sắc
A20: 8 | B20: 22029078 | C20: Phạm Huy Bằng | D20: 38007 | E20: =VLOOKUP(B20,[1]Sheet1!B$4:L$8446,4,0) -> 82 | F20: =VLOOKUP(B20,[1]Sheet1!B$4:F$8446,5,0) -> 77 | G20: =VLOOKUP(B20,[1]Sheet1!B$4:J$8446,6,0) -> 77 | H20: =VLOOKUP(B20,[1]Sheet1!B$4:H$8446,7,0) -> 77 | I20: =IF(H20>=90,"Xuất sắc",IF(H20>=80,"Tốt", IF(H20>=65,"Khá",IF(H20>=50,"Trung bình", IF(H20>=35, "Yếu", "Kém"))))) -> Khá | J20: =VLOOKUP(B20,[1]Sheet1!B$4:K$8446,9,0) -> 77 | K20: =IF(J20>=90,"Xuất sắc",IF(J20>=80,"Tốt", IF(J20>=65,"Khá",IF(J20>=50,"Trung bình", IF(J20>=35, "Yếu", "Kém"))))) -> Khá
A21: 9 | B21: 22029047 | C21: Nguyễn Thị Mai Chi | D21: 38312 | E21: =VLOOKUP(B21,[1]Sheet1!B$4:L$8446,4,0) -> 82 | F21: =VLOOKUP(B21,[1]Sheet1!B$4:F$8446,5,0) -> 77 | G21: =VLOOKUP(B21,[1]Sheet1!B$4:J$8446,6,0) -> 77 | H21: =VLOOKUP(B21,[1]Sheet1!B$4:H$8446,7,0) -> 77 | I21: =IF(H21>=90,"Xuất sắc",IF(H21>=80,"Tốt", IF(H21>=65,"Khá",IF(H21>=50,"Trung bình", IF(H21>=35, "Yếu", "Kém"))))) -> Khá | J21: =VLOOKUP(B21,[1]Sheet1!B$4:K$8446,9,0) -> 77 | K21: =IF(J21>=90,"Xuất sắc",IF(J21>=80,"Tốt", IF(J21>=65,"Khá",IF(J21>=50,"Trung bình", IF(J21>=35, "Yếu", "Kém"))))) -> Khá
A22: 10 | B22: 22029105 | C22: Nguyễn Văn Chiến | D22: 38025 | E22: =VLOOKUP(B22,[1]Sheet1!B$4:L$8446,4,0) -> 77 | F22: =VLOOKUP(B22,[1]Sheet1!B$4:F$8446,5,0) -> 72 | G22: =VLOOKUP(B22,[1]Sheet1!B$4:J$8446,6,0) -> 72 | H22: =VLOOKUP(B22,[1]Sheet1!B$4:H$8446,7,0) -> 72 | I22: =IF(H22>=90,"Xuất sắc",IF(H22>=80,"Tốt", IF(H22>=65,"Khá",IF(H22>=50,"Trung bình", IF(H22>=35, "Yếu", "Kém"))))) -> Khá | J22: =VLOOKUP(B22,[1]Sheet1!B$4:K$8446,9,0) -> 72 | K22: =IF(J22>=90,"Xuất sắc",IF(J22>=80,"Tốt", IF(J22>=65,"Khá",IF(J22>=50,"Trung bình", IF(J22>=35, "Yếu", "Kém"))))) -> Khá
A23: 11 | B23: 22029045 | C23: Phạm Văn Chiến | D23: 38092 | E23: =VLOOKUP(B23,[1]Sheet1!B$4:L$8446,4,0) -> 70 | F23: =VLOOKUP(B23,[1]Sheet1!B$4:F$8446,5,0) -> 62 | G23: =VLOOKUP(B23,[1]Sheet1!B$4:J$8446,6,0) -> 62 | H23: =VLOOKUP(B23,[1]Sheet1!B$4:H$8446,7,0) -> 62 | I23: =IF(H23>=90,"Xuất sắc",IF(H23>=80,"Tốt", IF(H23>=65,"Khá",IF(H23>=50,"Trung bình", IF(H23>=35, "Yếu", "Kém"))))) -> Trung bình | J23: =VLOOKUP(B23,[1]Sheet1!B$4:K$8446,9,0) -> 62 | K23: =IF(J23>=90,"Xuất sắc",IF(J23>=80,"Tốt", IF(J23>=65,"Khá",IF(J23>=50,"Trung bình", IF(J23>=35, "Yếu", "Kém"))))) -> Trung bình
A24: 12 | B24: 22029076 | C24: Đặng Xuân Chung | D24: 38157 | E24: =VLOOKUP(B24,[1]Sheet1!B$4:L$8446,4,0) -> 80 | F24: =VLOOKUP(B24,[1]Sheet1!B$4:F$8446,5,0) -> 80 | G24: =VLOOKUP(B24,[1]Sheet1!B$4:J$8446,6,0) -> 80 | H24: =VLOOKUP(B24,[1]Sheet1!B$4:H$8446,7,0) -> 80 | I24: =IF(H24>=90,"Xuất sắc",IF(H24>=80,"Tốt", IF(H24>=65,"Khá",IF(H24>=50,"Trung bình", IF(H24>=35, "Yếu", "Kém"))))) -> Tốt | J24: =VLOOKUP(B24,[1]Sheet1!B$4:K$8446,9,0) -> 80 | K24: =IF(J24>=90,"Xuất sắc",IF(J24>=80,"Tốt", IF(J24>=65,"Khá",IF(J24>=50,"Trung bình", IF(J24>=35, "Yếu", "Kém"))))) -> Tốt
... A115: 103 | B115: 22029067 | C115: Phạm Đức Vượng | D115: 38327 | E115: =VLOOKUP(B115,[1]Sheet1!B$4:L$8446,4,0) -> 90 | F115: =VLOOKUP(B115,[1]Sheet1!B$4:F$8446,5,0) -> 90 | G115: =VLOOKUP(B115,[1]Sheet1!B$4:J$8446,6,0) -> 90 | H115: =VLOOKUP(B115,[1]Sheet1!B$4:H$8446,7,0) -> 90 | I115: =IF(H115>=90,"Xuất sắc",IF(H115>=80,"Tốt", IF(H115>=65,"Khá",IF(H115>=50,"Trung bình", IF(H115>=35, "Yếu", "Kém"))))) -> Xuất sắc | J115: =VLOOKUP(B115,[1]Sheet1!B$4:K$8446,9,0) -> 90 | K115: =IF(J115>=90,"Xuất sắc",IF(J115>=80,"Tốt", IF(J115>=65,"Khá",IF(J115>=50,"Trung bình", IF(J115>=35, "Yếu", "Kém"))))) -> Xuất sắc
A117: Ấn định danh sách có 103 sinh viên./.

Sheet K67ERE
A1: ĐẠI HỌC QUỐC GIA HÀ NỘI | G1: CỘNG HÒA XÃ HỘI CHỦ NGHĨA VIỆT NAM
A2: TRƯỜNG ĐẠI HỌC CÔNG NGHỆ | G2: Độc lập - Tự do - Hạnh phúc
A5: BẢNG TỔNG HỢP KẾT QUẢ RÈN LUYỆN CỦA SINH VIÊN
A6: LỚP QH-2022-I/CQ-E-RE, HỌC KỲ 2, NĂM HỌC 2024-2025
A7: KHOA ĐIỆN TỬ VIỄN THÔNG
A10: STT | B10: MASV | C10: Họ và tên | D10: Ngày sinh | E10: Điểm tự ĐG | F10: Điểm BCS | G10: Điểm GVCN | H10: Điểm KL | J10: Điểm KL
H11: HĐ cấp Khoa | J11: HĐ cấp Trường (dự kiến)
H12: Điểm | I12: Xếp loại | J12: Điểm | K12: Xếp loại
A13: 1 | B13: 22027519 | C13: Hoàng Việt Anh | D13: 38056 | E13: =VLOOKUP(B13,[1]Sheet1!B$4:L$8446,4,0) -> 80 | F13: =VLOOKUP(B13,[1]Sheet1!B$4:F$8446,5,0) -> 80 | G13: =VLOOKUP(B13,[1]Sheet1!B$4:J$8446,6,0) -> 80 | H13: =VLOOKUP(B13,[1]Sheet1!B$4:H$8446,7,0) -> 80 | I13: =IF(H13>=90,"Xuất sắc",IF(H13>=80,"Tốt", IF(H13>=65,"Khá",IF(H13>=50,"Trung bình", IF(H13>=35, "Yếu", "Kém"))))) -> Tốt | J13: =VLOOKUP(B13,[1]Sheet1!B$4:K$8446,9,0) -> 80 | K13: =IF(J13>=90,"Xuất sắc",IF(J13>=80,"Tốt", IF(J13>=65,"Khá",IF(J13>=50,"Trung bình", IF(J13>=35, "Yếu", "Kém"))))) -> Tốt
A14: 2 | B14: 22027553 | C14: Lâm Việt Anh | D14: 38187 | E14: =VLOOKUP(B14,[1]Sheet1!B$4:L$8446,4,0) -> 90 | F14: =VLOOKUP(B14,[1]Sheet1!B$4:F$8446,5,0) -> 90 | G14: =VLOOKUP(B14,[1]Sheet1!B$4:J$8446,6,0) -> 90 | H14: =VLOOKUP(B14,[1]Sheet1!B$4:H$8446,7,0) -> 90 | I14: =IF(H14>=90,"Xuất sắc",IF(H14>=80,"Tốt", IF(H14>=65,"Khá",IF(H14>=50,"Trung bình", IF(H14>=35, "Yếu", "Kém"))))) -> Xuất sắc | J14: =VLOOKUP(B14,[1]Sheet1!B$4:K$8446,9,0) -> 90 | K14: =IF(J14>=90,"Xuất sắc",IF(J14>=80,"Tốt", IF(J14>=65,"Khá",IF(J14>=50,"Trung bình", IF(J14>=35, "Yếu", "Kém"))))) -> Xuất sắc
A15: 3 | B15: 22027514 | C15: Nguyễn Tuấn Anh | D15: 38026 | E15: =VLOOKUP(B15,[1]Sheet1!B$4:L$8446,4,0) -> 80 | F15: =VLOOKUP(B15,[1]Sheet1!B$4:F$8446,5,0) -> 80 | G15: =VLOOKUP(B15,[1]Sheet1!B$4:J$8446,6,0) -> 75 | H15: =VLOOKUP(B15,[1]Sheet1!B$4:H$8446,7,0) -> 75 | I15: =IF(H15>=90,"Xuất sắc",IF(H15>=80,"Tốt", IF(H15>=65,"Khá",IF(H15>=50,"Trung bình", IF(H15>=35, "Yếu", "Kém"))))) -> Khá | J15: =VLOOKUP(B15,[1]Sheet1!B$4:K$8446,9,0) -> 75 | K15: =IF(J15>=90,"Xuất sắc",IF(J15>=80,"Tốt", IF(J15>=65,"Khá",IF(J15>=50,"Trung bình", IF(J15>=35, "Yếu", "Kém"))))) -> Khá
A16: 4 | B16: 22027532 | C16: Phạm Trung Anh | D16: 38263 | E16: =VLOOKUP(B16,[1]Sheet1!B$4:L$8446,4,0) -> 94 | F16: =VLOOKUP(B16,[1]Sheet1!B$4:F$8446,5,0) -> 94 | G16: =VLOOKUP(B16,[1]Sheet1!B$4:J$8446,6,0) -> 89 | H16: =VLOOKUP(B16,[1]Sheet1!B$4:H$8446,7,0) -> 89 | I16: =IF(H16>=90,"Xuất sắc",IF(H16>=80,"Tốt", IF(H16>=65,"Khá",IF(H16>=50,"Trung bình", IF(H16>=35, "Yếu", "Kém"))))) -> Tốt | J16: =VLOOKUP(B16,[1]Sheet1!B$4:K$8446,9,0) -> 89 | K16: =IF(J16>=90,"Xuất sắc",IF(J16>=80,"Tốt", IF(J16>=65,"Khá",IF(J16>=50,"Trung bình", IF(J16>=35, "Yếu", "Kém"))))) -> Tốt
A17: 5 | B17: 22027528 | C17: Trương Ngọc Anh | D17: 38212 | E17: =VLOOKUP(B17,[1]Sheet1!B$4:L$8446,4,0) -> 80 | F17: =VLOOKUP(B17,[1]Sheet1!B$4:F$8446,5,0) -> 80 | G17: =VLOOKUP(B17,[1]Sheet1!B$4:J$8446,6,0) -> 80 | H17: =VLOOKUP(B17,[1]Sheet1!B$4:H$8446,7,0) -> 80 | I17: =IF(H17>=90,"Xuất sắc",IF(H17>=80,"Tốt", IF(H17>=65,"Khá",IF(H17>=50,"Trung bình", IF(H17>=35, "Yếu", "Kém"))))) -> Tốt | J17: =VLOOKUP(B17,[1]Sheet1!B$4:K$8446,9,0) -> 80 | K17: =IF(J17>=90,"Xuất sắc",IF(J17>=80,"Tốt", IF(J17>=65,"Khá",IF(J17>=50,"Trung bình", IF(J17>=35, "Yếu", "Kém"))))) -> Tốt
A18: 6 | B18: 22027539 | C18: Phạm Văn Bách | D18: 38105 | E18: =VLOOKUP(B18,[1]Sheet1!B$4:L$8446,4,0) -> 80 | F18: =VLOOKUP(B18,[1]Sheet1!B$4:F$8446,5,0) -> 90 | G18: =VLOOKUP(B18,[1]Sheet1!B$4:J$8446,6,0) -> 85 | H18: =VLOOKUP(B18,[1]Sheet1!B$4:H$8446,7,0) -> 85 | I18: =IF(H18>=90,"Xuất sắc",IF(H18>=80,"Tốt", IF(H18>=65,"Khá",IF(H18>=50,"Trung bình", IF(H18>=35, "Yếu", "Kém"))))) -> Tốt | J18: =VLOOKUP(B18,[1]Sheet1!B$4:K$8446,9,0) -> 85 | K18: =IF(J18>=90,"Xuất sắc",IF(J18>=80,"Tốt", IF(J18>=65,"Khá",IF(J18>=50,"Trung bình", IF(J18>=35, "Yếu", "Kém"))))) -> Tốt
A19: 7 | B19: 22027505 | C19: Nguyễn Văn Bằng | D19: 38138 | E19: =VLOOKUP(B19,[1]Sheet1!B$4:L$8446,4,0) -> 82 | F19: =VLOOKUP(B19,[1]Sheet1!B$4:F$8446,5,0) -> 92 | G19: =VLOOKUP(B19,[1]Sheet1!B$4:J$8446,6,0) -> 87 | H19: =VLOOKUP(B19,[1]Sheet1!B$4:H$8446,7,0) -> 87 | I19: =IF(H19>=90,"Xuất sắc",IF(H19>=80,"Tốt", IF(H19>=65,"Khá",IF(H19>=50,"Trung bình", IF(H19>=35, "Yếu", "Kém"))))) -> Tốt | J19: =VLOOKUP(B19,[1]Sheet1!B$4:K$8446,9,0) -> 87 | K19: =IF(J19>=90,"Xuất sắc",IF(J19>=80,"Tốt", IF(J19>=65,"Khá",IF(J19>=50,"Trung bình", IF(J19>=35, "Yếu", "Kém"))))) -> Tốt
A20: 8 | B20: 22027543 | C20: Trần Thái Bình | D20: 38132 | E20: =VLOOKUP(B20,[1]Sheet1!B$4:L$8446,4,0) -> 70 | F20: =VLOOKUP(B20,[1]Sheet1!B$4:F$8446,5,0) -> 75 | G20: =VLOOKUP(B20,[1]Sheet1!B$4:J$8446,6,0) -> 75 | H20: =VLOOKUP(B20,[1]Sheet1!B$4:H$8446,7,0) -> 75 | I20: =IF(H20>=90,"Xuất sắc",IF(H20>=80,"Tốt", IF(H20>=65,"Khá",IF(H20>=50,"Trung bình", IF(H20>=35, "Yếu", "Kém"))))) -> Khá | J20: =VLOOKUP(B20,[1]Sheet1!B$4:K$8446,9,0) -> 75 | K20: =IF(J20>=90,"Xuất sắc",IF(J20>=80,"Tốt", IF(J20>=65,"Khá",IF(J20>=50,"Trung bình", IF(J20>=35, "Yếu", "Kém"))))) -> Khá
A21: 9 | B21: 22027502 | C21: Nguyễn Tuấn Cảnh | D21: 36997 | E21: =VLOOKUP(B21,[1]Sheet1!B$4:L$8446,4,0) -> 80 | F21: =VLOOKUP(B21,[1]Sheet1!B$4:F$8446,5,0) -> 80 | G21: =VLOOKUP(B21,[1]Sheet1!B$4:J$8446,6,0) -> 80 | H21: =VLOOKUP(B21,[1]Sheet1!B$4:H$8446,7,0) -> 80 | I21: =IF(H21>=90,"Xuất sắc",IF(H21>=80,"Tốt", IF(H21>=65,"Khá",IF(H21>=50,"Trung bình", IF(H21>=35, "Yếu", "Kém"))))) -> Tốt | J21: =VLOOKUP(B21,[1]Sheet1!B$4:K$8446,9,0) -> 80 | K21: =IF(J21>=90,"Xuất sắc",IF(J21>=80,"Tốt", IF(J21>=65,"Khá",IF(J21>=50,"Trung bình", IF(J21>=35, "Yếu", "Kém"))))) -> Tốt
A22: 10 | B22: 22027550 | C22: Trần Đình Cảnh | D22: 38153 | E22: =VLOOKUP(B22,[1]Sheet1!B$4:L$8446,4,0) -> 0 | F22: =VLOOKUP(B22,[1]Sheet1!B$4:F$8446,5,0) -> 0 | G22: =VLOOKUP(B22,[1]Sheet1!B$4:J$8446,6,0) -> 0 | H22: =VLOOKUP(B22,[1]Sheet1!B$4:H$8446,7,0) -> 0 | I22: =IF(H22>=90,"Xuất sắc",IF(H22>=80,"Tốt", IF(H22>=65,"Khá",IF(H22>=50,"Trung bình", IF(H22>=35, "Yếu", "Kém"))))) -> Kém | J22: =VLOOKUP(B22,[1]Sheet1!B$4:K$8446,9,0) -> 0 | K22: =IF(J22>=90,"Xuất sắc",IF(J22>=80,"Tốt", IF(J22>=65,"Khá",IF(J22>=50,"Trung bình", IF(J22>=35, "Yếu", "Kém"))))) -> Kém
A23: 11 | B23: 22027549 | C23: Hoàng Văn Cường | D23: 38026 | E23: =VLOOKUP(B23,[1]Sheet1!B$4:L$8446,4,0) -> 90 | F23: =VLOOKUP(B23,[1]Sheet1!B$4:F$8446,5,0) -> 90 | G23: =VLOOKUP(B23,[1]Sheet1!B$4:J$8446,6,0) -> 90 | H23: =VLOOKUP(B23,[1]Sheet1!B$4:H$8446,7,0) -> 90 | I23: =IF(H23>=90,"Xuất sắc",IF(H23>=80,"Tốt", IF(H23>=65,"Khá",IF(H23>=50,"Trung bình", IF(H23>=35, "Yếu", "Kém"))))) -> Xuất sắc | J23: =VLOOKUP(B23,[1]Sheet1!B$4:K$8446,9,0) -> 90 | K23: =IF(J23>=90,"Xuất sắc",IF(J23>=80,"Tốt", IF(J23>=65,"Khá",IF(J23>=50,"Trung bình", IF(J23>=35, "Yếu", "Kém"))))) -> Xuất sắc
A24: 12 | B24: 22027501 | C24: Nguyễn Mạnh Cường | D24: 38045 | E24: =VLOOKUP(B24,[1]Sheet1!B$4:L$8446,4,0) -> 80 | F24: =VLOOKUP(B24,[1]Sheet1!B$4:F$8446,5,0) -> 90 | G24: =VLOOKUP(B24,[1]Sheet1!B$4:J$8446,6,0) -> 90 | H24: =VLOOKUP(B24,[1]Sheet1!B$4:H$8446,7,0) -> 90 | I24: =IF(H24>=90,"Xuất sắc",IF(H24>=80,"Tốt", IF(H24>=65,"Khá",IF(H24>=50,"Trung bình", IF(H24>=35, "Yếu", "Kém"))))) -> Xuất sắc | J24: =VLOOKUP(B24,[1]Sheet1!B$4:K$8446,9,0) -> 90 | K24: =IF(J24>=90,"Xuất sắc",IF(J24>=80,"Tốt", IF(J24>=65,"Khá",IF(J24>=50,"Trung bình", IF(J24>=35, "Yếu", "Kém"))))) -> Xuất sắc
... A65: 53 | B65: 22027552 | C65: Nguyễn Anh Vũ | D65: 38062 | E65: =VLOOKUP(B65,[1]Sheet1!B$4:L$8446,4,0) -> 92 | F65: =VLOOKUP(B65,[1]Sheet1!B$4:F$8446,5,0) -> 92 | G65: =VLOOKUP(B65,[1]Sheet1!B$4:J$8446,6,0) -> 92 | H65: =VLOOKUP(B65,[1]Sheet1!B$4:H$8446,7,0) -> 92 | I65: =IF(H65>=90,"Xuất sắc",IF(H65>=80,"Tốt", IF(H65>=65,"Khá",IF(H65>=50,"Trung bình", IF(H65>=35, "Yếu", "Kém"))))) -> Xuất sắc | J65: =VLOOKUP(B65,[1]Sheet1!B$4:K$8446,9,0) -> 92 | K65: =IF(J65>=90,"Xuất sắc",IF(J65>=80,"Tốt", IF(J65>=65,"Khá",IF(J65>=50,"Trung bình", IF(J65>=35, "Yếu", "Kém"))))) -> Xuất sắc
A67: Ấn định danh sách có 53 sinh viên./.

Sheet K68ECE1
A1: ĐẠI HỌC QUỐC GIA HÀ NỘI | G1: CỘNG HÒA XÃ HỘI CHỦ NGHĨA VIỆT NAM
A2: TRƯỜNG ĐẠI HỌC CÔNG NGHỆ | G2: Độc lập - Tự do - Hạnh phúc
A5: BẢNG TỔNG HỢP KẾT QUẢ RÈN LUYỆN CỦA SINH VIÊN
A6: LỚP QH-2023-I/CQ-E-CE1, HỌC KỲ 2, NĂM HỌC 2024-2025
A7: KHOA ĐIỆN TỬ VIỄN THÔNG
A10: STT | B10: MASV | C10: Họ và tên | D10: Ngày sinh | E10: Điểm tự ĐG | F10: Điểm BCS | G10: Điểm GVCN | H10: Điểm KL | J10: Điểm KL
H11: HĐ cấp Khoa | J11: HĐ cấp Trường (dự kiến)
H12: Điểm | I12: Xếp loại | J12: Điểm | K12: Xếp loại
A13: 1 | B13: 23020781 | C13: Nguyễn Quang Anh | D13: 38666 | E13: =VLOOKUP(B13,[1]Sheet1!B$4:L$8446,4,0) -> 80 | F13: =VLOOKUP(B13,[1]Sheet1!B$4:F$8446,5,0) -> 80 | G13: =VLOOKUP(B13,[1]Sheet1!B$4:J$8446,6,0) -> 80 | H13: =VLOOKUP(B13,[1]Sheet1!B$4:H$8446,7,0) -> 80 | I13: =IF(H13>=90,"Xuất sắc",IF(H13>=80,"Tốt", IF(H13>=65,"Khá",IF(H13>=50,"Trung bình", IF(H13>=35, "Yếu", "Kém"))))) -> Tốt | J13: =VLOOKUP(B13,[1]Sheet1!B$4:K$8446,9,0) -> 80 | K13: =IF(J13>=90,"Xuất sắc",IF(J13>=80,"Tốt", IF(J13>=65,"Khá",IF(J13>=50,"Trung bình", IF(J13>=35, "Yếu", "Kém"))))) -> Tốt
A14: 2 | B14: 23020783 | C14: Đỗ Hoàng Gia Bảo | D14: 38363 | E14: =VLOOKUP(B14,[1]Sheet1!B$4:L$8446,4,0) -> 90 | F14: =VLOOKUP(B14,[1]Sheet1!B$4:F$8446,5,0) -> 90 | G14: =VLOOKUP(B14,[1]Sheet1!B$4:J$8446,6,0) -> 90 | H14: =VLOOKUP(B14,[1]Sheet1!B$4:H$8446,7,0) -> 90 | I14: =IF(H14>=90,"Xuất sắc",IF(H14>=80,"Tốt", IF(H14>=65,"Khá",IF(H14>=50,"Trung bình", IF(H14>=35, "Yếu", "Kém"))))) -> Xuất sắc | J14: =VLOOKUP(B14,[1]Sheet1!B$4:K$8446,9,0) -> 90 | K14: =IF(J14>=90,"Xuất sắc",IF(J14>=80,"Tốt", IF(J14>=65,"Khá",IF(J14>=50,"Trung bình", IF(J14>=35, "Yếu", "Kém"))))) -> Xuất sắc
A15: 3 | B15: 23020785 | C15: Nguyễn Thanh Bình | D15: 38654 | E15: =VLOOKUP(B15,[1]Sheet1!B$4:L$8446,4,0) -> 90 | F15: =VLOOKUP(B15,[1]Sheet1!B$4:F$8446,5,0) -> 90 | G15: =VLOOKUP(B15,[1]Sheet1!B$4:J$8446,6,0) -> 90 | H15: =VLOOKUP(B15,[1]Sheet1!B$4:H$8446,7,0) -> 90 | I15: =IF(H15>=90,"Xuất sắc",IF(H15>=80,"Tốt", IF(H15>=65,"Khá",IF(H15>=50,"Trung bình", IF(H15>=35, "Yếu", "Kém"))))) -> Xuất sắc | J15: =VLOOKUP(B15,[1]Sheet1!B$4:K$8446,9,0) -> 90 | K15: =IF(J15>=90,"Xuất sắc",IF(J15>=80,"Tốt", IF(J15>=65,"Khá",IF(J15>=50,"Trung bình", IF(J15>=35, "Yếu", "Kém"))))) -> Xuất sắc
A16: 4 | B16: 23020787 | C16: Nguyễn Thị Phương Chi | D16: 38418 | E16: =VLOOKUP(B16,[1]Sheet1!B$4:L$8446,4,0) -> 90 | F16: =VLOOKUP(B16,[1]Sheet1!B$4:F$8446,5,0) -> 90 | G16: =VLOOKUP(B16,[1]Sheet1!B$4:J$8446,6,0) -> 90 | H16: =VLOOKUP(B16,[1]Sheet1!B$4:H$8446,7,0) -> 90 | I16: =IF(H16>=90,"Xuất sắc",IF(H16>=80,"Tốt", IF(H16>=65,"Khá",IF(H16>=50,"Trung bình", IF(H16>=35, "Yếu", "Kém"))))) -> Xuất sắc | J16: =VLOOKUP(B16,[1]Sheet1!B$4:K$8446,9,0) -> 90 | K16: =IF(J16>=90,"Xuất sắc",IF(J16>=80,"Tốt", IF(J16>=65,"Khá",IF(J16>=50,"Trung bình", IF(J16>=35, "Yếu", "Kém"))))) -> Xuất sắc
A17: 5 | B17: 23020789 | C17: Trần Minh Chiến | D17: 38363 | E17: =VLOOKUP(B17,[1]Sheet1!B$4:L$8446,4,0) -> 90 | F17: =VLOOKUP(B17,[1]Sheet1!B$4:F$8446,5,0) -> 90 | G17: =VLOOKUP(B17,[1]Sheet1!B$4:J$8446,6,0) -> 90 | H17: =VLOOKUP(B17,[1]Sheet1!B$4:H$8446,7,0) -> 90 | I17: =IF(H17>=90,"Xuất sắc",IF(H17>=80,"Tốt", IF(H17>=65,"Khá",IF(H17>=50,"Trung bình", IF(H17>=35, "Yếu", "Kém"))))) -> Xuất sắc | J17: =VLOOKUP(B17,[1]Sheet1!B$4:K$8446,9,0) -> 90 | K17: =IF(J17>=90,"Xuất sắc",IF(J17>=80,"Tốt", IF(J17>=65,"Khá",IF(J17>=50,"Trung bình", IF(J17>=35, "Yếu", "Kém"))))) -> Xuất sắc
A18: 6 | B18: 23020791 | C18: Nguyễn Đức Duân | D18: 38520 | E18: =VLOOKUP(B18,[1]Sheet1!B$4:L$8446,4,0) -> 92 | F18: =VLOOKUP(B18,[1]Sheet1!B$4:F$8446,5,0) -> 92 | G18: =VLOOKUP(B18,[1]Sheet1!B$4:J$8446,6,0) -> 92 | H18: =VLOOKUP(B18,[1]Sheet1!B$4:H$8446,7,0) -> 92 | I18: =IF(H18>=90,"Xuất sắc",IF(H18>=80,"Tốt", IF(H18>=65,"Khá",IF(H18>=50,"Trung bình", IF(H18>=35, "Yếu", "Kém"))))) -> Xuất sắc | J18: =VLOOKUP(B18,[1]Sheet1!B$4:K$8446,9,0) -> 92 | K18: =IF(J18>=90,"Xuất sắc",IF(J18>=80,"Tốt", IF(J18>=65,"Khá",IF(J18>=50,"Trung bình", IF(J18>=35, "Yếu", "Kém"))))) -> Xuất sắc
A19: 7 | B19: 23020793 | C19: Nguyễn Anh Dũng | D19: 38561 | E19: =VLOOKUP(B19,[1]Sheet1!B$4:L$8446,4,0) -> 90 | F19: =VLOOKUP(B19,[1]Sheet1!B$4:F$8446,5,0) -> 90 | G19: =VLOOKUP(B19,[1]Sheet1!B$4:J$8446,6,0) -> 90 | H19: =VLOOKUP(B19,[1]Sheet1!B$4:H$8446,7,0) -> 90 | I19: =IF(H19>=90,"Xuất sắc",IF(H19>=80,"Tốt", IF(H19>=65,"Khá",IF(H19>=50,"Trung bình", IF(H19>=35, "Yếu", "Kém"))))) -> Xuất sắc | J19: =VLOOKUP(B19,[1]Sheet1!B$4:K$8446,9,0) -> 90 | K19: =IF(J19>=90,"Xuất sắc",IF(J19>=80,"Tốt", IF(J19>=65,"Khá",IF(J19>=50,"Trung bình", IF(J19>=35, "Yếu", "Kém"))))) -> Xuất sắc
A20: 8 | B20: 23020795 | C20: Bùi Đăng Dương | D20: 38712 | E20: =VLOOKUP(B20,[1]Sheet1!B$4:L$8446,4,0) -> 90 | F20: =VLOOKUP(B20,[1]Sheet1!B$4:F$8446,5,0) -> 90 | G20: =VLOOKUP(B20,[1]Sheet1!B$4:J$8446,6,0) -> 90 | H20: =VLOOKUP(B20,[1]Sheet1!B$4:H$8446,7,0) -> 90 | I20: =IF(H20>=90,"Xuất sắc",IF(H20>=80,"Tốt", IF(H20>=65,"Khá",IF(H20>=50,"Trung bình", IF(H20>=35, "Yếu", "Kém"))))) -> Xuất sắc | J20: =VLOOKUP(B20,[1]Sheet1!B$4:K$8446,9,0) -> 90 | K20: =IF(J20>=90,"Xuất sắc",IF(J20>=80,"Tốt", IF(J20>=65,"Khá",IF(J20>=50,"Trung bình", IF(J20>=35, "Yếu", "Kém"))))) -> Xuất sắc
A21: 9 | B21: 23020797 | C21: Phan Đăng Dương | D21: 38470 | E21: =VLOOKUP(B21,[1]Sheet1!B$4:L$8446,4,0) -> 96 | F21: =VLOOKUP(B21,[1]Sheet1!B$4:F$8446,5,0) -> 94 | G21: =VLOOKUP(B21,[1]Sheet1!B$4:J$8446,6,0) -> 94 | H21: =VLOOKUP(B21,[1]Sheet1!B$4:H$8446,7,0) -> 94 | I21: =IF(H21>=90,"Xuất sắc",IF(H21>=80,"Tốt", IF(H21>=65,"Khá",IF(H21>=50,"Trung bình", IF(H21>=35, "Yếu", "Kém"))))) -> Xuất sắc | J21: =VLOOKUP(B21,[1]Sheet1!B$4:K$8446,9,0) -> 94 | K21: =IF(J21>=90,"Xuất sắc",IF(J21>=80,"Tốt", IF(J21>=65,"Khá",IF(J21>=50,"Trung bình", IF(J21>=35, "Yếu", "Kém"))))) -> Xuất sắc
A22: 10 | B22: 23020799 | C22: Phạm Tiến Đạt | D22: 38703 | E22: =VLOOKUP(B22,[1]Sheet1!B$4:L$8446,4,0) -> 70 | F22: =VLOOKUP(B22,[1]Sheet1!B$4:F$8446,5,0) -> 77 | G22: =VLOOKUP(B22,[1]Sheet1!B$4:J$8446,6,0) -> 77 | H22: =VLOOKUP(B22,[1]Sheet1!B$4:H$8446,7,0) -> 77 | I22: =IF(H22>=90,"Xuất sắc",IF(H22>=80,"Tốt", IF(H22>=65,"Khá",IF(H22>=50,"Trung bình", IF(H22>=35, "Yếu", "Kém"))))) -> Khá | J22: =VLOOKUP(B22,[1]Sheet1!B$4:K$8446,9,0) -> 77 | K22: =IF(J22>=90,"Xuất sắc",IF(J22>=80,"Tốt", IF(J22>=65,"Khá",IF(J22>=50,"Trung bình", IF(J22>=35, "Yếu", "Kém"))))) -> Khá
A23: 11 | B23: 23020801 | C23: Lê Hải Đăng | D23: 38381 | E23: =VLOOKUP(B23,[1]Sheet1!B$4:L$8446,4,0) -> 90 | F23: =VLOOKUP(B23,[1]Sheet1!B$4:F$8446,5,0) -> 90 | G23: =VLOOKUP(B23,[1]Sheet1!B$4:J$8446,6,0) -> 90 | H23: =VLOOKUP(B23,[1]Sheet1!B$4:H$8446,7,0) -> 90 | I23: =IF(H23>=90,"Xuất sắc",IF(H23>=80,"Tốt", IF(H23>=65,"Khá",IF(H23>=50,"Trung bình", IF(H23>=35, "Yếu", "Kém"))))) -> Xuất sắc | J23: =VLOOKUP(B23,[1]Sheet1!B$4:K$8446,9,0) -> 90 | K23: =IF(J23>=90,"Xuất sắc",IF(J23>=80,"Tốt", IF(J23>=65,"Khá",IF(J23>=50,"Trung bình", IF(J23>=35, "Yếu", "Kém"))))) -> Xuất sắc
A24: 12 | B24: 23020803 | C24: Trịnh Văn Giang | D24: 37213 | E24: =VLOOKUP(B24,[1]Sheet1!B$4:L$8446,4,0) -> 90 | F24: =VLOOKUP(B24,[1]Sheet1!B$4:F$8446,5,0) -> 90 | G24: =VLOOKUP(B24,[1]Sheet1!B$4:J$8446,6,0) -> 90 | H24: =VLOOKUP(B24,[1]Sheet1!B$4:H$8446,7,0) -> 90 | I24: =IF(H24>=90,"Xuất sắc",IF(H24>=80,"Tốt", IF(H24>=65,"Khá",IF(H24>=50,"Trung bình", IF(H24>=35, "Yếu", "Kém"))))) -> Xuất sắc | J24: =VLOOKUP(B24,[1]Sheet1!B$4:K$8446,9,0) -> 90 | K24: =IF(J24>=90,"Xuất sắc",IF(J24>=80,"Tốt", IF(J24>=65,"Khá",IF(J24>=50,"Trung bình", IF(J24>=35, "Yếu", "Kém"))))) -> Xuất sắc
... A69: 57 | B69: 23020897 | C69: Cao Quang Vinh | D69: 38641 | E69: =VLOOKUP(B69,[1]Sheet1!B$4:L$8446,4,0) -> 80 | F69: =VLOOKUP(B69,[1]Sheet1!B$4:F$8446,5,0) -> 80 | G69: =VLOOKUP(B69,[1]Sheet1!B$4:J$8446,6,0) -> 80 | H69: =VLOOKUP(B69,[1]Sheet1!B$4:H$8446,7,0) -> 80 | I69: =IF(H69>=90,"Xuất sắc",IF(H69>=80,"Tốt", IF(H69>=65,"Khá",IF(H69>=50,"Trung bình", IF(H69>=35, "Yếu", "Kém"))))) -> Tốt | J69: =VLOOKUP(B69,[1]Sheet1!B$4:K$8446,9,0) -> 80 | K69: =IF(J69>=90,"Xuất sắc",IF(J69>=80,"Tốt", IF(J69>=65,"Khá",IF(J69>=50,"Trung bình", IF(J69>=35, "Yếu", "Kém"))))) -> Tốt
A71: Ấn định danh sách có 57 sinh viên./.

Sheet K68ECE2
A1: ĐẠI HỌC QUỐC GIA HÀ NỘI | G1: CỘNG HÒA XÃ HỘI CHỦ NGHĨA VIỆT NAM
A2: TRƯỜNG ĐẠI HỌC CÔNG NGHỆ | G2: Độc lập - Tự do - Hạnh phúc
A5: BẢNG TỔNG HỢP KẾT QUẢ RÈN LUYỆN CỦA SINH VIÊN
A6: LỚP QH-2023-I/CQ-E-CE2, HỌC KỲ 2, NĂM HỌC 2024-2025
A7: KHOA ĐIỆN TỬ VIỄN THÔNG
A10: STT | B10: MASV | C10: Họ và tên | D10: Ngày sinh | E10: Điểm tự ĐG | F10: Điểm BCS | G10: Điểm GVCN | H10: Điểm KL | J10: Điểm KL
H11: HĐ cấp Khoa | J11: HĐ cấp Trường (dự kiến)
H12: Điểm | I12: Xếp loại | J12: Điểm | K12: Xếp loại
A13: 1 | B13: 23020780 | C13: Nguyễn Đức Anh | D13: 38362 | E13: =VLOOKUP(B13,[1]Sheet1!B$4:L$8446,4,0) -> 80 | F13: =VLOOKUP(B13,[1]Sheet1!B$4:F$8446,5,0) -> 80 | G13: =VLOOKUP(B13,[1]Sheet1!B$4:J$8446,6,0) -> 80 | H13: =VLOOKUP(B13,[1]Sheet1!B$4:H$8446,7,0) -> 80 | I13: =IF(H13>=90,"Xuất sắc",IF(H13>=80,"Tốt", IF(H13>=65,"Khá",IF(H13>=50,"Trung bình", IF(H13>=35, "Yếu", "Kém"))))) -> Tốt | J13: =VLOOKUP(B13,[1]Sheet1!B$4:K$8446,9,0) -> 80 | K13: =IF(J13>=90,"Xuất sắc",IF(J13>=80,"Tốt", IF(J13>=65,"Khá",IF(J13>=50,"Trung bình", IF(J13>=35, "Yếu", "Kém"))))) -> Tốt
A14: 2 | B14: 23020782 | C14: Vũ Đức Anh | D14: 38687 | E14: =VLOOKUP(B14,[1]Sheet1!B$4:L$8446,4,0) -> 85 | F14: =VLOOKUP(B14,[1]Sheet1!B$4:F$8446,5,0) -> 80 | G14: =VLOOKUP(B14,[1]Sheet1!B$4:J$8446,6,0) -> 80 | H14: =VLOOKUP(B14,[1]Sheet1!B$4:H$8446,7,0) -> 80 | I14: =IF(H14>=90,"Xuất sắc",IF(H14>=80,"Tốt", IF(H14>=65,"Khá",IF(H14>=50,"Trung bình", IF(H14>=35, "Yếu", "Kém"))))) -> Tốt | J14: =VLOOKUP(B14,[1]Sheet1!B$4:K$8446,9,0) -> 80 | K14: =IF(J14>=90,"Xuất sắc",IF(J14>=80,"Tốt", IF(J14>=65,"Khá",IF(J14>=50,"Trung bình", IF(J14>=35, "Yếu", "Kém"))))) -> Tốt
A15: 3 | B15: 23020784 | C15: Nguyễn Quang Bảo | D15: 38660 | E15: =VLOOKUP(B15,[1]Sheet1!B$4:L$8446,4,0) -> 75 | F15: =VLOOKUP(B15,[1]Sheet1!B$4:F$8446,5,0) -> 75 | G15: =VLOOKUP(B15,[1]Sheet1!B$4:J$8446,6,0) -> 75 | H15: =VLOOKUP(B15,[1]Sheet1!B$4:H$8446,7,0) -> 80 | I15: =IF(H15>=90,"Xuất sắc",IF(H15>=80,"Tốt", IF(H15>=65,"Khá",IF(H15>=50,"Trung bình", IF(H15>=35, "Yếu", "Kém"))))) -> Tốt | J15: =VLOOKUP(B15,[1]Sheet1!B$4:K$8446,9,0) -> 80 | K15: =IF(J15>=90,"Xuất sắc",IF(J15>=80,"Tốt", IF(J15>=65,"Khá",IF(J15>=50,"Trung bình", IF(J15>=35, "Yếu", "Kém"))))) -> Tốt
A16: 4 | B16: 23020788 | C16: Hoàng Hải Chiến | D16: 38425 | E16: =VLOOKUP(B16,[1]Sheet1!B$4:L$8446,4,0) -> 80 | F16: =VLOOKUP(B16,[1]Sheet1!B$4:F$8446,5,0) -> 75 | G16: =VLOOKUP(B16,[1]Sheet1!B$4:J$8446,6,0) -> 75 | H16: =VLOOKUP(B16,[1]Sheet1!B$4:H$8446,7,0) -> 75 | I16: =IF(H16>=90,"Xuất sắc",IF(H16>=80,"Tốt", IF(H16>=65,"Khá",IF(H16>=50,"Trung bình", IF(H16>=35, "Yếu", "Kém"))))) -> Khá | J16: =VLOOKUP(B16,[1]Sheet1!B$4:K$8446,9,0) -> 75 | K16: =IF(J16>=90,"Xuất sắc",IF(J16>=80,"Tốt", IF(J16>=65,"Khá",IF(J16>=50,"Trung bình", IF(J16>=35, "Yếu", "Kém"))))) -> Khá
A17: 5 | B17: 23020786 | C17: Nguyễn Đình Cường | D17: 38381 | E17: =VLOOKUP(B17,[1]Sheet1!B$4:L$8446,4,0) -> 90 | F17: =VLOOKUP(B17,[1]Sheet1!B$4:F$8446,5,0) -> 85 | G17: =VLOOKUP(B17,[1]Sheet1!B$4:J$8446,6,0) -> 85 | H17: =VLOOKUP(B17,[1]Sheet1!B$4:H$8446,7,0) -> 90 | I17: =IF(H17>=90,"Xuất sắc",IF(H17>=80,"Tốt", IF(H17>=65,"Khá",IF(H17>=50,"Trung bình", IF(H17>=35, "Yếu", "Kém"))))) -> Xuất sắc | J17: =VLOOKUP(B17,[1]Sheet1!B$4:K$8446,9,0) -> 90 | K17: =IF(J17>=90,"Xuất sắc",IF(J17>=80,"Tốt", IF(J17>=65,"Khá",IF(J17>=50,"Trung bình", IF(J17>=35, "Yếu", "Kém"))))) -> Xuất sắc
A18: 6 | B18: 23020790 | C18: Nguyễn Văn Dân | D18: 38635 | E18: =VLOOKUP(B18,[1]Sheet1!B$4:L$8446,4,0) -> 90 | F18: =VLOOKUP(B18,[1]Sheet1!B$4:F$8446,5,0) -> 90 | G18: =VLOOKUP(B18,[1]Sheet1!B$4:J$8446,6,0) -> 90 | H18: =VLOOKUP(B18,[1]Sheet1!B$4:H$8446,7,0) -> 90 | I18: =IF(H18>=90,"Xuất sắc",IF(H18>=80,"Tốt", IF(H18>=65,"Khá",IF(H18>=50,"Trung bình", IF(H18>=35, "Yếu", "Kém"))))) -> Xuất sắc | J18: =VLOOKUP(B18,[1]Sheet1!B$4:K$8446,9,0) -> 90 | K18: =IF(J18>=90,"Xuất sắc",IF(J18>=80,"Tốt", IF(J18>=65,"Khá",IF(J18>=50,"Trung bình", IF(J18>=35, "Yếu", "Kém"))))) -> Xuất sắc
A19: 7 | B19: 23020792 | C19: Bùi Tiến Dũng | D19: 38596 | E19: =VLOOKUP(B19,[1]Sheet1!B$4:L$8446,4,0) -> 80 | F19: =VLOOKUP(B19,[1]Sheet1!B$4:F$8446,5,0) -> 75 | G19: =VLOOKUP(B19,[1]Sheet1!B$4:J$8446,6,0) -> 75 | H19: =VLOOKUP(B19,[1]Sheet1!B$4:H$8446,7,0) -> 75 | I19: =IF(H19>=90,"Xuất sắc",IF(H19>=80,"Tốt", IF(H19>=65,"Khá",IF(H19>=50,"Trung bình", IF(H19>=35, "Yếu", "Kém"))))) -> Khá | J19: =VLOOKUP(B19,[1]Sheet1!B$4:K$8446,9,0) -> 75 | K19: =IF(J19>=90,"Xuất sắc",IF(J19>=80,"Tốt", IF(J19>=65,"Khá",IF(J19>=50,"Trung bình", IF(J19>=35, "Yếu", "Kém"))))) -> Khá
A20: 8 | B20: 23020794 | C20: Nguyễn Mạnh Duy | D20: 38378 | E20: =VLOOKUP(B20,[1]Sheet1!B$4:L$8446,4,0) -> 85 | F20: =VLOOKUP(B20,[1]Sheet1!B$4:F$8446,5,0) -> 90 | G20: =VLOOKUP(B20,[1]Sheet1!B$4:J$8446,6,0) -> 90 | H20: =VLOOKUP(B20,[1]Sheet1!B$4:H$8446,7,0) -> 90 | I20: =IF(H20>=90,"Xuất sắc",IF(H20>=80,"Tốt", IF(H20>=65,"Khá",IF(H20>=50,"Trung bình", IF(H20>=35, "Yếu", "Kém"))))) -> Xuất sắc | J20: =VLOOKUP(B20,[1]Sheet1!B$4:K$8446,9,0) -> 90 | K20: =IF(J20>=90,"Xuất sắc",IF(J20>=80,"Tốt", IF(J20>=65,"Khá",IF(J20>=50,"Trung bình", IF(J20>=35, "Yếu", "Kém"))))) -> Xuất sắc
A21: 9 | B21: 23020796 | C21: Đỗ Tùng Dương | D21: 38622 | E21: =VLOOKUP(B21,[1]Sheet1!B$4:L$8446,4,0) -> 60 | F21: =VLOOKUP(B21,[1]Sheet1!B$4:F$8446,5,0) -> 60 | G21: =VLOOKUP(B21,[1]Sheet1!B$4:J$8446,6,0) -> 60 | H21: =VLOOKUP(B21,[1]Sheet1!B$4:H$8446,7,0) -> 60 | I21: =IF(H21>=90,"Xuất sắc",IF(H21>=80,"Tốt", IF(H21>=65,"Khá",IF(H21>=50,"Trung bình", IF(H21>=35, "Yếu", "Kém"))))) -> Trung bình | J21: =VLOOKUP(B21,[1]Sheet1!B$4:K$8446,9,0) -> 60 | K21: =IF(J21>=90,"Xuất sắc",IF(J21>=80,"Tốt", IF(J21>=65,"Khá",IF(J21>=50,"Trung bình", IF(J21>=35, "Yếu", "Kém"))))) -> Trung bình
A22: 10 | B22: 23020798 | C22: Phùng Khắc Dương | D22: 38607 | E22: =VLOOKUP(B22,[1]Sheet1!B$4:L$8446,4,0) -> 80 | F22: =VLOOKUP(B22,[1]Sheet1!B$4:F$8446,5,0) -> 80 | G22: =VLOOKUP(B22,[1]Sheet1!B$4:J$8446,6,0) -> 80 | H22: =VLOOKUP(B22,[1]Sheet1!B$4:H$8446,7,0) -> 80 | I22: =IF(H22>=90,"Xuất sắc",IF(H22>=80,"Tốt", IF(H22>=65,"Khá",IF(H22>=50,"Trung bình", IF(H22>=35, "Yếu", "Kém"))))) -> Tốt | J22: =VLOOKUP(B22,[1]Sheet1!B$4:K$8446,9,0) -> 80 | K22: =IF(J22>=90,"Xuất sắc",IF(J22>=80,"Tốt", IF(J22>=65,"Khá",IF(J22>=50,"Trung bình", IF(J22>=35, "Yếu", "Kém"))))) -> Tốt
A23: 11 | B23: 23020800 | C23: Trịnh Đình Đạt | D23: 38486 | E23: =VLOOKUP(B23,[1]Sheet1!B$4:L$8446,4,0) -> 90 | F23: =VLOOKUP(B23,[1]Sheet1!B$4:F$8446,5,0) -> 90 | G23: =VLOOKUP(B23,[1]Sheet1!B$4:J$8446,6,0) -> 90 | H23: =VLOOKUP(B23,[1]Sheet1!B$4:H$8446,7,0) -> 90 | I23: =IF(H23>=90,"Xuất sắc",IF(H23>=80,"Tốt", IF(H23>=65,"Khá",IF(H23>=50,"Trung bình", IF(H23>=35, "Yếu", "Kém"))))) -> Xuất sắc | J23: =VLOOKUP(B23,[1]Sheet1!B$4:K$8446,9,0) -> 90 | K23: =IF(J23>=90,"Xuất sắc",IF(J23>=80,"Tốt", IF(J23>=65,"Khá",IF(J23>=50,"Trung bình", IF(J23>=35, "Yếu", "Kém"))))) -> Xuất sắc
A24: 12 | B24: 23020802 | C24: Nguyễn Trường Giang | D24: 38524 | E24: =VLOOKUP(B24,[1]Sheet1!B$4:L$8446,4,0) -> 92 | F24: =VLOOKUP(B24,[1]Sheet1!B$4:F$8446,5,0) -> 82 | G24: =VLOOKUP(B24,[1]Sheet1!B$4:J$8446,6,0) -> 82 | H24: =VLOOKUP(B24,[1]Sheet1!B$4:H$8446,7,0) -> 82 | I24: =IF(H24>=90,"Xuất sắc",IF(H24>=80,"Tốt", IF(H24>=65,"Khá",IF(H24>=50,"Trung bình", IF(H24>=35, "Yếu", "Kém"))))) -> Tốt | J24: =VLOOKUP(B24,[1]Sheet1!B$4:K$8446,9,0) -> 82 | K24: =IF(J24>=90,"Xuất sắc",IF(J24>=80,"Tốt", IF(J24>=65,"Khá",IF(J24>=50,"Trung bình", IF(J24>=35, "Yếu", "Kém"))))) -> Tốt
... A71: 59 | B71: 23020898 | C71: Lê Hoàng Vũ | D71: 38487 | E71: =VLOOKUP(B71,[1]Sheet1!B$4:L$8446,4,0) -> 70 | F71: =VLOOKUP(B71,[1]Sheet1!B$4:F$8446,5,0) -> 80 | G71: =VLOOKUP(B71,[1]Sheet1!B$4:J$8446,6,0) -> 80 | H71: =VLOOKUP(B71,[1]Sheet1!B$4:H$8446,7,0) -> 80 | I71: =IF(H71>=90,"Xuất sắc",IF(H71>=80,"Tốt", IF(H71>=65,"Khá",IF(H71>=50,"Trung bình", IF(H71>=35, "Yếu", "Kém"))))) -> Tốt | J71: =VLOOKUP(B71,[1]Sheet1!B$4:K$8446,9,0) -> 80 | K71: =IF(J71>=90,"Xuất sắc",IF(J71>=80,"Tốt", IF(J71>=65,"Khá",IF(J71>=50,"Trung bình", IF(J71>=35, "Yếu", "Kém"))))) -> Tốt
A73: Ấn định danh sách có 59 sinh viên./.

Sheet K68ERE
A1: ĐẠI HỌC QUỐC GIA HÀ NỘI | G1: CỘNG HÒA XÃ HỘI CHỦ NGHĨA VIỆT NAM
A2: TRƯỜNG ĐẠI HỌC CÔNG NGHỆ | G2: Độc lập - Tự do - Hạnh phúc
A5: BẢNG TỔNG HỢP KẾT QUẢ RÈN LUYỆN CỦA SINH VIÊN
A6: LỚP QH-2023-I/CQ-E-RE, HỌC KỲ 2, NĂM HỌC 2024-2025
A7: KHOA ĐIỆN TỬ VIỄN THÔNG
A10: STT | B10: MASV | C10: Họ và tên | D10: Ngày sinh | E10: Điểm tự ĐG | F10: Điểm BCS | G10: Điểm GVCN | H10: Điểm KL | J10: Điểm KL
H11: HĐ cấp Khoa | J11: HĐ cấp Trường (dự kiến)
H12: Điểm | I12: Xếp loại | J12: Điểm | K12: Xếp loại
A13: 1 | B13: 23020718 | C13: Bùi Trường An | D13: 38498 | E13: =VLOOKUP(B13,[1]Sheet1!B$4:L$8446,4,0) -> 70 | F13: =VLOOKUP(B13,[1]Sheet1!B$4:F$8446,5,0) -> 70 | G13: =VLOOKUP(B13,[1]Sheet1!B$4:J$8446,6,0) -> 70 | H13: =VLOOKUP(B13,[1]Sheet1!B$4:H$8446,7,0) -> 70 | I13: =IF(H13>=90,"Xuất sắc",IF(H13>=80,"Tốt", IF(H13>=65,"Khá",IF(H13>=50,"Trung bình", IF(H13>=35, "Yếu", "Kém"))))) -> Khá | J13: =VLOOKUP(B13,[1]Sheet1!B$4:K$8446,9,0) -> 70 | K13: =IF(J13>=90,"Xuất sắc",IF(J13>=80,"Tốt", IF(J13>=65,"Khá",IF(J13>=50,"Trung bình", IF(J13>=35, "Yếu", "Kém"))))) -> Khá
A14: 2 | B14: 23020719 | C14: Đỗ Việt Anh | D14: 36865 | E14: =VLOOKUP(B14,[1]Sheet1!B$4:L$8446,4,0) -> 90 | F14: =VLOOKUP(B14,[1]Sheet1!B$4:F$8446,5,0) -> 90 | G14: =VLOOKUP(B14,[1]Sheet1!B$4:J$8446,6,0) -> 90 | H14: =VLOOKUP(B14,[1]Sheet1!B$4:H$8446,7,0) -> 90 | I14: =IF(H14>=90,"Xuất sắc",IF(H14>=80,"Tốt", IF(H14>=65,"Khá",IF(H14>=50,"Trung bình", IF(H14>=35, "Yếu", "Kém"))))) -> Xuất sắc | J14: =VLOOKUP(B14,[1]Sheet1!B$4:K$8446,9,0) -> 90 | K14: =IF(J14>=90,"Xuất sắc",IF(J14>=80,"Tốt", IF(J14>=65,"Khá",IF(J14>=50,"Trung bình", IF(J14>=35, "Yếu", "Kém"))))) -> Xuất sắc
A15: 3 | B15: 23020721 | C15: Nguyễn Quang Anh | D15: 38533 | E15: =VLOOKUP(B15,[1]Sheet1!B$4:L$8446,4,0) -> 60 | F15: =VLOOKUP(B15,[1]Sheet1!B$4:F$8446,5,0) -> 58 | G15: =VLOOKUP(B15,[1]Sheet1!B$4:J$8446,6,0) -> 58 | H15: =VLOOKUP(B15,[1]Sheet1!B$4:H$8446,7,0) -> 58 | I15: =IF(H15>=90,"Xuất sắc",IF(H15>=80,"Tốt", IF(H15>=65,"Khá",IF(H15>=50,"Trung bình", IF(H15>=35, "Yếu", "Kém"))))) -> Trung bình | J15: =VLOOKUP(B15,[1]Sheet1!B$4:K$8446,9,0) -> 58 | K15: =IF(J15>=90,"Xuất sắc",IF(J15>=80,"Tốt", IF(J15>=65,"Khá",IF(J15>=50,"Trung bình", IF(J15>=35, "Yếu", "Kém"))))) -> Trung bình
A16: 4 | B16: 23020722 | C16: Phạm Việt Anh | D16: 38471 | E16: =VLOOKUP(B16,[1]Sheet1!B$4:L$8446,4,0) -> 80 | F16: =VLOOKUP(B16,[1]Sheet1!B$4:F$8446,5,0) -> 80 | G16: =VLOOKUP(B16,[1]Sheet1!B$4:J$8446,6,0) -> 80 | H16: =VLOOKUP(B16,[1]Sheet1!B$4:H$8446,7,0) -> 80 | I16: =IF(H16>=90,"Xuất sắc",IF(H16>=80,"Tốt", IF(H16>=65,"Khá",IF(H16>=50,"Trung bình", IF(H16>=35, "Yếu", "Kém"))))) -> Tốt | J16: =VLOOKUP(B16,[1]Sheet1!B$4:K$8446,9,0) -> 80 | K16: =IF(J16>=90,"Xuất sắc",IF(J16>=80,"Tốt", IF(J16>=65,"Khá",IF(J16>=50,"Trung bình", IF(J16>=35, "Yếu", "Kém"))))) -> Tốt
A17: 5 | B17: 23020723 | C17: Lê Anh Tuấn Bằng | D17: 38653 | E17: =VLOOKUP(B17,[1]Sheet1!B$4:L$8446,4,0) -> 92 | F17: =VLOOKUP(B17,[1]Sheet1!B$4:F$8446,5,0) -> 92 | G17: =VLOOKUP(B17,[1]Sheet1!B$4:J$8446,6,0) -> 92 | H17: =VLOOKUP(B17,[1]Sheet1!B$4:H$8446,7,0) -> 92 | I17: =IF(H17>=90,"Xuất sắc",IF(H17>=80,"Tốt", IF(H17>=65,"Khá",IF(H17>=50,"Trung bình", IF(H17>=35, "Yếu", "Kém"))))) -> Xuất sắc | J17: =VLOOKUP(B17,[1]Sheet1!B$4:K$8446,9,0) -> 92 | K17: =IF(J17>=90,"Xuất sắc",IF(J17>=80,"Tốt", IF(J17>=65,"Khá",IF(J17>=50,"Trung bình", IF(J17>=35, "Yếu", "Kém"))))) -> Xuất sắc
A18: 6 | B18: 23020724 | C18: Phạm Thị Bích | D18: 38619 | E18: =VLOOKUP(B18,[1]Sheet1!B$4:L$8446,4,0) -> 65 | F18: =VLOOKUP(B18,[1]Sheet1!B$4:F$8446,5,0) -> 65 | G18: =VLOOKUP(B18,[1]Sheet1!B$4:J$8446,6,0) -> 65 | H18: =VLOOKUP(B18,[1]Sheet1!B$4:H$8446,7,0) -> 65 | I18: =IF(H18>=90,"Xuất sắc",IF(H18>=80,"Tốt", IF(H18>=65,"Khá",IF(H18>=50,"Trung bình", IF(H18>=35, "Yếu", "Kém"))))) -> Khá | J18: =VLOOKUP(B18,[1]Sheet1!B$4:K$8446,9,0) -> 65 | K18: =IF(J18>=90,"Xuất sắc",IF(J18>=80,"Tốt", IF(J18>=65,"Khá",IF(J18>=50,"Trung bình", IF(J18>=35, "Yếu", "Kém"))))) -> Khá
A19: 7 | B19: 23020727 | C19: Tô Văn Chúc | D19: 38599 | E19: =VLOOKUP(B19,[1]Sheet1!B$4:L$8446,4,0) -> 80 | F19: =VLOOKUP(B19,[1]Sheet1!B$4:F$8446,5,0) -> 80 | G19: =VLOOKUP(B19,[1]Sheet1!B$4:J$8446,6,0) -> 80 | H19: =VLOOKUP(B19,[1]Sheet1!B$4:H$8446,7,0) -> 80 | I19: =IF(H19>=90,"Xuất sắc",IF(H19>=80,"Tốt", IF(H19>=65,"Khá",IF(H19>=50,"Trung bình", IF(H19>=35, "Yếu", "Kém"))))) -> Tốt | J19: =VLOOKUP(B19,[1]Sheet1!B$4:K$8446,9,0) -> 80 | K19: =IF(J19>=90,"Xuất sắc",IF(J19>=80,"Tốt", IF(J19>=65,"Khá",IF(J19>=50,"Trung bình", IF(J19>=35, "Yếu", "Kém"))))) -> Tốt
A20: 8 | B20: 23020725 | C20: Hoa Mạnh Cường | D20: 38486 | E20: =VLOOKUP(B20,[1]Sheet1!B$4:L$8446,4,0) -> 70 | F20: =VLOOKUP(B20,[1]Sheet1!B$4:F$8446,5,0) -> 67 | G20: =VLOOKUP(B20,[1]Sheet1!B$4:J$8446,6,0) -> 67 | H20: =VLOOKUP(B20,[1]Sheet1!B$4:H$8446,7,0) -> 67 | I20: =IF(H20>=90,"Xuất sắc",IF(H20>=80,"Tốt", IF(H20>=65,"Khá",IF(H20>=50,"Trung bình", IF(H20>=35, "Yếu", "Kém"))))) -> Khá | J20: =VLOOKUP(B20,[1]Sheet1!B$4:K$8446,9,0) -> 67 | K20: =IF(J20>=90,"Xuất sắc",IF(J20>=80,"Tốt", IF(J20>=65,"Khá",IF(J20>=50,"Trung bình", IF(J20>=35, "Yếu", "Kém"))))) -> Khá
A21: 9 | B21: 23020728 | C21: Bùi Mạnh Dũng | D21: 38545 | E21: =VLOOKUP(B21,[1]Sheet1!B$4:L$8446,4,0) -> 94 | F21: =VLOOKUP(B21,[1]Sheet1!B$4:F$8446,5,0) -> 92 | G21: =VLOOKUP(B21,[1]Sheet1!B$4:J$8446,6,0) -> 92 | H21: =VLOOKUP(B21,[1]Sheet1!B$4:H$8446,7,0) -> 92 | I21: =IF(H21>=90,"Xuất sắc",IF(H21>=80,"Tốt", IF(H21>=65,"Khá",IF(H21>=50,"Trung bình", IF(H21>=35, "Yếu", "Kém"))))) -> Xuất sắc | J21: =VLOOKUP(B21,[1]Sheet1!B$4:K$8446,9,0) -> 92 | K21: =IF(J21>=90,"Xuất sắc",IF(J21>=80,"Tốt", IF(J21>=65,"Khá",IF(J21>=50,"Trung bình", IF(J21>=35, "Yếu", "Kém"))))) -> Xuất sắc
A22: 10 | B22: 23020729 | C22: Kiều Minh Dũng | D22: 38715 | E22: =VLOOKUP(B22,[1]Sheet1!B$4:L$8446,4,0) -> 87 | F22: =VLOOKUP(B22,[1]Sheet1!B$4:F$8446,5,0) -> 77 | G22: =VLOOKUP(B22,[1]Sheet1!B$4:J$8446,6,0) -> 77 | H22: =VLOOKUP(B22,[1]Sheet1!B$4:H$8446,7,0) -> 77 | I22: =IF(H22>=90,"Xuất sắc",IF(H22>=80,"Tốt", IF(H22>=65,"Khá",IF(H22>=50,"Trung bình", IF(H22>=35, "Yếu", "Kém"))))) -> Khá | J22: =VLOOKUP(B22,[1]Sheet1!B$4:K$8446,9,0) -> 77 | K22: =IF(J22>=90,"Xuất sắc",IF(J22>=80,"Tốt", IF(J22>=65,"Khá",IF(J22>=50,"Trung bình", IF(J22>=35, "Yếu", "Kém"))))) -> Khá
A23: 11 | B23: 23020730 | C23: Thân Thế Trí Dũng | D23: 38382 | E23: =VLOOKUP(B23,[1]Sheet1!B$4:L$8446,4,0) -> 85 | F23: =VLOOKUP(B23,[1]Sheet1!B$4:F$8446,5,0) -> 80 | G23: =VLOOKUP(B23,[1]Sheet1!B$4:J$8446,6,0) -> 80 | H23: =VLOOKUP(B23,[1]Sheet1!B$4:H$8446,7,0) -> 80 | I23: =IF(H23>=90,"Xuất sắc",IF(H23>=80,"Tốt", IF(H23>=65,"Khá",IF(H23>=50,"Trung bình", IF(H23>=35, "Yếu", "Kém"))))) -> Tốt | J23: =VLOOKUP(B23,[1]Sheet1!B$4:K$8446,9,0) -> 80 | K23: =IF(J23>=90,"Xuất sắc",IF(J23>=80,"Tốt", IF(J23>=65,"Khá",IF(J23>=50,"Trung bình", IF(J23>=35, "Yếu", "Kém"))))) -> Tốt
A24: 12 | B24: 23020731 | C24: Nguyễn Đức Duy | D24: 38666 | E24: =VLOOKUP(B24,[1]Sheet1!B$4:L$8446,4,0) -> 80 | F24: =VLOOKUP(B24,[1]Sheet1!B$4:F$8446,5,0) -> 75 | G24: =VLOOKUP(B24,[1]Sheet1!B$4:J$8446,6,0) -> 75 | H24: =VLOOKUP(B24,[1]Sheet1!B$4:H$8446,7,0) -> 75 | I24: =IF(H24>=90,"Xuất sắc",IF(H24>=80,"Tốt", IF(H24>=65,"Khá",IF(H24>=50,"Trung bình", IF(H24>=35, "Yếu", "Kém"))))) -> Khá | J24: =VLOOKUP(B24,[1]Sheet1!B$4:K$8446,9,0) -> 75 | K24: =IF(J24>=90,"Xuất sắc",IF(J24>=80,"Tốt", IF(J24>=65,"Khá",IF(J24>=50,"Trung bình", IF(J24>=35, "Yếu", "Kém"))))) -> Khá
... A68: 56 | B68: 23020778 | C68: Lê Minh Tuấn Vũ | D68: 38399 | E68: =VLOOKUP(B68,[1]Sheet1!B$4:L$8446,4,0) -> 80 | F68: =VLOOKUP(B68,[1]Sheet1!B$4:F$8446,5,0) -> 75 | G68: =VLOOKUP(B68,[1]Sheet1!B$4:J$8446,6,0) -> 75 | H68: =VLOOKUP(B68,[1]Sheet1!B$4:H$8446,7,0) -> 75 | I68: =IF(H68>=90,"Xuất sắc",IF(H68>=80,"Tốt", IF(H68>=65,"Khá",IF(H68>=50,"Trung bình", IF(H68>=35, "Yếu", "Kém"))))) -> Khá | J68: =VLOOKUP(B68,[1]Sheet1!B$4:K$8446,9,0) -> 75 | K68: =IF(J68>=90,"Xuất sắc",IF(J68>=80,"Tốt", IF(J68>=65,"Khá",IF(J68>=50,"Trung bình", IF(J68>=35, "Yếu", "Kém"))))) -> Khá
A70: Ấn định danh sách có 56 sinh viên./.

Sheet K68EEC1
A1: ĐẠI HỌC QUỐC GIA HÀ NỘI | G1: CỘNG HÒA XÃ HỘI CHỦ NGHĨA VIỆT NAM
A2: TRƯỜNG ĐẠI HỌC CÔNG NGHỆ | G2: Độc lập - Tự do - Hạnh phúc
A5: BẢNG TỔNG HỢP KẾT QUẢ RÈN LUYỆN CỦA SINH VIÊN
A6: LỚP QH-2023-I/CQ-E-EC1, HỌC KỲ 2, NĂM HỌC 2024-2025
A7: KHOA ĐIỆN TỬ VIỄN THÔNG
A10: STT | B10: MASV | C10: Họ và tên | D10: Ngày sinh | E10: Điểm tự ĐG | F10: Điểm BCS | G10: Điểm GVCN | H10: Điểm KL | J10: Điểm KL
H11: HĐ cấp Khoa | J11: HĐ cấp Trường (dự kiến)
H12: Điểm | I12: Xếp loại | J12: Điểm | K12: Xếp loại
A13: 1 | B13: 23021758 | C13: Nguyễn Mạnh An | D13: 38392 | E13: =VLOOKUP(B13,[1]Sheet1!B$4:L$8446,4,0) -> 80 | F13: =VLOOKUP(B13,[1]Sheet1!B$4:F$8446,5,0) -> 80 | G13: =VLOOKUP(B13,[1]Sheet1!B$4:J$8446,6,0) -> 80 | H13: =VLOOKUP(B13,[1]Sheet1!B$4:H$8446,7,0) -> 80 | I13: =IF(H13>=90,"Xuất sắc",IF(H13>=80,"Tốt", IF(H13>=65,"Khá",IF(H13>=50,"Trung bình", IF(H13>=35, "Yếu", "Kém"))))) -> Tốt | J13: =VLOOKUP(B13,[1]Sheet1!B$4:K$8446,9,0) -> 80 | K13: =IF(J13>=90,"Xuất sắc",IF(J13>=80,"Tốt", IF(J13>=65,"Khá",IF(J13>=50,"Trung bình", IF(J13>=35, "Yếu", "Kém"))))) -> Tốt
A14: 2 | B14: 23021760 | C14: Bùi Tuấn Anh | D14: 38468 | E14: =VLOOKUP(B14,[1]Sheet1!B$4:L$8446,4,0) -> 90 | F14: =VLOOKUP(B14,[1]Sheet1!B$4:F$8446,5,0) -> 90 | G14: =VLOOKUP(B14,[1]Sheet1!B$4:J$8446,6,0) -> 90 | H14: =VLOOKUP(B14,[1]Sheet1!B$4:H$8446,7,0) -> 90 | I14: =IF(H14>=90,"Xuất sắc",IF(H14>=80,"Tốt", IF(H14>=65,"Khá",IF(H14>=50,"Trung bình", IF(H14>=35, "Yếu", "Kém"))))) -> Xuất sắc | J14: =VLOOKUP(B14,[1]Sheet1!B$4:K$8446,9,0) -> 90 | K14: =IF(J14>=90,"Xuất sắc",IF(J14>=80,"Tốt", IF(J14>=65,"Khá",IF(J14>=50,"Trung bình", IF(J14>=35, "Yếu", "Kém"))))) -> Xuất sắc
A15: 3 | B15: 23021762 | C15: Hà Quỳnh Anh | D15: 38531 | E15: =VLOOKUP(B15,[1]Sheet1!B$4:L$8446,4,0) -> 86 | F15: =VLOOKUP(B15,[1]Sheet1!B$4:F$8446,5,0) -> 86 | G15: =VLOOKUP(B15,[1]Sheet1!B$4:J$8446,6,0) -> 86 | H15: =VLOOKUP(B15,[1]Sheet1!B$4:H$8446,7,0) -> 86 | I15: =IF(H15>=90,"Xuất sắc",IF(H15>=80,"Tốt", IF(H15>=65,"Khá",IF(H15>=50,"Trung bình", IF(H15>=35, "Yếu", "Kém"))))) -> Tốt | J15: =VLOOKUP(B15,[1]Sheet1!B$4:K$8446,9,0) -> 86 | K15: =IF(J15>=90,"Xuất sắc",IF(J15>=80,"Tốt", IF(J15>=65,"Khá",IF(J15>=50,"Trung bình", IF(J15>=35, "Yếu", "Kém"))))) -> Tốt
A16: 4 | B16: 23021764 | C16: Lương Thị Mai Anh | D16: 38536 | E16: =VLOOKUP(B16,[1]Sheet1!B$4:L$8446,4,0) -> 100 | F16: =VLOOKUP(B16,[1]Sheet1!B$4:F$8446,5,0) -> 100 | G16: =VLOOKUP(B16,[1]Sheet1!B$4:J$8446,6,0) -> 100 | H16: =VLOOKUP(B16,[1]Sheet1!B$4:H$8446,7,0) -> 100 | I16: =IF(H16>=90,"Xuất sắc",IF(H16>=80,"Tốt", IF(H16>=65,"Khá",IF(H16>=50,"Trung bình", IF(H16>=35, "Yếu", "Kém"))))) -> Xuất sắc | J16: =VLOOKUP(B16,[1]Sheet1!B$4:K$8446,9,0) -> 100 | K16: =IF(J16>=90,"Xuất sắc",IF(J16>=80,"Tốt", IF(J16>=65,"Khá",IF(J16>=50,"Trung bình", IF(J16>=35, "Yếu", "Kém"))))) -> Xuất sắc
A17: 5 | B17: 23021766 | C17: Nguyễn Hoàng Anh | D17: 38515 | E17: =VLOOKUP(B17,[1]Sheet1!B$4:L$8446,4,0) -> 0 | F17: =VLOOKUP(B17,[1]Sheet1!B$4:F$8446,5,0) -> 0 | G17: =VLOOKUP(B17,[1]Sheet1!B$4:J$8446,6,0) -> 0 | H17: =VLOOKUP(B17,[1]Sheet1!B$4:H$8446,7,0) -> 0 | I17: =IF(H17>=90,"Xuất sắc",IF(H17>=80,"Tốt", IF(H17>=65,"Khá",IF(H17>=50,"Trung bình", IF(H17>=35, "Yếu", "Kém"))))) -> Kém | J17: =VLOOKUP(B17,[1]Sheet1!B$4:K$8446,9,0) -> 0 | K17: =IF(J17>=90,"Xuất sắc",IF(J17>=80,"Tốt", IF(J17>=65,"Khá",IF(J17>=50,"Trung bình", IF(J17>=35, "Yếu", "Kém"))))) -> Kém
A18: 6 | B18: 23021768 | C18: Nguyễn Dương Bảo | D18: 38449 | E18: =VLOOKUP(B18,[1]Sheet1!B$4:L$8446,4,0) -> 90 | F18: =VLOOKUP(B18,[1]Sheet1!B$4:F$8446,5,0) -> 90 | G18: =VLOOKUP(B18,[1]Sheet1!B$4:J$8446,6,0) -> 90 | H18: =VLOOKUP(B18,[1]Sheet1!B$4:H$8446,7,0) -> 90 | I18: =IF(H18>=90,"Xuất sắc",IF(H18>=80,"Tốt", IF(H18>=65,"Khá",IF(H18>=50,"Trung bình", IF(H18>=35, "Yếu", "Kém"))))) -> Xuất sắc | J18: =VLOOKUP(B18,[1]Sheet1!B$4:K$8446,9,0) -> 90 | K18: =IF(J18>=90,"Xuất sắc",IF(J18>=80,"Tốt", IF(J18>=65,"Khá",IF(J18>=50,"Trung bình", IF(J18>=35, "Yếu", "Kém"))))) -> Xuất sắc
A19: 7 | B19: 23021772 | C19: Lương Hùng Bình | D19: 38702 | E19: =VLOOKUP(B19,[1]Sheet1!B$4:L$8446,4,0) -> 80 | F19: =VLOOKUP(B19,[1]Sheet1!B$4:F$8446,5,0) -> 80 | G19: =VLOOKUP(B19,[1]Sheet1!B$4:J$8446,6,0) -> 80 | H19: =VLOOKUP(B19,[1]Sheet1!B$4:H$8446,7,0) -> 80 | I19: =IF(H19>=90,"Xuất sắc",IF(H19>=80,"Tốt", IF(H19>=65,"Khá",IF(H19>=50,"Trung bình", IF(H19>=35, "Yếu", "Kém"))))) -> Tốt | J19: =VLOOKUP(B19,[1]Sheet1!B$4:K$8446,9,0) -> 80 | K19: =IF(J19>=90,"Xuất sắc",IF(J19>=80,"Tốt", IF(J19>=65,"Khá",IF(J19>=50,"Trung bình", IF(J19>=35, "Yếu", "Kém"))))) -> Tốt
A20: 8 | B20: 23021774 | C20: Lê Minh Châu | D20: 38569 | E20: =VLOOKUP(B20,[1]Sheet1!B$4:L$8446,4,0) -> 90 | F20: =VLOOKUP(B20,[1]Sheet1!B$4:F$8446,5,0) -> 87 | G20: =VLOOKUP(B20,[1]Sheet1!B$4:J$8446,6,0) -> 87 | H20: =VLOOKUP(B20,[1]Sheet1!B$4:H$8446,7,0) -> 87 | I20: =IF(H20>=90,"Xuất sắc",IF(H20>=80,"Tốt", IF(H20>=65,"Khá",IF(H20>=50,"Trung bình", IF(H20>=35, "Yếu", "Kém"))))) -> Tốt | J20: =VLOOKUP(B20,[1]Sheet1!B$4:K$8446,9,0) -> 87 | K20: =IF(J20>=90,"Xuất sắc",IF(J20>=80,"Tốt", IF(J20>=65,"Khá",IF(J20>=50,"Trung bình", IF(J20>=35, "Yếu", "Kém"))))) -> Tốt
A21: 9 | B21: 23021776 | C21: Nguyễn Thế Doanh | D21: 38431 | E21: =VLOOKUP(B21,[1]Sheet1!B$4:L$8446,4,0) -> 80 | F21: =VLOOKUP(B21,[1]Sheet1!B$4:F$8446,5,0) -> 80 | G21: =VLOOKUP(B21,[1]Sheet1!B$4:J$8446,6,0) -> 80 | H21: =VLOOKUP(B21,[1]Sheet1!B$4:H$8446,7,0) -> 80 | I21: =IF(H21>=90,"Xuất sắc",IF(H21>=80,"Tốt", IF(H21>=65,"Khá",IF(H21>=50,"Trung bình", IF(H21>=35, "Yếu", "Kém"))))) -> Tốt | J21: =VLOOKUP(B21,[1]Sheet1!B$4:K$8446,9,0) -> 80 | K21: =IF(J21>=90,"Xuất sắc",IF(J21>=80,"Tốt", IF(J21>=65,"Khá",IF(J21>=50,"Trung bình", IF(J21>=35, "Yếu", "Kém"))))) -> Tốt
A22: 10 | B22: 23021778 | C22: Dương Đức Dũng | D22: 38416 | E22: =VLOOKUP(B22,[1]Sheet1!B$4:L$8446,4,0) -> 80 | F22: =VLOOKUP(B22,[1]Sheet1!B$4:F$8446,5,0) -> 80 | G22: =VLOOKUP(B22,[1]Sheet1!B$4:J$8446,6,0) -> 80 | H22: =VLOOKUP(B22,[1]Sheet1!B$4:H$8446,7,0) -> 80 | I22: =IF(H22>=90,"Xuất sắc",IF(H22>=80,"Tốt", IF(H22>=65,"Khá",IF(H22>=50,"Trung bình", IF(H22>=35, "Yếu", "Kém"))))) -> Tốt | J22: =VLOOKUP(B22,[1]Sheet1!B$4:K$8446,9,0) -> 80 | K22: =IF(J22>=90,"Xuất sắc",IF(J22>=80,"Tốt", IF(J22>=65,"Khá",IF(J22>=50,"Trung bình", IF(J22>=35, "Yếu", "Kém"))))) -> Tốt
A23: 11 | B23: 23021780 | C23: Ngô Tiến Dũng | D23: 38494 | E23: =VLOOKUP(B23,[1]Sheet1!B$4:L$8446,4,0) -> 80 | F23: =VLOOKUP(B23,[1]Sheet1!B$4:F$8446,5,0) -> 80 | G23: =VLOOKUP(B23,[1]Sheet1!B$4:J$8446,6,0) -> 80 | H23: =VLOOKUP(B23,[1]Sheet1!B$4:H$8446,7,0) -> 80 | I23: =IF(H23>=90,"Xuất sắc",IF(H23>=80,"Tốt", IF(H23>=65,"Khá",IF(H23>=50,"Trung bình", IF(H23>=35, "Yếu", "Kém"))))) -> Tốt | J23: =VLOOKUP(B23,[1]Sheet1!B$4:K$8446,9,0) -> 80 | K23: =IF(J23>=90,"Xuất sắc",IF(J23>=80,"Tốt", IF(J23>=65,"Khá",IF(J23>=50,"Trung bình", IF(J23>=35, "Yếu", "Kém"))))) -> Tốt
A24: 12 | B24: 23021782 | C24: Nguyễn Quang Dũng | D24: 38625 | E24: =VLOOKUP(B24,[1]Sheet1!B$4:L$8446,4,0) -> 80 | F24: =VLOOKUP(B24,[1]Sheet1!B$4:F$8446,5,0) -> 75 | G24: =VLOOKUP(B24,[1]Sheet1!B$4:J$8446,6,0) -> 75 | H24: =VLOOKUP(B24,[1]Sheet1!B$4:H$8446,7,0) -> 75 | I24: =IF(H24>=90,"Xuất sắc",IF(H24>=80,"Tốt", IF(H24>=65,"Khá",IF(H24>=50,"Trung bình", IF(H24>=35, "Yếu", "Kém"))))) -> Khá | J24: =VLOOKUP(B24,[1]Sheet1!B$4:K$8446,9,0) -> 75 | K24: =IF(J24>=90,"Xuất sắc",IF(J24>=80,"Tốt", IF(J24>=65,"Khá",IF(J24>=50,"Trung bình", IF(J24>=35, "Yếu", "Kém"))))) -> Khá
... A98: 86 | B98: 23021936 | C98: Phan Tùng Vũ | D98: 38420 | E98: =VLOOKUP(B98,[1]Sheet1!B$4:L$8446,4,0) -> 70 | F98: =VLOOKUP(B98,[1]Sheet1!B$4:F$8446,5,0) -> 77 | G98: =VLOOKUP(B98,[1]Sheet1!B$4:J$8446,6,0) -> 77 | H98: =VLOOKUP(B98,[1]Sheet1!B$4:H$8446,7,0) -> 77 | I98: =IF(H98>=90,"Xuất sắc",IF(H98>=80,"Tốt", IF(H98>=65,"Khá",IF(H98>=50,"Trung bình", IF(H98>=35, "Yếu", "Kém"))))) -> Khá | J98: =VLOOKUP(B98,[1]Sheet1!B$4:K$8446,9,0) -> 77 | K98: =IF(J98>=90,"Xuất sắc",IF(J98>=80,"Tốt", IF(J98>=65,"Khá",IF(J98>=50,"Trung bình", IF(J98>=35, "Yếu", "Kém"))))) -> Khá
A100: Ấn định danh sách có 86 sinh viên./.

Sheet K68EEC2
A1: ĐẠI HỌC QUỐC GIA HÀ NỘI | G1: CỘNG HÒA XÃ HỘI CHỦ NGHĨA VIỆT NAM
A2: TRƯỜNG ĐẠI HỌC CÔNG NGHỆ | G2: Độc lập - Tự do - Hạnh phúc
A5: BẢNG TỔNG HỢP KẾT QUẢ RÈN LUYỆN CỦA SINH VIÊN
A6: LỚP QH-2023-I/CQ-E-EC2, HỌC KỲ 2, NĂM HỌC 2024-2025
A7: KHOA ĐIỆN TỬ VIỄN THÔNG
A10: STT | B10: MASV | C10: Họ và tên | D10: Ngày sinh | E10: Điểm tự ĐG | F10: Điểm BCS | G10: Điểm GVCN | H10: Điểm KL | J10: Điểm KL
H11: HĐ cấp Khoa | J11: HĐ cấp Trường (dự kiến)
H12: Điểm | I12: Xếp loại | J12: Điểm | K12: Xếp loại
A13: 1 | B13: 23021759 | C13: Nguyễn Thành An | D13: 38653 | E13: =VLOOKUP(B13,[1]Sheet1!B$4:L$8446,4,0) -> 82 | F13: =VLOOKUP(B13,[1]Sheet1!B$4:F$8446,5,0) -> 82 | G13: =VLOOKUP(B13,[1]Sheet1!B$4:J$8446,6,0) -> 82 | H13: =VLOOKUP(B13,[1]Sheet1!B$4:H$8446,7,0) -> 82 | I13: =IF(H13>=90,"Xuất sắc",IF(H13>=80,"Tốt", IF(H13>=65,"Khá",IF(H13>=50,"Trung bình", IF(H13>=35, "Yếu", "Kém"))))) -> Tốt | J13: =VLOOKUP(B13,[1]Sheet1!B$4:K$8446,9,0) -> 82 | K13: =IF(J13>=90,"Xuất sắc",IF(J13>=80,"Tốt", IF(J13>=65,"Khá",IF(J13>=50,"Trung bình", IF(J13>=35, "Yếu", "Kém"))))) -> Tốt
A14: 2 | B14: 23021761 | C14: Bùi Việt Anh | D14: 38537 | E14: =VLOOKUP(B14,[1]Sheet1!B$4:L$8446,4,0) -> 80 | F14: =VLOOKUP(B14,[1]Sheet1!B$4:F$8446,5,0) -> 80 | G14: =VLOOKUP(B14,[1]Sheet1!B$4:J$8446,6,0) -> 80 | H14: =VLOOKUP(B14,[1]Sheet1!B$4:H$8446,7,0) -> 80 | I14: =IF(H14>=90,"Xuất sắc",IF(H14>=80,"Tốt", IF(H14>=65,"Khá",IF(H14>=50,"Trung bình", IF(H14>=35, "Yếu", "Kém"))))) -> Tốt | J14: =VLOOKUP(B14,[1]Sheet1!B$4:K$8446,9,0) -> 80 | K14: =IF(J14>=90,"Xuất sắc",IF(J14>=80,"Tốt", IF(J14>=65,"Khá",IF(J14>=50,"Trung bình", IF(J14>=35, "Yếu", "Kém"))))) -> Tốt
A15: 3 | B15: 23021763 | C15: Lê Đình Long Anh | D15: 38385 | E15: =VLOOKUP(B15,[1]Sheet1!B$4:L$8446,4,0) -> 86 | F15: =VLOOKUP(B15,[1]Sheet1!B$4:F$8446,5,0) -> 86 | G15: =VLOOKUP(B15,[1]Sheet1!B$4:J$8446,6,0) -> 86 | H15: =VLOOKUP(B15,[1]Sheet1!B$4:H$8446,7,0) -> 86 | I15: =IF(H15>=90,"Xuất sắc",IF(H15>=80,"Tốt", IF(H15>=65,"Khá",IF(H15>=50,"Trung bình", IF(H15>=35, "Yếu", "Kém"))))) -> Tốt | J15: =VLOOKUP(B15,[1]Sheet1!B$4:K$8446,9,0) -> 86 | K15: =IF(J15>=90,"Xuất sắc",IF(J15>=80,"Tốt", IF(J15>=65,"Khá",IF(J15>=50,"Trung bình", IF(J15>=35, "Yếu", "Kém"))))) -> Tốt
A16: 4 | B16: 23021765 | C16: Nguyễn Hải Anh | D16: 38696 | E16: =VLOOKUP(B16,[1]Sheet1!B$4:L$8446,4,0) -> 80 | F16: =VLOOKUP(B16,[1]Sheet1!B$4:F$8446,5,0) -> 77 | G16: =VLOOKUP(B16,[1]Sheet1!B$4:J$8446,6,0) -> 77 | H16: =VLOOKUP(B16,[1]Sheet1!B$4:H$8446,7,0) -> 77 | I16: =IF(H16>=90,"Xuất sắc",IF(H16>=80,"Tốt", IF(H16>=65,"Khá",IF(H16>=50,"Trung bình", IF(H16>=35, "Yếu", "Kém"))))) -> Khá | J16: =VLOOKUP(B16,[1]Sheet1!B$4:K$8446,9,0) -> 77 | K16: =IF(J16>=90,"Xuất sắc",IF(J16>=80,"Tốt", IF(J16>=65,"Khá",IF(J16>=50,"Trung bình", IF(J16>=35, "Yếu", "Kém"))))) -> Khá
A17: 5 | B17: 23021769 | C17: Nguyễn Quốc Bảo | D17: 38436 | E17: =VLOOKUP(B17,[1]Sheet1!B$4:L$8446,4,0) -> 80 | F17: =VLOOKUP(B17,[1]Sheet1!B$4:F$8446,5,0) -> 80 | G17: =VLOOKUP(B17,[1]Sheet1!B$4:J$8446,6,0) -> 80 | H17: =VLOOKUP(B17,[1]Sheet1!B$4:H$8446,7,0) -> 80 | I17: =IF(H17>=90,"Xuất sắc",IF(H17>=80,"Tốt", IF(H17>=65,"Khá",IF(H17>=50,"Trung bình", IF(H17>=35, "Yếu", "Kém"))))) -> Tốt | J17: =VLOOKUP(B17,[1]Sheet1!B$4:K$8446,9,0) -> 80 | K17: =IF(J17>=90,"Xuất sắc",IF(J17>=80,"Tốt", IF(J17>=65,"Khá",IF(J17>=50,"Trung bình", IF(J17>=35, "Yếu", "Kém"))))) -> Tốt
A18: 6 | B18: 23021770 | C18: Nguyễn Thị Ngọc Bích | D18: 38412 | E18: =VLOOKUP(B18,[1]Sheet1!B$4:L$8446,4,0) -> 98 | F18: =VLOOKUP(B18,[1]Sheet1!B$4:F$8446,5,0) -> 98 | G18: =VLOOKUP(B18,[1]Sheet1!B$4:J$8446,6,0) -> 98 | H18: =VLOOKUP(B18,[1]Sheet1!B$4:H$8446,7,0) -> 98 | I18: =IF(H18>=90,"Xuất sắc",IF(H18>=80,"Tốt", IF(H18>=65,"Khá",IF(H18>=50,"Trung bình", IF(H18>=35, "Yếu", "Kém"))))) -> Xuất sắc | J18: =VLOOKUP(B18,[1]Sheet1!B$4:K$8446,9,0) -> 98 | K18: =IF(J18>=90,"Xuất sắc",IF(J18>=80,"Tốt", IF(J18>=65,"Khá",IF(J18>=50,"Trung bình", IF(J18>=35, "Yếu", "Kém"))))) -> Xuất sắc
A19: 7 | B19: 23021771 | C19: Lê Đức Bình | D19: 38505 | E19: =VLOOKUP(B19,[1]Sheet1!B$4:L$8446,4,0) -> 80 | F19: =VLOOKUP(B19,[1]Sheet1!B$4:F$8446,5,0) -> 80 | G19: =VLOOKUP(B19,[1]Sheet1!B$4:J$8446,6,0) -> 80 | H19: =VLOOKUP(B19,[1]Sheet1!B$4:H$8446,7,0) -> 80 | I19: =IF(H19>=90,"Xuất sắc",IF(H19>=80,"Tốt", IF(H19>=65,"Khá",IF(H19>=50,"Trung bình", IF(H19>=35, "Yếu", "Kém"))))) -> Tốt | J19: =VLOOKUP(B19,[1]Sheet1!B$4:K$8446,9,0) -> 80 | K19: =IF(J19>=90,"Xuất sắc",IF(J19>=80,"Tốt", IF(J19>=65,"Khá",IF(J19>=50,"Trung bình", IF(J19>=35, "Yếu", "Kém"))))) -> Tốt
A20: 8 | B20: 23021775 | C20: Nguyễn Hữu Chuyên | D20: 38586 | E20: =VLOOKUP(B20,[1]Sheet1!B$4:L$8446,4,0) -> 70 | F20: =VLOOKUP(B20,[1]Sheet1!B$4:F$8446,5,0) -> 80 | G20: =VLOOKUP(B20,[1]Sheet1!B$4:J$8446,6,0) -> 80 | H20: =VLOOKUP(B20,[1]Sheet1!B$4:H$8446,7,0) -> 80 | I20: =IF(H20>=90,"Xuất sắc",IF(H20>=80,"Tốt", IF(H20>=65,"Khá",IF(H20>=50,"Trung bình", IF(H20>=35, "Yếu", "Kém"))))) -> Tốt | J20: =VLOOKUP(B20,[1]Sheet1!B$4:K$8446,9,0) -> 80 | K20: =IF(J20>=90,"Xuất sắc",IF(J20>=80,"Tốt", IF(J20>=65,"Khá",IF(J20>=50,"Trung bình", IF(J20>=35, "Yếu", "Kém"))))) -> Tốt
A21: 9 | B21: 23021773 | C21: Nguyễn Quốc Cường | D21: 38573 | E21: =VLOOKUP(B21,[1]Sheet1!B$4:L$8446,4,0) -> 81 | F21: =VLOOKUP(B21,[1]Sheet1!B$4:F$8446,5,0) -> 81 | G21: =VLOOKUP(B21,[1]Sheet1!B$4:J$8446,6,0) -> 81 | H21: =VLOOKUP(B21,[1]Sheet1!B$4:H$8446,7,0) -> 81 | I21: =IF(H21>=90,"Xuất sắc",IF(H21>=80,"Tốt", IF(H21>=65,"Khá",IF(H21>=50,"Trung bình", IF(H21>=35, "Yếu", "Kém"))))) -> Tốt | J21: =VLOOKUP(B21,[1]Sheet1!B$4:K$8446,9,0) -> 81 | K21: =IF(J21>=90,"Xuất sắc",IF(J21>=80,"Tốt", IF(J21>=65,"Khá",IF(J21>=50,"Trung bình", IF(J21>=35, "Yếu", "Kém"))))) -> Tốt
A22: 10 | B22: 23021777 | C22: Bùi Đức Dũng | D22: 38581 | E22: =VLOOKUP(B22,[1]Sheet1!B$4:L$8446,4,0) -> 80 | F22: =VLOOKUP(B22,[1]Sheet1!B$4:F$8446,5,0) -> 77 | G22: =VLOOKUP(B22,[1]Sheet1!B$4:J$8446,6,0) -> 77 | H22: =VLOOKUP(B22,[1]Sheet1!B$4:H$8446,7,0) -> 77 | I22: =IF(H22>=90,"Xuất sắc",IF(H22>=80,"Tốt", IF(H22>=65,"Khá",IF(H22>=50,"Trung bình", IF(H22>=35, "Yếu", "Kém"))))) -> Khá | J22: =VLOOKUP(B22,[1]Sheet1!B$4:K$8446,9,0) -> 77 | K22: =IF(J22>=90,"Xuất sắc",IF(J22>=80,"Tốt", IF(J22>=65,"Khá",IF(J22>=50,"Trung bình", IF(J22>=35, "Yếu", "Kém"))))) -> Khá
A23: 11 | B23: 23021779 | C23: Đỗ Tiến Dũng | D23: 38361 | E23: =VLOOKUP(B23,[1]Sheet1!B$4:L$8446,4,0) -> 80 | F23: =VLOOKUP(B23,[1]Sheet1!B$4:F$8446,5,0) -> 80 | G23: =VLOOKUP(B23,[1]Sheet1!B$4:J$8446,6,0) -> 80 | H23: =VLOOKUP(B23,[1]Sheet1!B$4:H$8446,7,0) -> 80 | I23: =IF(H23>=90,"Xuất sắc",IF(H23>=80,"Tốt", IF(H23>=65,"Khá",IF(H23>=50,"Trung bình", IF(H23>=35, "Yếu", "Kém"))))) -> Tốt | J23: =VLOOKUP(B23,[1]Sheet1!B$4:K$8446,9,0) -> 80 | K23: =IF(J23>=90,"Xuất sắc",IF(J23>=80,"Tốt", IF(J23>=65,"Khá",IF(J23>=50,"Trung bình", IF(J23>=35, "Yếu", "Kém"))))) -> Tốt
A24: 12 | B24: 23021783 | C24: Tăng Quang Dũng | D24: 38557 | E24: =VLOOKUP(B24,[1]Sheet1!B$4:L$8446,4,0) -> 80 | F24: =VLOOKUP(B24,[1]Sheet1!B$4:F$8446,5,0) -> 80 | G24: =VLOOKUP(B24,[1]Sheet1!B$4:J$8446,6,0) -> 80 | H24: =VLOOKUP(B24,[1]Sheet1!B$4:H$8446,7,0) -> 80 | I24: =IF(H24>=90,"Xuất sắc",IF(H24>=80,"Tốt", IF(H24>=65,"Khá",IF(H24>=50,"Trung bình", IF(H24>=35, "Yếu", "Kém"))))) -> Tốt | J24: =VLOOKUP(B24,[1]Sheet1!B$4:K$8446,9,0) -> 80 | K24: =IF(J24>=90,"Xuất sắc",IF(J24>=80,"Tốt", IF(J24>=65,"Khá",IF(J24>=50,"Trung bình", IF(J24>=35, "Yếu", "Kém"))))) -> Tốt
... A98: 86 | B98: 23021935 | C98: Phạm Tuấn Vũ | D98: 38540 | E98: =VLOOKUP(B98,[1]Sheet1!B$4:L$8446,4,0) -> 90 | F98: =VLOOKUP(B98,[1]Sheet1!B$4:F$8446,5,0) -> 90 | G98: =VLOOKUP(B98,[1]Sheet1!B$4:J$8446,6,0) -> 90 | H98: =VLOOKUP(B98,[1]Sheet1!B$4:H$8446,7,0) -> 90 | I98: =IF(H98>=90,"Xuất sắc",IF(H98>=80,"Tốt", IF(H98>=65,"Khá",IF(H98>=50,"Trung bình", IF(H98>=35, "Yếu", "Kém"))))) -> Xuất sắc | J98: =VLOOKUP(B98,[1]Sheet1!B$4:K$8446,9,0) -> 90 | K98: =IF(J98>=90,"Xuất sắc",IF(J98>=80,"Tốt", IF(J98>=65,"Khá",IF(J98>=50,"Trung bình", IF(J98>=35, "Yếu", "Kém"))))) -> Xuất sắc
A100: Ấn định danh sách có 87 sinh viên./.

Sheet K69ECE1
A1: ĐẠI HỌC QUỐC GIA HÀ NỘI | G1: CỘNG HÒA XÃ HỘI CHỦ NGHĨA VIỆT NAM
A2: TRƯỜNG ĐẠI HỌC CÔNG NGHỆ | G2: Độc lập - Tự do - Hạnh phúc
A5: BẢNG TỔNG HỢP KẾT QUẢ RÈN LUYỆN CỦA SINH VIÊN
A6: LỚP QH-2024-I/CQ-E-CE1, HỌC KỲ 2, NĂM HỌC 2024-2025
A7: KHOA ĐIỆN TỬ VIỄN THÔNG
A10: STT | B10: MASV | C10: Họ và tên | D10: Ngày sinh | E10: Điểm tự ĐG | F10: Điểm BCS | G10: Điểm GVCN | H10: Điểm KL | J10: Điểm KL
H11: HĐ cấp Khoa | J11: HĐ cấp Trường (dự kiến)
H12: Điểm | I12: Xếp loại | J12: Điểm | K12: Xếp loại
A13: 1 | B13: 24020371 | C13: Bùi Văn An | D13: 39004 | E13: =VLOOKUP(B13,[1]Sheet1!B$4:L$8446,4,0) -> 70 | F13: =VLOOKUP(B13,[1]Sheet1!B$4:F$8446,5,0) -> 80 | G13: =VLOOKUP(B13,[1]Sheet1!B$4:J$8446,6,0) -> 80 | H13: =VLOOKUP(B13,[1]Sheet1!B$4:H$8446,7,0) -> 80 | I13: =IF(H13>=90,"Xuất sắc",IF(H13>=80,"Tốt", IF(H13>=65,"Khá",IF(H13>=50,"Trung bình", IF(H13>=35, "Yếu", "Kém"))))) -> Tốt | J13: =VLOOKUP(B13,[1]Sheet1!B$4:K$8446,9,0) -> 80 | K13: =IF(J13>=90,"Xuất sắc",IF(J13>=80,"Tốt", IF(J13>=65,"Khá",IF(J13>=50,"Trung bình", IF(J13>=35, "Yếu", "Kém"))))) -> Tốt
A14: 2 | B14: 24020379 | C14: Hoàng Kim Anh | D14: 38941 | E14: =VLOOKUP(B14,[1]Sheet1!B$4:L$8446,4,0) -> 80 | F14: =VLOOKUP(B14,[1]Sheet1!B$4:F$8446,5,0) -> 80 | G14: =VLOOKUP(B14,[1]Sheet1!B$4:J$8446,6,0) -> 80 | H14: =VLOOKUP(B14,[1]Sheet1!B$4:H$8446,7,0) -> 80 | I14: =IF(H14>=90,"Xuất sắc",IF(H14>=80,"Tốt", IF(H14>=65,"Khá",IF(H14>=50,"Trung bình", IF(H14>=35, "Yếu", "Kém"))))) -> Tốt | J14: =VLOOKUP(B14,[1]Sheet1!B$4:K$8446,9,0) -> 80 | K14: =IF(J14>=90,"Xuất sắc",IF(J14>=80,"Tốt", IF(J14>=65,"Khá",IF(J14>=50,"Trung bình", IF(J14>=35, "Yếu", "Kém"))))) -> Tốt
A15: 3 | B15: 24020387 | C15: Nguyễn Huy Anh | D15: 38758 | E15: =VLOOKUP(B15,[1]Sheet1!B$4:L$8446,4,0) -> 70 | F15: =VLOOKUP(B15,[1]Sheet1!B$4:F$8446,5,0) -> 77 | G15: =VLOOKUP(B15,[1]Sheet1!B$4:J$8446,6,0) -> 77 | H15: =VLOOKUP(B15,[1]Sheet1!B$4:H$8446,7,0) -> 77 | I15: =IF(H15>=90,"Xuất sắc",IF(H15>=80,"Tốt", IF(H15>=65,"Khá",IF(H15>=50,"Trung bình", IF(H15>=35, "Yếu", "Kém"))))) -> Khá | J15: =VLOOKUP(B15,[1]Sheet1!B$4:K$8446,9,0) -> 77 | K15: =IF(J15>=90,"Xuất sắc",IF(J15>=80,"Tốt", IF(J15>=65,"Khá",IF(J15>=50,"Trung bình", IF(J15>=35, "Yếu", "Kém"))))) -> Khá
A16: 4 | B16: 24020395 | C16: Trần Quang Anh | D16: 39060 | E16: =VLOOKUP(B16,[1]Sheet1!B$4:L$8446,4,0) -> 80 | F16: =VLOOKUP(B16,[1]Sheet1!B$4:F$8446,5,0) -> 80 | G16: =VLOOKUP(B16,[1]Sheet1!B$4:J$8446,6,0) -> 80 | H16: =VLOOKUP(B16,[1]Sheet1!B$4:H$8446,7,0) -> 80 | I16: =IF(H16>=90,"Xuất sắc",IF(H16>=80,"Tốt", IF(H16>=65,"Khá",IF(H16>=50,"Trung bình", IF(H16>=35, "Yếu", "Kém"))))) -> Tốt | J16: =VLOOKUP(B16,[1]Sheet1!B$4:K$8446,9,0) -> 80 | K16: =IF(J16>=90,"Xuất sắc",IF(J16>=80,"Tốt", IF(J16>=65,"Khá",IF(J16>=50,"Trung bình", IF(J16>=35, "Yếu", "Kém"))))) -> Tốt
A17: 5 | B17: 24020403 | C17: Trần Ngọc Bảo | D17: 38785 | E17: =VLOOKUP(B17,[1]Sheet1!B$4:L$8446,4,0) -> 75 | F17: =VLOOKUP(B17,[1]Sheet1!B$4:F$8446,5,0) -> 80 | G17: =VLOOKUP(B17,[1]Sheet1!B$4:J$8446,6,0) -> 85 | H17: =VLOOKUP(B17,[1]Sheet1!B$4:H$8446,7,0) -> 85 | I17: =IF(H17>=90,"Xuất sắc",IF(H17>=80,"Tốt", IF(H17>=65,"Khá",IF(H17>=50,"Trung bình", IF(H17>=35, "Yếu", "Kém"))))) -> Tốt | J17: =VLOOKUP(B17,[1]Sheet1!B$4:K$8446,9,0) -> 85 | K17: =IF(J17>=90,"Xuất sắc",IF(J17>=80,"Tốt", IF(J17>=65,"Khá",IF(J17>=50,"Trung bình", IF(J17>=35, "Yếu", "Kém"))))) -> Tốt
A18: 6 | B18: 24020411 | C18: Lê Tài Bảo Châu | D18: 38771 | E18: =VLOOKUP(B18,[1]Sheet1!B$4:L$8446,4,0) -> 90 | F18: =VLOOKUP(B18,[1]Sheet1!B$4:F$8446,5,0) -> 90 | G18: =VLOOKUP(B18,[1]Sheet1!B$4:J$8446,6,0) -> 90 | H18: =VLOOKUP(B18,[1]Sheet1!B$4:H$8446,7,0) -> 90 | I18: =IF(H18>=90,"Xuất sắc",IF(H18>=80,"Tốt", IF(H18>=65,"Khá",IF(H18>=50,"Trung bình", IF(H18>=35, "Yếu", "Kém"))))) -> Xuất sắc | J18: =VLOOKUP(B18,[1]Sheet1!B$4:K$8446,9,0) -> 90 | K18: =IF(J18>=90,"Xuất sắc",IF(J18>=80,"Tốt", IF(J18>=65,"Khá",IF(J18>=50,"Trung bình", IF(J18>=35, "Yếu", "Kém"))))) -> Xuất sắc
A19: 7 | B19: 24020419 | C19: Bùi Văn Công | D19: 39045 | E19: =VLOOKUP(B19,[1]Sheet1!B$4:L$8446,4,0) -> 90 | F19: =VLOOKUP(B19,[1]Sheet1!B$4:F$8446,5,0) -> 90 | G19: =VLOOKUP(B19,[1]Sheet1!B$4:J$8446,6,0) -> 90 | H19: =VLOOKUP(B19,[1]Sheet1!B$4:H$8446,7,0) -> 90 | I19: =IF(H19>=90,"Xuất sắc",IF(H19>=80,"Tốt", IF(H19>=65,"Khá",IF(H19>=50,"Trung bình", IF(H19>=35, "Yếu", "Kém"))))) -> Xuất sắc | J19: =VLOOKUP(B19,[1]Sheet1!B$4:K$8446,9,0) -> 90 | K19: =IF(J19>=90,"Xuất sắc",IF(J19>=80,"Tốt", IF(J19>=65,"Khá",IF(J19>=50,"Trung bình", IF(J19>=35, "Yếu", "Kém"))))) -> Xuất sắc
A20: 8 | B20: 24020427 | C20: Nguyễn Quốc Cường | D20: 39000 | E20: =VLOOKUP(B20,[1]Sheet1!B$4:L$8446,4,0) -> 90 | F20: =VLOOKUP(B20,[1]Sheet1!B$4:F$8446,5,0) -> 90 | G20: =VLOOKUP(B20,[1]Sheet1!B$4:J$8446,6,0) -> 90 | H20: =VLOOKUP(B20,[1]Sheet1!B$4:H$8446,7,0) -> 90 | I20: =IF(H20>=90,"Xuất sắc",IF(H20>=80,"Tốt", IF(H20>=65,"Khá",IF(H20>=50,"Trung bình", IF(H20>=35, "Yếu", "Kém"))))) -> Xuất sắc | J20: =VLOOKUP(B20,[1]Sheet1!B$4:K$8446,9,0) -> 90 | K20: =IF(J20>=90,"Xuất sắc",IF(J20>=80,"Tốt", IF(J20>=65,"Khá",IF(J20>=50,"Trung bình", IF(J20>=35, "Yếu", "Kém"))))) -> Xuất sắc
A21: 9 | B21: 24020451 | C21: Đặng Tuấn Dũng | D21: 38943 | E21: =VLOOKUP(B21,[1]Sheet1!B$4:L$8446,4,0) -> 80 | F21: =VLOOKUP(B21,[1]Sheet1!B$4:F$8446,5,0) -> 80 | G21: =VLOOKUP(B21,[1]Sheet1!B$4:J$8446,6,0) -> 80 | H21: =VLOOKUP(B21,[1]Sheet1!B$4:H$8446,7,0) -> 80 | I21: =IF(H21>=90,"Xuất sắc",IF(H21>=80,"Tốt", IF(H21>=65,"Khá",IF(H21>=50,"Trung bình", IF(H21>=35, "Yếu", "Kém"))))) -> Tốt | J21: =VLOOKUP(B21,[1]Sheet1!B$4:K$8446,9,0) -> 80 | K21: =IF(J21>=90,"Xuất sắc",IF(J21>=80,"Tốt", IF(J21>=65,"Khá",IF(J21>=50,"Trung bình", IF(J21>=35, "Yếu", "Kém"))))) -> Tốt
A22: 10 | B22: 24020459 | C22: Vương Xuân Dũng | D22: 39060 | E22: =VLOOKUP(B22,[1]Sheet1!B$4:L$8446,4,0) -> 90 | F22: =VLOOKUP(B22,[1]Sheet1!B$4:F$8446,5,0) -> 90 | G22: =VLOOKUP(B22,[1]Sheet1!B$4:J$8446,6,0) -> 90 | H22: =VLOOKUP(B22,[1]Sheet1!B$4:H$8446,7,0) -> 90 | I22: =IF(H22>=90,"Xuất sắc",IF(H22>=80,"Tốt", IF(H22>=65,"Khá",IF(H22>=50,"Trung bình", IF(H22>=35, "Yếu", "Kém"))))) -> Xuất sắc | J22: =VLOOKUP(B22,[1]Sheet1!B$4:K$8446,9,0) -> 90 | K22: =IF(J22>=90,"Xuất sắc",IF(J22>=80,"Tốt", IF(J22>=65,"Khá",IF(J22>=50,"Trung bình", IF(J22>=35, "Yếu", "Kém"))))) -> Xuất sắc
A23: 11 | B23: 24020467 | C23: Hoàng Văn Duy | D23: 39039 | E23: =VLOOKUP(B23,[1]Sheet1!B$4:L$8446,4,0) -> 80 | F23: =VLOOKUP(B23,[1]Sheet1!B$4:F$8446,5,0) -> 80 | G23: =VLOOKUP(B23,[1]Sheet1!B$4:J$8446,6,0) -> 80 | H23: =VLOOKUP(B23,[1]Sheet1!B$4:H$8446,7,0) -> 80 | I23: =IF(H23>=90,"Xuất sắc",IF(H23>=80,"Tốt", IF(H23>=65,"Khá",IF(H23>=50,"Trung bình", IF(H23>=35, "Yếu", "Kém"))))) -> Tốt | J23: =VLOOKUP(B23,[1]Sheet1!B$4:K$8446,9,0) -> 80 | K23: =IF(J23>=90,"Xuất sắc",IF(J23>=80,"Tốt", IF(J23>=65,"Khá",IF(J23>=50,"Trung bình", IF(J23>=35, "Yếu", "Kém"))))) -> Tốt
A24: 12 | B24: 24020475 | C24: Trần Lê Duy | D24: 38874 | E24: =VLOOKUP(B24,[1]Sheet1!B$4:L$8446,4,0) -> 82 | F24: =VLOOKUP(B24,[1]Sheet1!B$4:F$8446,5,0) -> 92 | G24: =VLOOKUP(B24,[1]Sheet1!B$4:J$8446,6,0) -> 92 | H24: =VLOOKUP(B24,[1]Sheet1!B$4:H$8446,7,0) -> 92 | I24: =IF(H24>=90,"Xuất sắc",IF(H24>=80,"Tốt", IF(H24>=65,"Khá",IF(H24>=50,"Trung bình", IF(H24>=35, "Yếu", "Kém"))))) -> Xuất sắc | J24: =VLOOKUP(B24,[1]Sheet1!B$4:K$8446,9,0) -> 92 | K24: =IF(J24>=90,"Xuất sắc",IF(J24>=80,"Tốt", IF(J24>=65,"Khá",IF(J24>=50,"Trung bình", IF(J24>=35, "Yếu", "Kém"))))) -> Xuất sắc
... A53: 41 | B53: 24020691 | C53: Đinh Hoàng Việt | D53: 38893 | E53: =VLOOKUP(B53,[1]Sheet1!B$4:L$8446,4,0) -> 90 | F53: =VLOOKUP(B53,[1]Sheet1!B$4:F$8446,5,0) -> 90 | G53: =VLOOKUP(B53,[1]Sheet1!B$4:J$8446,6,0) -> 90 | H53: =VLOOKUP(B53,[1]Sheet1!B$4:H$8446,7,0) -> 90 | I53: =IF(H53>=90,"Xuất sắc",IF(H53>=80,"Tốt", IF(H53>=65,"Khá",IF(H53>=50,"Trung bình", IF(H53>=35, "Yếu", "Kém"))))) -> Xuất sắc | J53: =VLOOKUP(B53,[1]Sheet1!B$4:K$8446,9,0) -> 90 | K53: =IF(J53>=90,"Xuất sắc",IF(J53>=80,"Tốt", IF(J53>=65,"Khá",IF(J53>=50,"Trung bình", IF(J53>=35, "Yếu", "Kém"))))) -> Xuất sắc
A55: Ấn định danh sách có 41 sinh viên./.

Sheet K69ECE2
A1: ĐẠI HỌC QUỐC GIA HÀ NỘI | G1: CỘNG HÒA XÃ HỘI CHỦ NGHĨA VIỆT NAM
A2: TRƯỜNG ĐẠI HỌC CÔNG NGHỆ | G2: Độc lập - Tự do - Hạnh phúc
A5: BẢNG TỔNG HỢP KẾT QUẢ RÈN LUYỆN CỦA SINH VIÊN
A6: LỚP QH-2024-I/CQ-E-CE2, HỌC KỲ 2, NĂM HỌC 2024-2025
A7: KHOA ĐIỆN TỬ VIỄN THÔNG
A10: STT | B10: MASV | C10: Họ và tên | D10: Ngày sinh | E10: Điểm tự ĐG | F10: Điểm BCS | G10: Điểm GVCN | H10: Điểm KL | J10: Điểm KL
H11: HĐ cấp Khoa | J11: HĐ cấp Trường (dự kiến)
H12: Điểm | I12: Xếp loại | J12: Điểm | K12: Xếp loại
A13: 1 | B13: 24020372 | C13: Chu Văn An | D13: 38863 | E13: =VLOOKUP(B13,[1]Sheet1!B$4:L$8446,4,0) -> 80 | F13: =VLOOKUP(B13,[1]Sheet1!B$4:F$8446,5,0) -> 80 | G13: =VLOOKUP(B13,[1]Sheet1!B$4:J$8446,6,0) -> 80 | H13: =VLOOKUP(B13,[1]Sheet1!B$4:H$8446,7,0) -> 80 | I13: =IF(H13>=90,"Xuất sắc",IF(H13>=80,"Tốt", IF(H13>=65,"Khá",IF(H13>=50,"Trung bình", IF(H13>=35, "Yếu", "Kém"))))) -> Tốt | J13: =VLOOKUP(B13,[1]Sheet1!B$4:K$8446,9,0) -> 80 | K13: =IF(J13>=90,"Xuất sắc",IF(J13>=80,"Tốt", IF(J13>=65,"Khá",IF(J13>=50,"Trung bình", IF(J13>=35, "Yếu", "Kém"))))) -> Tốt
A14: 2 | B14: 24020380 | C14: Hoàng Quốc Anh | D14: 39019 | E14: =VLOOKUP(B14,[1]Sheet1!B$4:L$8446,4,0) -> 80 | F14: =VLOOKUP(B14,[1]Sheet1!B$4:F$8446,5,0) -> 80 | G14: =VLOOKUP(B14,[1]Sheet1!B$4:J$8446,6,0) -> 80 | H14: =VLOOKUP(B14,[1]Sheet1!B$4:H$8446,7,0) -> 80 | I14: =IF(H14>=90,"Xuất sắc",IF(H14>=80,"Tốt", IF(H14>=65,"Khá",IF(H14>=50,"Trung bình", IF(H14>=35, "Yếu", "Kém"))))) -> Tốt | J14: =VLOOKUP(B14,[1]Sheet1!B$4:K$8446,9,0) -> 80 | K14: =IF(J14>=90,"Xuất sắc",IF(J14>=80,"Tốt", IF(J14>=65,"Khá",IF(J14>=50,"Trung bình", IF(J14>=35, "Yếu", "Kém"))))) -> Tốt
A15: 3 | B15: 24020388 | C15: Nguyễn Ngọc Anh | D15: 39013 | E15: =VLOOKUP(B15,[1]Sheet1!B$4:L$8446,4,0) -> 80 | F15: =VLOOKUP(B15,[1]Sheet1!B$4:F$8446,5,0) -> 80 | G15: =VLOOKUP(B15,[1]Sheet1!B$4:J$8446,6,0) -> 80 | H15: =VLOOKUP(B15,[1]Sheet1!B$4:H$8446,7,0) -> 80 | I15: =IF(H15>=90,"Xuất sắc",IF(H15>=80,"Tốt", IF(H15>=65,"Khá",IF(H15>=50,"Trung bình", IF(H15>=35, "Yếu", "Kém"))))) -> Tốt | J15: =VLOOKUP(B15,[1]Sheet1!B$4:K$8446,9,0) -> 80 | K15: =IF(J15>=90,"Xuất sắc",IF(J15>=80,"Tốt", IF(J15>=65,"Khá",IF(J15>=50,"Trung bình", IF(J15>=35, "Yếu", "Kém"))))) -> Tốt
A16: 4 | B16: 24020396 | C16: Trần Việt Anh | D16: 38906 | E16: =VLOOKUP(B16,[1]Sheet1!B$4:L$8446,4,0) -> 80 | F16: =VLOOKUP(B16,[1]Sheet1!B$4:F$8446,5,0) -> 80 | G16: =VLOOKUP(B16,[1]Sheet1!B$4:J$8446,6,0) -> 80 | H16: =VLOOKUP(B16,[1]Sheet1!B$4:H$8446,7,0) -> 80 | I16: =IF(H16>=90,"Xuất sắc",IF(H16>=80,"Tốt", IF(H16>=65,"Khá",IF(H16>=50,"Trung bình", IF(H16>=35, "Yếu", "Kém"))))) -> Tốt | J16: =VLOOKUP(B16,[1]Sheet1!B$4:K$8446,9,0) -> 80 | K16: =IF(J16>=90,"Xuất sắc",IF(J16>=80,"Tốt", IF(J16>=65,"Khá",IF(J16>=50,"Trung bình", IF(J16>=35, "Yếu", "Kém"))))) -> Tốt
A17: 5 | B17: 24020404 | C17: Nguyễn Đức Bính | D17: 38757 | E17: =VLOOKUP(B17,[1]Sheet1!B$4:L$8446,4,0) -> 92 | F17: =VLOOKUP(B17,[1]Sheet1!B$4:F$8446,5,0) -> 92 | G17: =VLOOKUP(B17,[1]Sheet1!B$4:J$8446,6,0) -> 92 | H17: =VLOOKUP(B17,[1]Sheet1!B$4:H$8446,7,0) -> 92 | I17: =IF(H17>=90,"Xuất sắc",IF(H17>=80,"Tốt", IF(H17>=65,"Khá",IF(H17>=50,"Trung bình", IF(H17>=35, "Yếu", "Kém"))))) -> Xuất sắc | J17: =VLOOKUP(B17,[1]Sheet1!B$4:K$8446,9,0) -> 92 | K17: =IF(J17>=90,"Xuất sắc",IF(J17>=80,"Tốt", IF(J17>=65,"Khá",IF(J17>=50,"Trung bình", IF(J17>=35, "Yếu", "Kém"))))) -> Xuất sắc
A18: 6 | B18: 24020412 | C18: Phan Văn Châu | D18: 38822 | E18: =VLOOKUP(B18,[1]Sheet1!B$4:L$8446,4,0) -> 80 | F18: =VLOOKUP(B18,[1]Sheet1!B$4:F$8446,5,0) -> 80 | G18: =VLOOKUP(B18,[1]Sheet1!B$4:J$8446,6,0) -> 80 | H18: =VLOOKUP(B18,[1]Sheet1!B$4:H$8446,7,0) -> 80 | I18: =IF(H18>=90,"Xuất sắc",IF(H18>=80,"Tốt", IF(H18>=65,"Khá",IF(H18>=50,"Trung bình", IF(H18>=35, "Yếu", "Kém"))))) -> Tốt | J18: =VLOOKUP(B18,[1]Sheet1!B$4:K$8446,9,0) -> 80 | K18: =IF(J18>=90,"Xuất sắc",IF(J18>=80,"Tốt", IF(J18>=65,"Khá",IF(J18>=50,"Trung bình", IF(J18>=35, "Yếu", "Kém"))))) -> Tốt
A19: 7 | B19: 24020420 | C19: Phạm Ngọc Công | D19: 38923 | E19: =VLOOKUP(B19,[1]Sheet1!B$4:L$8446,4,0) -> 92 | F19: =VLOOKUP(B19,[1]Sheet1!B$4:F$8446,5,0) -> 92 | G19: =VLOOKUP(B19,[1]Sheet1!B$4:J$8446,6,0) -> 92 | H19: =VLOOKUP(B19,[1]Sheet1!B$4:H$8446,7,0) -> 92 | I19: =IF(H19>=90,"Xuất sắc",IF(H19>=80,"Tốt", IF(H19>=65,"Khá",IF(H19>=50,"Trung bình", IF(H19>=35, "Yếu", "Kém"))))) -> Xuất sắc | J19: =VLOOKUP(B19,[1]Sheet1!B$4:K$8446,9,0) -> 92 | K19: =IF(J19>=90,"Xuất sắc",IF(J19>=80,"Tốt", IF(J19>=65,"Khá",IF(J19>=50,"Trung bình", IF(J19>=35, "Yếu", "Kém"))))) -> Xuất sắc
A20: 8 | B20: 24020452 | C20: Nguyễn Đức Dũng | D20: 39027 | E20: =VLOOKUP(B20,[1]Sheet1!B$4:L$8446,4,0) -> 80 | F20: =VLOOKUP(B20,[1]Sheet1!B$4:F$8446,5,0) -> 80 | G20: =VLOOKUP(B20,[1]Sheet1!B$4:J$8446,6,0) -> 80 | H20: =VLOOKUP(B20,[1]Sheet1!B$4:H$8446,7,0) -> 80 | I20: =IF(H20>=90,"Xuất sắc",IF(H20>=80,"Tốt", IF(H20>=65,"Khá",IF(H20>=50,"Trung bình", IF(H20>=35, "Yếu", "Kém"))))) -> Tốt | J20: =VLOOKUP(B20,[1]Sheet1!B$4:K$8446,9,0) -> 80 | K20: =IF(J20>=90,"Xuất sắc",IF(J20>=80,"Tốt", IF(J20>=65,"Khá",IF(J20>=50,"Trung bình", IF(J20>=35, "Yếu", "Kém"))))) -> Tốt
A21: 9 | B21: 24020468 | C21: Lê Bá Duy | D21: 38915 | E21: =VLOOKUP(B21,[1]Sheet1!B$4:L$8446,4,0) -> 90 | F21: =VLOOKUP(B21,[1]Sheet1!B$4:F$8446,5,0) -> 80 | G21: =VLOOKUP(B21,[1]Sheet1!B$4:J$8446,6,0) -> 80 | H21: =VLOOKUP(B21,[1]Sheet1!B$4:H$8446,7,0) -> 80 | I21: =IF(H21>=90,"Xuất sắc",IF(H21>=80,"Tốt", IF(H21>=65,"Khá",IF(H21>=50,"Trung bình", IF(H21>=35, "Yếu", "Kém"))))) -> Tốt | J21: =VLOOKUP(B21,[1]Sheet1!B$4:K$8446,9,0) -> 80 | K21: =IF(J21>=90,"Xuất sắc",IF(J21>=80,"Tốt", IF(J21>=65,"Khá",IF(J21>=50,"Trung bình", IF(J21>=35, "Yếu", "Kém"))))) -> Tốt
A22: 10 | B22: 24020476 | C22: Trần Nam Duy | D22: 38766 | E22: =VLOOKUP(B22,[1]Sheet1!B$4:L$8446,4,0) -> 85 | F22: =VLOOKUP(B22,[1]Sheet1!B$4:F$8446,5,0) -> 85 | G22: =VLOOKUP(B22,[1]Sheet1!B$4:J$8446,6,0) -> 85 | H22: =VLOOKUP(B22,[1]Sheet1!B$4:H$8446,7,0) -> 85 | I22: =IF(H22>=90,"Xuất sắc",IF(H22>=80,"Tốt", IF(H22>=65,"Khá",IF(H22>=50,"Trung bình", IF(H22>=35, "Yếu", "Kém"))))) -> Tốt | J22: =VLOOKUP(B22,[1]Sheet1!B$4:K$8446,9,0) -> 85 | K22: =IF(J22>=90,"Xuất sắc",IF(J22>=80,"Tốt", IF(J22>=65,"Khá",IF(J22>=50,"Trung bình", IF(J22>=35, "Yếu", "Kém"))))) -> Tốt
A23: 11 | B23: 24020460 | C23: Lê Ánh Dương | D23: 38863 | E23: =VLOOKUP(B23,[1]Sheet1!B$4:L$8446,4,0) -> 100 | F23: =VLOOKUP(B23,[1]Sheet1!B$4:F$8446,5,0) -> 100 | G23: =VLOOKUP(B23,[1]Sheet1!B$4:J$8446,6,0) -> 100 | H23: =VLOOKUP(B23,[1]Sheet1!B$4:H$8446,7,0) -> 100 | I23: =IF(H23>=90,"Xuất sắc",IF(H23>=80,"Tốt", IF(H23>=65,"Khá",IF(H23>=50,"Trung bình", IF(H23>=35, "Yếu", "Kém"))))) -> Xuất sắc | J23: =VLOOKUP(B23,[1]Sheet1!B$4:K$8446,9,0) -> 100 | K23: =IF(J23>=90,"Xuất sắc",IF(J23>=80,"Tốt", IF(J23>=65,"Khá",IF(J23>=50,"Trung bình", IF(J23>=35, "Yếu", "Kém"))))) -> Xuất sắc
A24: 12 | B24: 24020428 | C24: Lê Văn Đam | D24: 38742 | E24: =VLOOKUP(B24,[1]Sheet1!B$4:L$8446,4,0) -> 80 | F24: =VLOOKUP(B24,[1]Sheet1!B$4:F$8446,5,0) -> 80 | G24: =VLOOKUP(B24,[1]Sheet1!B$4:J$8446,6,0) -> 80 | H24: =VLOOKUP(B24,[1]Sheet1!B$4:H$8446,7,0) -> 80 | I24: =IF(H24>=90,"Xuất sắc",IF(H24>=80,"Tốt", IF(H24>=65,"Khá",IF(H24>=50,"Trung bình", IF(H24>=35, "Yếu", "Kém"))))) -> Tốt | J24: =VLOOKUP(B24,[1]Sheet1!B$4:K$8446,9,0) -> 80 | K24: =IF(J24>=90,"Xuất sắc",IF(J24>=80,"Tốt", IF(J24>=65,"Khá",IF(J24>=50,"Trung bình", IF(J24>=35, "Yếu", "Kém"))))) -> Tốt
... A53: 41 | B53: 24020692 | C53: Phạm Quốc Việt | D53: 38875 | E53: =VLOOKUP(B53,[1]Sheet1!B$4:L$8446,4,0) -> 90 | F53: =VLOOKUP(B53,[1]Sheet1!B$4:F$8446,5,0) -> 90 | G53: =VLOOKUP(B53,[1]Sheet1!B$4:J$8446,6,0) -> 90 | H53: =VLOOKUP(B53,[1]Sheet1!B$4:H$8446,7,0) -> 90 | I53: =IF(H53>=90,"Xuất sắc",IF(H53>=80,"Tốt", IF(H53>=65,"Khá",IF(H53>=50,"Trung bình", IF(H53>=35, "Yếu", "Kém"))))) -> Xuất sắc | J53: =VLOOKUP(B53,[1]Sheet1!B$4:K$8446,9,0) -> 90 | K53: =IF(J53>=90,"Xuất sắc",IF(J53>=80,"Tốt", IF(J53>=65,"Khá",IF(J53>=50,"Trung bình", IF(J53>=35, "Yếu", "Kém"))))) -> Xuất sắc
A55: Ấn định danh sách có 41 sinh viên./.

Sheet K69ECE3
A1: ĐẠI HỌC QUỐC GIA HÀ NỘI | G1: CỘNG HÒA XÃ HỘI CHỦ NGHĨA VIỆT NAM
A2: TRƯỜNG ĐẠI HỌC CÔNG NGHỆ | G2: Độc lập - Tự do - Hạnh phúc
A5: BẢNG TỔNG HỢP KẾT QUẢ RÈN LUYỆN CỦA SINH VIÊN
A6: LỚP QH-2024-I/CQ-E-CE3, HỌC KỲ 2, NĂM HỌC 2024-2025
A7: KHOA ĐIỆN TỬ VIỄN THÔNG
A10: STT | B10: MASV | C10: Họ và tên | D10: Ngày sinh | E10: Điểm tự ĐG | F10: Điểm BCS | G10: Điểm GVCN | H10: Điểm KL | J10: Điểm KL
H11: HĐ cấp Khoa | J11: HĐ cấp Trường (dự kiến)
H12: Điểm | I12: Xếp loại | J12: Điểm | K12: Xếp loại
A13: 1 | B13: 24020373 | C13: Lã Trường An | D13: 38973 | E13: =VLOOKUP(B13,[1]Sheet1!B$4:L$8446,4,0) -> 78 | F13: =VLOOKUP(B13,[1]Sheet1!B$4:F$8446,5,0) -> 78 | G13: =VLOOKUP(B13,[1]Sheet1!B$4:J$8446,6,0) -> 78 | H13: =VLOOKUP(B13,[1]Sheet1!B$4:H$8446,7,0) -> 78 | I13: =IF(H13>=90,"Xuất sắc",IF(H13>=80,"Tốt", IF(H13>=65,"Khá",IF(H13>=50,"Trung bình", IF(H13>=35, "Yếu", "Kém"))))) -> Khá | J13: =VLOOKUP(B13,[1]Sheet1!B$4:K$8446,9,0) -> 78 | K13: =IF(J13>=90,"Xuất sắc",IF(J13>=80,"Tốt", IF(J13>=65,"Khá",IF(J13>=50,"Trung bình", IF(J13>=35, "Yếu", "Kém"))))) -> Khá
A14: 2 | B14: 24020381 | C14: Lê Ngọc Anh | D14: 38993 | E14: =VLOOKUP(B14,[1]Sheet1!B$4:L$8446,4,0) -> 90 | F14: =VLOOKUP(B14,[1]Sheet1!B$4:F$8446,5,0) -> 90 | G14: =VLOOKUP(B14,[1]Sheet1!B$4:J$8446,6,0) -> 90 | H14: =VLOOKUP(B14,[1]Sheet1!B$4:H$8446,7,0) -> 90 | I14: =IF(H14>=90,"Xuất sắc",IF(H14>=80,"Tốt", IF(H14>=65,"Khá",IF(H14>=50,"Trung bình", IF(H14>=35, "Yếu", "Kém"))))) -> Xuất sắc | J14: =VLOOKUP(B14,[1]Sheet1!B$4:K$8446,9,0) -> 90 | K14: =IF(J14>=90,"Xuất sắc",IF(J14>=80,"Tốt", IF(J14>=65,"Khá",IF(J14>=50,"Trung bình", IF(J14>=35, "Yếu", "Kém"))))) -> Xuất sắc
A15: 3 | B15: 24020389 | C15: Nguyễn Sỹ Tuấn Anh | D15: 38998 | E15: =VLOOKUP(B15,[1]Sheet1!B$4:L$8446,4,0) -> 70 | F15: =VLOOKUP(B15,[1]Sheet1!B$4:F$8446,5,0) -> 70 | G15: =VLOOKUP(B15,[1]Sheet1!B$4:J$8446,6,0) -> 70 | H15: =VLOOKUP(B15,[1]Sheet1!B$4:H$8446,7,0) -> 70 | I15: =IF(H15>=90,"Xuất sắc",IF(H15>=80,"Tốt", IF(H15>=65,"Khá",IF(H15>=50,"Trung bình", IF(H15>=35, "Yếu", "Kém"))))) -> Khá | J15: =VLOOKUP(B15,[1]Sheet1!B$4:K$8446,9,0) -> 70 | K15: =IF(J15>=90,"Xuất sắc",IF(J15>=80,"Tốt", IF(J15>=65,"Khá",IF(J15>=50,"Trung bình", IF(J15>=35, "Yếu", "Kém"))))) -> Khá
A16: 4 | B16: 24020397 | C16: Nguyễn Xuân Bắc | D16: 38834 | E16: =VLOOKUP(B16,[1]Sheet1!B$4:L$8446,4,0) -> 92 | F16: =VLOOKUP(B16,[1]Sheet1!B$4:F$8446,5,0) -> 92 | G16: =VLOOKUP(B16,[1]Sheet1!B$4:J$8446,6,0) -> 92 | H16: =VLOOKUP(B16,[1]Sheet1!B$4:H$8446,7,0) -> 92 | I16: =IF(H16>=90,"Xuất sắc",IF(H16>=80,"Tốt", IF(H16>=65,"Khá",IF(H16>=50,"Trung bình", IF(H16>=35, "Yếu", "Kém"))))) -> Xuất sắc | J16: =VLOOKUP(B16,[1]Sheet1!B$4:K$8446,9,0) -> 92 | K16: =IF(J16>=90,"Xuất sắc",IF(J16>=80,"Tốt", IF(J16>=65,"Khá",IF(J16>=50,"Trung bình", IF(J16>=35, "Yếu", "Kém"))))) -> Xuất sắc
A17: 5 | B17: 24020405 | C17: Nguyễn Đức Thanh Bình | D17: 39077 | E17: =VLOOKUP(B17,[1]Sheet1!B$4:L$8446,4,0) -> 92 | F17: =VLOOKUP(B17,[1]Sheet1!B$4:F$8446,5,0) -> 92 | G17: =VLOOKUP(B17,[1]Sheet1!B$4:J$8446,6,0) -> 92 | H17: =VLOOKUP(B17,[1]Sheet1!B$4:H$8446,7,0) -> 92 | I17: =IF(H17>=90,"Xuất sắc",IF(H17>=80,"Tốt", IF(H17>=65,"Khá",IF(H17>=50,"Trung bình", IF(H17>=35, "Yếu", "Kém"))))) -> Xuất sắc | J17: =VLOOKUP(B17,[1]Sheet1!B$4:K$8446,9,0) -> 92 | K17: =IF(J17>=90,"Xuất sắc",IF(J17>=80,"Tốt", IF(J17>=65,"Khá",IF(J17>=50,"Trung bình", IF(J17>=35, "Yếu", "Kém"))))) -> Xuất sắc
A18: 6 | B18: 24020413 | C18: Ngô Thị Cẩm Chi | D18: 38992 | E18: =VLOOKUP(B18,[1]Sheet1!B$4:L$8446,4,0) -> 70 | F18: =VLOOKUP(B18,[1]Sheet1!B$4:F$8446,5,0) -> 70 | G18: =VLOOKUP(B18,[1]Sheet1!B$4:J$8446,6,0) -> 70 | H18: =VLOOKUP(B18,[1]Sheet1!B$4:H$8446,7,0) -> 70 | I18: =IF(H18>=90,"Xuất sắc",IF(H18>=80,"Tốt", IF(H18>=65,"Khá",IF(H18>=50,"Trung bình", IF(H18>=35, "Yếu", "Kém"))))) -> Khá | J18: =VLOOKUP(B18,[1]Sheet1!B$4:K$8446,9,0) -> 70 | K18: =IF(J18>=90,"Xuất sắc",IF(J18>=80,"Tốt", IF(J18>=65,"Khá",IF(J18>=50,"Trung bình", IF(J18>=35, "Yếu", "Kém"))))) -> Khá
A19: 7 | B19: 24020421 | C19: Đàm Anh Cương | D19: 38969 | E19: =VLOOKUP(B19,[1]Sheet1!B$4:L$8446,4,0) -> 92 | F19: =VLOOKUP(B19,[1]Sheet1!B$4:F$8446,5,0) -> 92 | G19: =VLOOKUP(B19,[1]Sheet1!B$4:J$8446,6,0) -> 92 | H19: =VLOOKUP(B19,[1]Sheet1!B$4:H$8446,7,0) -> 92 | I19: =IF(H19>=90,"Xuất sắc",IF(H19>=80,"Tốt", IF(H19>=65,"Khá",IF(H19>=50,"Trung bình", IF(H19>=35, "Yếu", "Kém"))))) -> Xuất sắc | J19: =VLOOKUP(B19,[1]Sheet1!B$4:K$8446,9,0) -> 92 | K19: =IF(J19>=90,"Xuất sắc",IF(J19>=80,"Tốt", IF(J19>=65,"Khá",IF(J19>=50,"Trung bình", IF(J19>=35, "Yếu", "Kém"))))) -> Xuất sắc
A20: 8 | B20: 24020453 | C20: Nguyễn Hoàng Trung Dũng | D20: 38773 | E20: =VLOOKUP(B20,[1]Sheet1!B$4:L$8446,4,0) -> 82 | F20: =VLOOKUP(B20,[1]Sheet1!B$4:F$8446,5,0) -> 82 | G20: =VLOOKUP(B20,[1]Sheet1!B$4:J$8446,6,0) -> 82 | H20: =VLOOKUP(B20,[1]Sheet1!B$4:H$8446,7,0) -> 82 | I20: =IF(H20>=90,"Xuất sắc",IF(H20>=80,"Tốt", IF(H20>=65,"Khá",IF(H20>=50,"Trung bình", IF(H20>=35, "Yếu", "Kém"))))) -> Tốt | J20: =VLOOKUP(B20,[1]Sheet1!B$4:K$8446,9,0) -> 82 | K20: =IF(J20>=90,"Xuất sắc",IF(J20>=80,"Tốt", IF(J20>=65,"Khá",IF(J20>=50,"Trung bình", IF(J20>=35, "Yếu", "Kém"))))) -> Tốt
A21: 9 | B21: 24020469 | C21: Nguyễn Đức Duy | D21: 38732 | E21: =VLOOKUP(B21,[1]Sheet1!B$4:L$8446,4,0) -> 92 | F21: =VLOOKUP(B21,[1]Sheet1!B$4:F$8446,5,0) -> 92 | G21: =VLOOKUP(B21,[1]Sheet1!B$4:J$8446,6,0) -> 92 | H21: =VLOOKUP(B21,[1]Sheet1!B$4:H$8446,7,0) -> 92 | I21: =IF(H21>=90,"Xuất sắc",IF(H21>=80,"Tốt", IF(H21>=65,"Khá",IF(H21>=50,"Trung bình", IF(H21>=35, "Yếu", "Kém"))))) -> Xuất sắc | J21: =VLOOKUP(B21,[1]Sheet1!B$4:K$8446,9,0) -> 92 | K21: =IF(J21>=90,"Xuất sắc",IF(J21>=80,"Tốt", IF(J21>=65,"Khá",IF(J21>=50,"Trung bình", IF(J21>=35, "Yếu", "Kém"))))) -> Xuất sắc
A22: 10 | B22: 24020477 | C22: Trần Thành Duy | D22: 39023 | E22: =VLOOKUP(B22,[1]Sheet1!B$4:L$8446,4,0) -> 94 | F22: =VLOOKUP(B22,[1]Sheet1!B$4:F$8446,5,0) -> 94 | G22: =VLOOKUP(B22,[1]Sheet1!B$4:J$8446,6,0) -> 94 | H22: =VLOOKUP(B22,[1]Sheet1!B$4:H$8446,7,0) -> 94 | I22: =IF(H22>=90,"Xuất sắc",IF(H22>=80,"Tốt", IF(H22>=65,"Khá",IF(H22>=50,"Trung bình", IF(H22>=35, "Yếu", "Kém"))))) -> Xuất sắc | J22: =VLOOKUP(B22,[1]Sheet1!B$4:K$8446,9,0) -> 94 | K22: =IF(J22>=90,"Xuất sắc",IF(J22>=80,"Tốt", IF(J22>=65,"Khá",IF(J22>=50,"Trung bình", IF(J22>=35, "Yếu", "Kém"))))) -> Xuất sắc
A23: 11 | B23: 24020461 | C23: Nguyễn Đức Dương | D23: 38722 | E23: =VLOOKUP(B23,[1]Sheet1!B$4:L$8446,4,0) -> 70 | F23: =VLOOKUP(B23,[1]Sheet1!B$4:F$8446,5,0) -> 80 | G23: =VLOOKUP(B23,[1]Sheet1!B$4:J$8446,6,0) -> 80 | H23: =VLOOKUP(B23,[1]Sheet1!B$4:H$8446,7,0) -> 80 | I23: =IF(H23>=90,"Xuất sắc",IF(H23>=80,"Tốt", IF(H23>=65,"Khá",IF(H23>=50,"Trung bình", IF(H23>=35, "Yếu", "Kém"))))) -> Tốt | J23: =VLOOKUP(B23,[1]Sheet1!B$4:K$8446,9,0) -> 80 | K23: =IF(J23>=90,"Xuất sắc",IF(J23>=80,"Tốt", IF(J23>=65,"Khá",IF(J23>=50,"Trung bình", IF(J23>=35, "Yếu", "Kém"))))) -> Tốt
A24: 12 | B24: 24020437 | C24: Nguyễn Thành Đạt | D24: 38947 | E24: =VLOOKUP(B24,[1]Sheet1!B$4:L$8446,4,0) -> 67 | F24: =VLOOKUP(B24,[1]Sheet1!B$4:F$8446,5,0) -> 77 | G24: =VLOOKUP(B24,[1]Sheet1!B$4:J$8446,6,0) -> 77 | H24: =VLOOKUP(B24,[1]Sheet1!B$4:H$8446,7,0) -> 77 | I24: =IF(H24>=90,"Xuất sắc",IF(H24>=80,"Tốt", IF(H24>=65,"Khá",IF(H24>=50,"Trung bình", IF(H24>=35, "Yếu", "Kém"))))) -> Khá | J24: =VLOOKUP(B24,[1]Sheet1!B$4:K$8446,9,0) -> 77 | K24: =IF(J24>=90,"Xuất sắc",IF(J24>=80,"Tốt", IF(J24>=65,"Khá",IF(J24>=50,"Trung bình", IF(J24>=35, "Yếu", "Kém"))))) -> Khá
... A52: 40 | B52: 24020693 | C52: Lê Quang Vinh | D52: 39051 | E52: =VLOOKUP(B52,[1]Sheet1!B$4:L$8446,4,0) -> 92 | F52: =VLOOKUP(B52,[1]Sheet1!B$4:F$8446,5,0) -> 92 | G52: =VLOOKUP(B52,[1]Sheet1!B$4:J$8446,6,0) -> 92 | H52: =VLOOKUP(B52,[1]Sheet1!B$4:H$8446,7,0) -> 92 | I52: =IF(H52>=90,"Xuất sắc",IF(H52>=80,"Tốt", IF(H52>=65,"Khá",IF(H52>=50,"Trung bình", IF(H52>=35, "Yếu", "Kém"))))) -> Xuất sắc | J52: =VLOOKUP(B52,[1]Sheet1!B$4:K$8446,9,0) -> 92 | K52: =IF(J52>=90,"Xuất sắc",IF(J52>=80,"Tốt", IF(J52>=65,"Khá",IF(J52>=50,"Trung bình", IF(J52>=35, "Yếu", "Kém"))))) -> Xuất sắc
A54: Ấn định danh sách có 40 sinh viên./.

Sheet K69ECE4
A1: ĐẠI HỌC QUỐC GIA HÀ NỘI | G1: CỘNG HÒA XÃ HỘI CHỦ NGHĨA VIỆT NAM
A2: TRƯỜNG ĐẠI HỌC CÔNG NGHỆ | G2: Độc lập - Tự do - Hạnh phúc
A5: BẢNG TỔNG HỢP KẾT QUẢ RÈN LUYỆN CỦA SINH VIÊN
A6: LỚP QH-2024-I/CQ-E-CE4, HỌC KỲ 2, NĂM HỌC 2024-2025
A7: KHOA ĐIỆN TỬ VIỄN THÔNG
A10: STT | B10: MASV | C10: Họ và tên | D10: Ngày sinh | E10: Điểm tự ĐG | F10: Điểm BCS | G10: Điểm GVCN | H10: Điểm KL | J10: Điểm KL
H11: HĐ cấp Khoa | J11: HĐ cấp Trường (dự kiến)
H12: Điểm | I12: Xếp loại | J12: Điểm | K12: Xếp loại
A13: 1 | B13: 24020374 | C13: Lê Thành An | D13: 38758 | E13: =VLOOKUP(B13,[1]Sheet1!B$4:L$8446,4,0) -> 80 | F13: =VLOOKUP(B13,[1]Sheet1!B$4:F$8446,5,0) -> 80 | G13: =VLOOKUP(B13,[1]Sheet1!B$4:J$8446,6,0) -> 80 | H13: =VLOOKUP(B13,[1]Sheet1!B$4:H$8446,7,0) -> 80 | I13: =IF(H13>=90,"Xuất sắc",IF(H13>=80,"Tốt", IF(H13>=65,"Khá",IF(H13>=50,"Trung bình", IF(H13>=35, "Yếu", "Kém"))))) -> Tốt | J13: =VLOOKUP(B13,[1]Sheet1!B$4:K$8446,9,0) -> 80 | K13: =IF(J13>=90,"Xuất sắc",IF(J13>=80,"Tốt", IF(J13>=65,"Khá",IF(J13>=50,"Trung bình", IF(J13>=35, "Yếu", "Kém"))))) -> Tốt
A14: 2 | B14: 24020382 | C14: Nguyễn Bảo Anh | D14: 38982 | E14: =VLOOKUP(B14,[1]Sheet1!B$4:L$8446,4,0) -> 82 | F14: =VLOOKUP(B14,[1]Sheet1!B$4:F$8446,5,0) -> 80 | G14: =VLOOKUP(B14,[1]Sheet1!B$4:J$8446,6,0) -> 80 | H14: =VLOOKUP(B14,[1]Sheet1!B$4:H$8446,7,0) -> 80 | I14: =IF(H14>=90,"Xuất sắc",IF(H14>=80,"Tốt", IF(H14>=65,"Khá",IF(H14>=50,"Trung bình", IF(H14>=35, "Yếu", "Kém"))))) -> Tốt | J14: =VLOOKUP(B14,[1]Sheet1!B$4:K$8446,9,0) -> 80 | K14: =IF(J14>=90,"Xuất sắc",IF(J14>=80,"Tốt", IF(J14>=65,"Khá",IF(J14>=50,"Trung bình", IF(J14>=35, "Yếu", "Kém"))))) -> Tốt
A15: 3 | B15: 24020398 | C15: Đỗ Gia Bách | D15: 39031 | E15: =VLOOKUP(B15,[1]Sheet1!B$4:L$8446,4,0) -> 80 | F15: =VLOOKUP(B15,[1]Sheet1!B$4:F$8446,5,0) -> 90 | G15: =VLOOKUP(B15,[1]Sheet1!B$4:J$8446,6,0) -> 80 | H15: =VLOOKUP(B15,[1]Sheet1!B$4:H$8446,7,0) -> 80 | I15: =IF(H15>=90,"Xuất sắc",IF(H15>=80,"Tốt", IF(H15>=65,"Khá",IF(H15>=50,"Trung bình", IF(H15>=35, "Yếu", "Kém"))))) -> Tốt | J15: =VLOOKUP(B15,[1]Sheet1!B$4:K$8446,9,0) -> 80 | K15: =IF(J15>=90,"Xuất sắc",IF(J15>=80,"Tốt", IF(J15>=65,"Khá",IF(J15>=50,"Trung bình", IF(J15>=35, "Yếu", "Kém"))))) -> Tốt
A16: 4 | B16: 24020406 | C16: Nguyễn Nam Bình | D16: 39007 | E16: =VLOOKUP(B16,[1]Sheet1!B$4:L$8446,4,0) -> 92 | F16: =VLOOKUP(B16,[1]Sheet1!B$4:F$8446,5,0) -> 90 | G16: =VLOOKUP(B16,[1]Sheet1!B$4:J$8446,6,0) -> 90 | H16: =VLOOKUP(B16,[1]Sheet1!B$4:H$8446,7,0) -> 90 | I16: =IF(H16>=90,"Xuất sắc",IF(H16>=80,"Tốt", IF(H16>=65,"Khá",IF(H16>=50,"Trung bình", IF(H16>=35, "Yếu", "Kém"))))) -> Xuất sắc | J16: =VLOOKUP(B16,[1]Sheet1!B$4:K$8446,9,0) -> 90 | K16: =IF(J16>=90,"Xuất sắc",IF(J16>=80,"Tốt", IF(J16>=65,"Khá",IF(J16>=50,"Trung bình", IF(J16>=35, "Yếu", "Kém"))))) -> Xuất sắc
A17: 5 | B17: 24020414 | C17: Ngụy Phan Chiến | D17: 38763 | E17: =VLOOKUP(B17,[1]Sheet1!B$4:L$8446,4,0) -> 70 | F17: =VLOOKUP(B17,[1]Sheet1!B$4:F$8446,5,0) -> 70 | G17: =VLOOKUP(B17,[1]Sheet1!B$4:J$8446,6,0) -> 70 | H17: =VLOOKUP(B17,[1]Sheet1!B$4:H$8446,7,0) -> 70 | I17: =IF(H17>=90,"Xuất sắc",IF(H17>=80,"Tốt", IF(H17>=65,"Khá",IF(H17>=50,"Trung bình", IF(H17>=35, "Yếu", "Kém"))))) -> Khá | J17: =VLOOKUP(B17,[1]Sheet1!B$4:K$8446,9,0) -> 70 | K17: =IF(J17>=90,"Xuất sắc",IF(J17>=80,"Tốt", IF(J17>=65,"Khá",IF(J17>=50,"Trung bình", IF(J17>=35, "Yếu", "Kém"))))) -> Khá
A18: 6 | B18: 24020422 | C18: Đinh Tiến Cường | D18: 38962 | E18: =VLOOKUP(B18,[1]Sheet1!B$4:L$8446,4,0) -> 80 | F18: =VLOOKUP(B18,[1]Sheet1!B$4:F$8446,5,0) -> 80 | G18: =VLOOKUP(B18,[1]Sheet1!B$4:J$8446,6,0) -> 80 | H18: =VLOOKUP(B18,[1]Sheet1!B$4:H$8446,7,0) -> 80 | I18: =IF(H18>=90,"Xuất sắc",IF(H18>=80,"Tốt", IF(H18>=65,"Khá",IF(H18>=50,"Trung bình", IF(H18>=35, "Yếu", "Kém"))))) -> Tốt | J18: =VLOOKUP(B18,[1]Sheet1!B$4:K$8446,9,0) -> 80 | K18: =IF(J18>=90,"Xuất sắc",IF(J18>=80,"Tốt", IF(J18>=65,"Khá",IF(J18>=50,"Trung bình", IF(J18>=35, "Yếu", "Kém"))))) -> Tốt
A19: 7 | B19: 24020454 | C19: Nguyễn Hữu Dũng | D19: 38838 | E19: =VLOOKUP(B19,[1]Sheet1!B$4:L$8446,4,0) -> 88 | F19: =VLOOKUP(B19,[1]Sheet1!B$4:F$8446,5,0) -> 88 | G19: =VLOOKUP(B19,[1]Sheet1!B$4:J$8446,6,0) -> 88 | H19: =VLOOKUP(B19,[1]Sheet1!B$4:H$8446,7,0) -> 88 | I19: =IF(H19>=90,"Xuất sắc",IF(H19>=80,"Tốt", IF(H19>=65,"Khá",IF(H19>=50,"Trung bình", IF(H19>=35, "Yếu", "Kém"))))) -> Tốt | J19: =VLOOKUP(B19,[1]Sheet1!B$4:K$8446,9,0) -> 88 | K19: =IF(J19>=90,"Xuất sắc",IF(J19>=80,"Tốt", IF(J19>=65,"Khá",IF(J19>=50,"Trung bình", IF(J19>=35, "Yếu", "Kém"))))) -> Tốt
A20: 8 | B20: 24020470 | C20: Nguyễn Hà Duy | D20: 39026 | E20: =VLOOKUP(B20,[1]Sheet1!B$4:L$8446,4,0) -> 86 | F20: =VLOOKUP(B20,[1]Sheet1!B$4:F$8446,5,0) -> 86 | G20: =VLOOKUP(B20,[1]Sheet1!B$4:J$8446,6,0) -> 86 | H20: =VLOOKUP(B20,[1]Sheet1!B$4:H$8446,7,0) -> 86 | I20: =IF(H20>=90,"Xuất sắc",IF(H20>=80,"Tốt", IF(H20>=65,"Khá",IF(H20>=50,"Trung bình", IF(H20>=35, "Yếu", "Kém"))))) -> Tốt | J20: =VLOOKUP(B20,[1]Sheet1!B$4:K$8446,9,0) -> 86 | K20: =IF(J20>=90,"Xuất sắc",IF(J20>=80,"Tốt", IF(J20>=65,"Khá",IF(J20>=50,"Trung bình", IF(J20>=35, "Yếu", "Kém"))))) -> Tốt
A21: 9 | B21: 24020462 | C21: Nguyễn Đức Dương | D21: 38753 | E21: =VLOOKUP(B21,[1]Sheet1!B$4:L$8446,4,0) -> 100 | F21: =VLOOKUP(B21,[1]Sheet1!B$4:F$8446,5,0) -> 100 | G21: =VLOOKUP(B21,[1]Sheet1!B$4:J$8446,6,0) -> 100 | H21: =VLOOKUP(B21,[1]Sheet1!B$4:H$8446,7,0) -> 100 | I21: =IF(H21>=90,"Xuất sắc",IF(H21>=80,"Tốt", IF(H21>=65,"Khá",IF(H21>=50,"Trung bình", IF(H21>=35, "Yếu", "Kém"))))) -> Xuất sắc | J21: =VLOOKUP(B21,[1]Sheet1!B$4:K$8446,9,0) -> 100 | K21: =IF(J21>=90,"Xuất sắc",IF(J21>=80,"Tốt", IF(J21>=65,"Khá",IF(J21>=50,"Trung bình", IF(J21>=35, "Yếu", "Kém"))))) -> Xuất sắc
A22: 10 | B22: 24020438 | C22: Nguyễn Văn Đạt | D22: 38741 | E22: =VLOOKUP(B22,[1]Sheet1!B$4:L$8446,4,0) -> 70 | F22: =VLOOKUP(B22,[1]Sheet1!B$4:F$8446,5,0) -> 80 | G22: =VLOOKUP(B22,[1]Sheet1!B$4:J$8446,6,0) -> 80 | H22: =VLOOKUP(B22,[1]Sheet1!B$4:H$8446,7,0) -> 80 | I22: =IF(H22>=90,"Xuất sắc",IF(H22>=80,"Tốt", IF(H22>=65,"Khá",IF(H22>=50,"Trung bình", IF(H22>=35, "Yếu", "Kém"))))) -> Tốt | J22: =VLOOKUP(B22,[1]Sheet1!B$4:K$8446,9,0) -> 80 | K22: =IF(J22>=90,"Xuất sắc",IF(J22>=80,"Tốt", IF(J22>=65,"Khá",IF(J22>=50,"Trung bình", IF(J22>=35, "Yếu", "Kém"))))) -> Tốt
A23: 11 | B23: 24020430 | C23: Lưu Ngọc Đăng | D23: 38858 | E23: =VLOOKUP(B23,[1]Sheet1!B$4:L$8446,4,0) -> 85 | F23: =VLOOKUP(B23,[1]Sheet1!B$4:F$8446,5,0) -> 77 | G23: =VLOOKUP(B23,[1]Sheet1!B$4:J$8446,6,0) -> 77 | H23: =VLOOKUP(B23,[1]Sheet1!B$4:H$8446,7,0) -> 77 | I23: =IF(H23>=90,"Xuất sắc",IF(H23>=80,"Tốt", IF(H23>=65,"Khá",IF(H23>=50,"Trung bình", IF(H23>=35, "Yếu", "Kém"))))) -> Khá | J23: =VLOOKUP(B23,[1]Sheet1!B$4:K$8446,9,0) -> 77 | K23: =IF(J23>=90,"Xuất sắc",IF(J23>=80,"Tốt", IF(J23>=65,"Khá",IF(J23>=50,"Trung bình", IF(J23>=35, "Yếu", "Kém"))))) -> Khá
A24: 12 | B24: 24020446 | C24: Nguyễn Bùi Hoàng Đức | D24: 38968 | E24: =VLOOKUP(B24,[1]Sheet1!B$4:L$8446,4,0) -> 80 | F24: =VLOOKUP(B24,[1]Sheet1!B$4:F$8446,5,0) -> 80 | G24: =VLOOKUP(B24,[1]Sheet1!B$4:J$8446,6,0) -> 80 | H24: =VLOOKUP(B24,[1]Sheet1!B$4:H$8446,7,0) -> 80 | I24: =IF(H24>=90,"Xuất sắc",IF(H24>=80,"Tốt", IF(H24>=65,"Khá",IF(H24>=50,"Trung bình", IF(H24>=35, "Yếu", "Kém"))))) -> Tốt | J24: =VLOOKUP(B24,[1]Sheet1!B$4:K$8446,9,0) -> 80 | K24: =IF(J24>=90,"Xuất sắc",IF(J24>=80,"Tốt", IF(J24>=65,"Khá",IF(J24>=50,"Trung bình", IF(J24>=35, "Yếu", "Kém"))))) -> Tốt
... A51: 39 | B51: 24020694 | C51: Nguyễn Quang Vinh | D51: 38906 | E51: =VLOOKUP(B51,[1]Sheet1!B$4:L$8446,4,0) -> 90 | F51: =VLOOKUP(B51,[1]Sheet1!B$4:F$8446,5,0) -> 90 | G51: =VLOOKUP(B51,[1]Sheet1!B$4:J$8446,6,0) -> 90 | H51: =VLOOKUP(B51,[1]Sheet1!B$4:H$8446,7,0) -> 90 | I51: =IF(H51>=90,"Xuất sắc",IF(H51>=80,"Tốt", IF(H51>=65,"Khá",IF(H51>=50,"Trung bình", IF(H51>=35, "Yếu", "Kém"))))) -> Xuất sắc | J51: =VLOOKUP(B51,[1]Sheet1!B$4:K$8446,9,0) -> 90 | K51: =IF(J51>=90,"Xuất sắc",IF(J51>=80,"Tốt", IF(J51>=65,"Khá",IF(J51>=50,"Trung bình", IF(J51>=35, "Yếu", "Kém"))))) -> Xuất sắc
A53: Ấn định danh sách có 39 sinh viên./.

Sheet K69ECE5
A1: ĐẠI HỌC QUỐC GIA HÀ NỘI | G1: CỘNG HÒA XÃ HỘI CHỦ NGHĨA VIỆT NAM
A2: TRƯỜNG ĐẠI HỌC CÔNG NGHỆ | G2: Độc lập - Tự do - Hạnh phúc
A5: BẢNG TỔNG HỢP KẾT QUẢ RÈN LUYỆN CỦA SINH VIÊN
A6: LỚP QH-2024-I/CQ-E-CE5, HỌC KỲ 2, NĂM HỌC 2024-2025
A7: KHOA ĐIỆN TỬ VIỄN THÔNG
A10: STT | B10: MASV | C10: Họ và tên | D10: Ngày sinh | E10: Điểm tự ĐG | F10: Điểm BCS | G10: Điểm GVCN | H10: Điểm KL | J10: Điểm KL
H11: HĐ cấp Khoa | J11: HĐ cấp Trường (dự kiến)
H12: Điểm | I12: Xếp loại | J12: Điểm | K12: Xếp loại
A13: 1 | B13: 24020375 | C13: Phạm Hà Nguyên An | D13: 38731 | E13: =VLOOKUP(B13,[1]Sheet1!B$4:L$8446,4,0) -> 82 | F13: =VLOOKUP(B13,[1]Sheet1!B$4:F$8446,5,0) -> 82 | G13: =VLOOKUP(B13,[1]Sheet1!B$4:J$8446,6,0) -> 82 | H13: =VLOOKUP(B13,[1]Sheet1!B$4:H$8446,7,0) -> 82 | I13: =IF(H13>=90,"Xuất sắc",IF(H13>=80,"Tốt", IF(H13>=65,"Khá",IF(H13>=50,"Trung bình", IF(H13>=35, "Yếu", "Kém"))))) -> Tốt | J13: =VLOOKUP(B13,[1]Sheet1!B$4:K$8446,9,0) -> 82 | K13: =IF(J13>=90,"Xuất sắc",IF(J13>=80,"Tốt", IF(J13>=65,"Khá",IF(J13>=50,"Trung bình", IF(J13>=35, "Yếu", "Kém"))))) -> Tốt
A14: 2 | B14: 24020383 | C14: Nguyễn Đỗ Đức Anh | D14: 39073 | E14: =VLOOKUP(B14,[1]Sheet1!B$4:L$8446,4,0) -> 80 | F14: =VLOOKUP(B14,[1]Sheet1!B$4:F$8446,5,0) -> 80 | G14: =VLOOKUP(B14,[1]Sheet1!B$4:J$8446,6,0) -> 80 | H14: =VLOOKUP(B14,[1]Sheet1!B$4:H$8446,7,0) -> 80 | I14: =IF(H14>=90,"Xuất sắc",IF(H14>=80,"Tốt", IF(H14>=65,"Khá",IF(H14>=50,"Trung bình", IF(H14>=35, "Yếu", "Kém"))))) -> Tốt | J14: =VLOOKUP(B14,[1]Sheet1!B$4:K$8446,9,0) -> 80 | K14: =IF(J14>=90,"Xuất sắc",IF(J14>=80,"Tốt", IF(J14>=65,"Khá",IF(J14>=50,"Trung bình", IF(J14>=35, "Yếu", "Kém"))))) -> Tốt
A15: 3 | B15: 24020391 | C15: Phạm Hải Anh | D15: 38888 | E15: =VLOOKUP(B15,[1]Sheet1!B$4:L$8446,4,0) -> 82 | F15: =VLOOKUP(B15,[1]Sheet1!B$4:F$8446,5,0) -> 92 | G15: =VLOOKUP(B15,[1]Sheet1!B$4:J$8446,6,0) -> 92 | H15: =VLOOKUP(B15,[1]Sheet1!B$4:H$8446,7,0) -> 92 | I15: =IF(H15>=90,"Xuất sắc",IF(H15>=80,"Tốt", IF(H15>=65,"Khá",IF(H15>=50,"Trung bình", IF(H15>=35, "Yếu", "Kém"))))) -> Xuất sắc | J15: =VLOOKUP(B15,[1]Sheet1!B$4:K$8446,9,0) -> 92 | K15: =IF(J15>=90,"Xuất sắc",IF(J15>=80,"Tốt", IF(J15>=65,"Khá",IF(J15>=50,"Trung bình", IF(J15>=35, "Yếu", "Kém"))))) -> Xuất sắc
A16: 4 | B16: 24020399 | C16: Nguyễn Viết Bách | D16: 38746 | E16: =VLOOKUP(B16,[1]Sheet1!B$4:L$8446,4,0) -> 82 | F16: =VLOOKUP(B16,[1]Sheet1!B$4:F$8446,5,0) -> 82 | G16: =VLOOKUP(B16,[1]Sheet1!B$4:J$8446,6,0) -> 82 | H16: =VLOOKUP(B16,[1]Sheet1!B$4:H$8446,7,0) -> 82 | I16: =IF(H16>=90,"Xuất sắc",IF(H16>=80,"Tốt", IF(H16>=65,"Khá",IF(H16>=50,"Trung bình", IF(H16>=35, "Yếu", "Kém"))))) -> Tốt | J16: =VLOOKUP(B16,[1]Sheet1!B$4:K$8446,9,0) -> 82 | K16: =IF(J16>=90,"Xuất sắc",IF(J16>=80,"Tốt", IF(J16>=65,"Khá",IF(J16>=50,"Trung bình", IF(J16>=35, "Yếu", "Kém"))))) -> Tốt
A17: 5 | B17: 24020407 | C17: Phạm Long Bình | D17: 39062 | E17: =VLOOKUP(B17,[1]Sheet1!B$4:L$8446,4,0) -> 80 | F17: =VLOOKUP(B17,[1]Sheet1!B$4:F$8446,5,0) -> 80 | G17: =VLOOKUP(B17,[1]Sheet1!B$4:J$8446,6,0) -> 80 | H17: =VLOOKUP(B17,[1]Sheet1!B$4:H$8446,7,0) -> 80 | I17: =IF(H17>=90,"Xuất sắc",IF(H17>=80,"Tốt", IF(H17>=65,"Khá",IF(H17>=50,"Trung bình", IF(H17>=35, "Yếu", "Kém"))))) -> Tốt | J17: =VLOOKUP(B17,[1]Sheet1!B$4:K$8446,9,0) -> 80 | K17: =IF(J17>=90,"Xuất sắc",IF(J17>=80,"Tốt", IF(J17>=65,"Khá",IF(J17>=50,"Trung bình", IF(J17>=35, "Yếu", "Kém"))))) -> Tốt
A18: 6 | B18: 24020415 | C18: Nguyễn Minh Chiến | D18: 38804 | E18: =VLOOKUP(B18,[1]Sheet1!B$4:L$8446,4,0) -> 80 | F18: =VLOOKUP(B18,[1]Sheet1!B$4:F$8446,5,0) -> 80 | G18: =VLOOKUP(B18,[1]Sheet1!B$4:J$8446,6,0) -> 80 | H18: =VLOOKUP(B18,[1]Sheet1!B$4:H$8446,7,0) -> 80 | I18: =IF(H18>=90,"Xuất sắc",IF(H18>=80,"Tốt", IF(H18>=65,"Khá",IF(H18>=50,"Trung bình", IF(H18>=35, "Yếu", "Kém"))))) -> Tốt | J18: =VLOOKUP(B18,[1]Sheet1!B$4:K$8446,9,0) -> 80 | K18: =IF(J18>=90,"Xuất sắc",IF(J18>=80,"Tốt", IF(J18>=65,"Khá",IF(J18>=50,"Trung bình", IF(J18>=35, "Yếu", "Kém"))))) -> Tốt
A19: 7 | B19: 24020423 | C19: Lê Mạnh Cường | D19: 38909 | E19: =VLOOKUP(B19,[1]Sheet1!B$4:L$8446,4,0) -> 80 | F19: =VLOOKUP(B19,[1]Sheet1!B$4:F$8446,5,0) -> 80 | G19: =VLOOKUP(B19,[1]Sheet1!B$4:J$8446,6,0) -> 80 | H19: =VLOOKUP(B19,[1]Sheet1!B$4:H$8446,7,0) -> 80 | I19: =IF(H19>=90,"Xuất sắc",IF(H19>=80,"Tốt", IF(H19>=65,"Khá",IF(H19>=50,"Trung bình", IF(H19>=35, "Yếu", "Kém"))))) -> Tốt | J19: =VLOOKUP(B19,[1]Sheet1!B$4:K$8446,9,0) -> 80 | K19: =IF(J19>=90,"Xuất sắc",IF(J19>=80,"Tốt", IF(J19>=65,"Khá",IF(J19>=50,"Trung bình", IF(J19>=35, "Yếu", "Kém"))))) -> Tốt
A20: 8 | B20: 24020455 | C20: Nguyễn Tiến Dũng | D20: 38927 | E20: =VLOOKUP(B20,[1]Sheet1!B$4:L$8446,4,0) -> 82 | F20: =VLOOKUP(B20,[1]Sheet1!B$4:F$8446,5,0) -> 82 | G20: =VLOOKUP(B20,[1]Sheet1!B$4:J$8446,6,0) -> 82 | H20: =VLOOKUP(B20,[1]Sheet1!B$4:H$8446,7,0) -> 82 | I20: =IF(H20>=90,"Xuất sắc",IF(H20>=80,"Tốt", IF(H20>=65,"Khá",IF(H20>=50,"Trung bình", IF(H20>=35, "Yếu", "Kém"))))) -> Tốt | J20: =VLOOKUP(B20,[1]Sheet1!B$4:K$8446,9,0) -> 82 | K20: =IF(J20>=90,"Xuất sắc",IF(J20>=80,"Tốt", IF(J20>=65,"Khá",IF(J20>=50,"Trung bình", IF(J20>=35, "Yếu", "Kém"))))) -> Tốt
A21: 9 | B21: 24020471 | C21: Nguyễn Lê Khánh Duy | D21: 38844 | E21: =VLOOKUP(B21,[1]Sheet1!B$4:L$8446,4,0) -> 94 | F21: =VLOOKUP(B21,[1]Sheet1!B$4:F$8446,5,0) -> 94 | G21: =VLOOKUP(B21,[1]Sheet1!B$4:J$8446,6,0) -> 94 | H21: =VLOOKUP(B21,[1]Sheet1!B$4:H$8446,7,0) -> 94 | I21: =IF(H21>=90,"Xuất sắc",IF(H21>=80,"Tốt", IF(H21>=65,"Khá",IF(H21>=50,"Trung bình", IF(H21>=35, "Yếu", "Kém"))))) -> Xuất sắc | J21: =VLOOKUP(B21,[1]Sheet1!B$4:K$8446,9,0) -> 94 | K21: =IF(J21>=90,"Xuất sắc",IF(J21>=80,"Tốt", IF(J21>=65,"Khá",IF(J21>=50,"Trung bình", IF(J21>=35, "Yếu", "Kém"))))) -> Xuất sắc
A22: 10 | B22: 24020463 | C22: Nguyễn Quang Dương | D22: 39073 | E22: =VLOOKUP(B22,[1]Sheet1!B$4:L$8446,4,0) -> 82 | F22: =VLOOKUP(B22,[1]Sheet1!B$4:F$8446,5,0) -> 82 | G22: =VLOOKUP(B22,[1]Sheet1!B$4:J$8446,6,0) -> 82 | H22: =VLOOKUP(B22,[1]Sheet1!B$4:H$8446,7,0) -> 82 | I22: =IF(H22>=90,"Xuất sắc",IF(H22>=80,"Tốt", IF(H22>=65,"Khá",IF(H22>=50,"Trung bình", IF(H22>=35, "Yếu", "Kém"))))) -> Tốt | J22: =VLOOKUP(B22,[1]Sheet1!B$4:K$8446,9,0) -> 82 | K22: =IF(J22>=90,"Xuất sắc",IF(J22>=80,"Tốt", IF(J22>=65,"Khá",IF(J22>=50,"Trung bình", IF(J22>=35, "Yếu", "Kém"))))) -> Tốt
A23: 11 | B23: 24020439 | C23: Phạm Xuân Đạt | D23: 38947 | E23: =VLOOKUP(B23,[1]Sheet1!B$4:L$8446,4,0) -> 92 | F23: =VLOOKUP(B23,[1]Sheet1!B$4:F$8446,5,0) -> 92 | G23: =VLOOKUP(B23,[1]Sheet1!B$4:J$8446,6,0) -> 92 | H23: =VLOOKUP(B23,[1]Sheet1!B$4:H$8446,7,0) -> 92 | I23: =IF(H23>=90,"Xuất sắc",IF(H23>=80,"Tốt", IF(H23>=65,"Khá",IF(H23>=50,"Trung bình", IF(H23>=35, "Yếu", "Kém"))))) -> Xuất sắc | J23: =VLOOKUP(B23,[1]Sheet1!B$4:K$8446,9,0) -> 92 | K23: =IF(J23>=90,"Xuất sắc",IF(J23>=80,"Tốt", IF(J23>=65,"Khá",IF(J23>=50,"Trung bình", IF(J23>=35, "Yếu", "Kém"))))) -> Xuất sắc
A24: 12 | B24: 24020431 | C24: Nguyễn Hữu Hải Đăng | D24: 38849 | E24: =VLOOKUP(B24,[1]Sheet1!B$4:L$8446,4,0) -> 82 | F24: =VLOOKUP(B24,[1]Sheet1!B$4:F$8446,5,0) -> 82 | G24: =VLOOKUP(B24,[1]Sheet1!B$4:J$8446,6,0) -> 82 | H24: =VLOOKUP(B24,[1]Sheet1!B$4:H$8446,7,0) -> 82 | I24: =IF(H24>=90,"Xuất sắc",IF(H24>=80,"Tốt", IF(H24>=65,"Khá",IF(H24>=50,"Trung bình", IF(H24>=35, "Yếu", "Kém"))))) -> Tốt | J24: =VLOOKUP(B24,[1]Sheet1!B$4:K$8446,9,0) -> 82 | K24: =IF(J24>=90,"Xuất sắc",IF(J24>=80,"Tốt", IF(J24>=65,"Khá",IF(J24>=50,"Trung bình", IF(J24>=35, "Yếu", "Kém"))))) -> Tốt
... A50: 38 | B50: 24020695 | C50: Nguyễn Anh Vũ | D50: 38948 | E50: =VLOOKUP(B50,[1]Sheet1!B$4:L$8446,4,0) -> 92 | F50: =VLOOKUP(B50,[1]Sheet1!B$4:F$8446,5,0) -> 92 | G50: =VLOOKUP(B50,[1]Sheet1!B$4:J$8446,6,0) -> 92 | H50: =VLOOKUP(B50,[1]Sheet1!B$4:H$8446,7,0) -> 92 | I50: =IF(H50>=90,"Xuất sắc",IF(H50>=80,"Tốt", IF(H50>=65,"Khá",IF(H50>=50,"Trung bình", IF(H50>=35, "Yếu", "Kém"))))) -> Xuất sắc | J50: =VLOOKUP(B50,[1]Sheet1!B$4:K$8446,9,0) -> 92 | K50: =IF(J50>=90,"Xuất sắc",IF(J50>=80,"Tốt", IF(J50>=65,"Khá",IF(J50>=50,"Trung bình", IF(J50>=35, "Yếu", "Kém"))))) -> Xuất sắc
A52: Ấn định danh sách có 38 sinh viên./.

Sheet K69ECE6
A1: ĐẠI HỌC QUỐC GIA HÀ NỘI | G1: CỘNG HÒA XÃ HỘI CHỦ NGHĨA VIỆT NAM
A2: TRƯỜNG ĐẠI HỌC CÔNG NGHỆ | G2: Độc lập - Tự do - Hạnh phúc
A5: BẢNG TỔNG HỢP KẾT QUẢ RÈN LUYỆN CỦA SINH VIÊN
A6: LỚP QH-2024-I/CQ-E-CE6, HỌC KỲ 2, NĂM HỌC 2024-2025
A7: KHOA ĐIỆN TỬ VIỄN THÔNG
A10: STT | B10: MASV | C10: Họ và tên | D10: Ngày sinh | E10: Điểm tự ĐG | F10: Điểm BCS | G10: Điểm GVCN | H10: Điểm KL | J10: Điểm KL
H11: HĐ cấp Khoa | J11: HĐ cấp Trường (dự kiến)
H12: Điểm | I12: Xếp loại | J12: Điểm | K12: Xếp loại
A13: 1 | B13: 24020376 | C13: Bùi Đức Anh | D13: 38869 | E13: =VLOOKUP(B13,[1]Sheet1!B$4:L$8446,4,0) -> 80 | F13: =VLOOKUP(B13,[1]Sheet1!B$4:F$8446,5,0) -> 82 | G13: =VLOOKUP(B13,[1]Sheet1!B$4:J$8446,6,0) -> 82 | H13: =VLOOKUP(B13,[1]Sheet1!B$4:H$8446,7,0) -> 82 | I13: =IF(H13>=90,"Xuất sắc",IF(H13>=80,"Tốt", IF(H13>=65,"Khá",IF(H13>=50,"Trung bình", IF(H13>=35, "Yếu", "Kém"))))) -> Tốt | J13: =VLOOKUP(B13,[1]Sheet1!B$4:K$8446,9,0) -> 82 | K13: =IF(J13>=90,"Xuất sắc",IF(J13>=80,"Tốt", IF(J13>=65,"Khá",IF(J13>=50,"Trung bình", IF(J13>=35, "Yếu", "Kém"))))) -> Tốt
A14: 2 | B14: 24020384 | C14: Nguyễn Đức Anh | D14: 38798 | E14: =VLOOKUP(B14,[1]Sheet1!B$4:L$8446,4,0) -> 94 | F14: =VLOOKUP(B14,[1]Sheet1!B$4:F$8446,5,0) -> 94 | G14: =VLOOKUP(B14,[1]Sheet1!B$4:J$8446,6,0) -> 94 | H14: =VLOOKUP(B14,[1]Sheet1!B$4:H$8446,7,0) -> 94 | I14: =IF(H14>=90,"Xuất sắc",IF(H14>=80,"Tốt", IF(H14>=65,"Khá",IF(H14>=50,"Trung bình", IF(H14>=35, "Yếu", "Kém"))))) -> Xuất sắc | J14: =VLOOKUP(B14,[1]Sheet1!B$4:K$8446,9,0) -> 94 | K14: =IF(J14>=90,"Xuất sắc",IF(J14>=80,"Tốt", IF(J14>=65,"Khá",IF(J14>=50,"Trung bình", IF(J14>=35, "Yếu", "Kém"))))) -> Xuất sắc
A15: 3 | B15: 24020392 | C15: Phạm Tuấn Anh | D15: 38922 | E15: =VLOOKUP(B15,[1]Sheet1!B$4:L$8446,4,0) -> 82 | F15: =VLOOKUP(B15,[1]Sheet1!B$4:F$8446,5,0) -> 74 | G15: =VLOOKUP(B15,[1]Sheet1!B$4:J$8446,6,0) -> 74 | H15: =VLOOKUP(B15,[1]Sheet1!B$4:H$8446,7,0) -> 74 | I15: =IF(H15>=90,"Xuất sắc",IF(H15>=80,"Tốt", IF(H15>=65,"Khá",IF(H15>=50,"Trung bình", IF(H15>=35, "Yếu", "Kém"))))) -> Khá | J15: =VLOOKUP(B15,[1]Sheet1!B$4:K$8446,9,0) -> 74 | K15: =IF(J15>=90,"Xuất sắc",IF(J15>=80,"Tốt", IF(J15>=65,"Khá",IF(J15>=50,"Trung bình", IF(J15>=35, "Yếu", "Kém"))))) -> Khá
A16: 4 | B16: 24020400 | C16: Phạm Đăng Bách | D16: 38906 | E16: =VLOOKUP(B16,[1]Sheet1!B$4:L$8446,4,0) -> 80 | F16: =VLOOKUP(B16,[1]Sheet1!B$4:F$8446,5,0) -> 80 | G16: =VLOOKUP(B16,[1]Sheet1!B$4:J$8446,6,0) -> 80 | H16: =VLOOKUP(B16,[1]Sheet1!B$4:H$8446,7,0) -> 80 | I16: =IF(H16>=90,"Xuất sắc",IF(H16>=80,"Tốt", IF(H16>=65,"Khá",IF(H16>=50,"Trung bình", IF(H16>=35, "Yếu", "Kém"))))) -> Tốt | J16: =VLOOKUP(B16,[1]Sheet1!B$4:K$8446,9,0) -> 80 | K16: =IF(J16>=90,"Xuất sắc",IF(J16>=80,"Tốt", IF(J16>=65,"Khá",IF(J16>=50,"Trung bình", IF(J16>=35, "Yếu", "Kém"))))) -> Tốt
A17: 5 | B17: 24020408 | C17: Trần Thái Bình | D17: 38908 | E17: =VLOOKUP(B17,[1]Sheet1!B$4:L$8446,4,0) -> 70 | F17: =VLOOKUP(B17,[1]Sheet1!B$4:F$8446,5,0) -> 67 | G17: =VLOOKUP(B17,[1]Sheet1!B$4:J$8446,6,0) -> 67 | H17: =VLOOKUP(B17,[1]Sheet1!B$4:H$8446,7,0) -> 67 | I17: =IF(H17>=90,"Xuất sắc",IF(H17>=80,"Tốt", IF(H17>=65,"Khá",IF(H17>=50,"Trung bình", IF(H17>=35, "Yếu", "Kém"))))) -> Khá | J17: =VLOOKUP(B17,[1]Sheet1!B$4:K$8446,9,0) -> 67 | K17: =IF(J17>=90,"Xuất sắc",IF(J17>=80,"Tốt", IF(J17>=65,"Khá",IF(J17>=50,"Trung bình", IF(J17>=35, "Yếu", "Kém"))))) -> Khá
A18: 6 | B18: 24020416 | C18: Trần Văn Chiến | D18: 39026 | E18: =VLOOKUP(B18,[1]Sheet1!B$4:L$8446,4,0) -> 70 | F18: =VLOOKUP(B18,[1]Sheet1!B$4:F$8446,5,0) -> 70 | G18: =VLOOKUP(B18,[1]Sheet1!B$4:J$8446,6,0) -> 70 | H18: =VLOOKUP(B18,[1]Sheet1!B$4:H$8446,7,0) -> 70 | I18: =IF(H18>=90,"Xuất sắc",IF(H18>=80,"Tốt", IF(H18>=65,"Khá",IF(H18>=50,"Trung bình", IF(H18>=35, "Yếu", "Kém"))))) -> Khá | J18: =VLOOKUP(B18,[1]Sheet1!B$4:K$8446,9,0) -> 70 | K18: =IF(J18>=90,"Xuất sắc",IF(J18>=80,"Tốt", IF(J18>=65,"Khá",IF(J18>=50,"Trung bình", IF(J18>=35, "Yếu", "Kém"))))) -> Khá
A19: 7 | B19: 24020424 | C19: Lê Mạnh Cường | D19: 38900 | E19: =VLOOKUP(B19,[1]Sheet1!B$4:L$8446,4,0) -> 80 | F19: =VLOOKUP(B19,[1]Sheet1!B$4:F$8446,5,0) -> 82 | G19: =VLOOKUP(B19,[1]Sheet1!B$4:J$8446,6,0) -> 82 | H19: =VLOOKUP(B19,[1]Sheet1!B$4:H$8446,7,0) -> 82 | I19: =IF(H19>=90,"Xuất sắc",IF(H19>=80,"Tốt", IF(H19>=65,"Khá",IF(H19>=50,"Trung bình", IF(H19>=35, "Yếu", "Kém"))))) -> Tốt | J19: =VLOOKUP(B19,[1]Sheet1!B$4:K$8446,9,0) -> 82 | K19: =IF(J19>=90,"Xuất sắc",IF(J19>=80,"Tốt", IF(J19>=65,"Khá",IF(J19>=50,"Trung bình", IF(J19>=35, "Yếu", "Kém"))))) -> Tốt
A20: 8 | B20: 24020456 | C20: Nguyễn Tuấn Dũng | D20: 38976 | E20: =VLOOKUP(B20,[1]Sheet1!B$4:L$8446,4,0) -> 70 | F20: =VLOOKUP(B20,[1]Sheet1!B$4:F$8446,5,0) -> 70 | G20: =VLOOKUP(B20,[1]Sheet1!B$4:J$8446,6,0) -> 70 | H20: =VLOOKUP(B20,[1]Sheet1!B$4:H$8446,7,0) -> 70 | I20: =IF(H20>=90,"Xuất sắc",IF(H20>=80,"Tốt", IF(H20>=65,"Khá",IF(H20>=50,"Trung bình", IF(H20>=35, "Yếu", "Kém"))))) -> Khá | J20: =VLOOKUP(B20,[1]Sheet1!B$4:K$8446,9,0) -> 70 | K20: =IF(J20>=90,"Xuất sắc",IF(J20>=80,"Tốt", IF(J20>=65,"Khá",IF(J20>=50,"Trung bình", IF(J20>=35, "Yếu", "Kém"))))) -> Khá
A21: 9 | B21: 24020464 | C21: Nguyễn Thùy Dương | D21: 39071 | E21: =VLOOKUP(B21,[1]Sheet1!B$4:L$8446,4,0) -> 80 | F21: =VLOOKUP(B21,[1]Sheet1!B$4:F$8446,5,0) -> 70 | G21: =VLOOKUP(B21,[1]Sheet1!B$4:J$8446,6,0) -> 70 | H21: =VLOOKUP(B21,[1]Sheet1!B$4:H$8446,7,0) -> 70 | I21: =IF(H21>=90,"Xuất sắc",IF(H21>=80,"Tốt", IF(H21>=65,"Khá",IF(H21>=50,"Trung bình", IF(H21>=35, "Yếu", "Kém"))))) -> Khá | J21: =VLOOKUP(B21,[1]Sheet1!B$4:K$8446,9,0) -> 70 | K21: =IF(J21>=90,"Xuất sắc",IF(J21>=80,"Tốt", IF(J21>=65,"Khá",IF(J21>=50,"Trung bình", IF(J21>=35, "Yếu", "Kém"))))) -> Khá
A22: 10 | B22: 24020440 | C22: Vũ An Đạt | D22: 38598 | E22: =VLOOKUP(B22,[1]Sheet1!B$4:L$8446,4,0) -> 80 | F22: =VLOOKUP(B22,[1]Sheet1!B$4:F$8446,5,0) -> 80 | G22: =VLOOKUP(B22,[1]Sheet1!B$4:J$8446,6,0) -> 80 | H22: =VLOOKUP(B22,[1]Sheet1!B$4:H$8446,7,0) -> 80 | I22: =IF(H22>=90,"Xuất sắc",IF(H22>=80,"Tốt", IF(H22>=65,"Khá",IF(H22>=50,"Trung bình", IF(H22>=35, "Yếu", "Kém"))))) -> Tốt | J22: =VLOOKUP(B22,[1]Sheet1!B$4:K$8446,9,0) -> 80 | K22: =IF(J22>=90,"Xuất sắc",IF(J22>=80,"Tốt", IF(J22>=65,"Khá",IF(J22>=50,"Trung bình", IF(J22>=35, "Yếu", "Kém"))))) -> Tốt
A23: 11 | B23: 24020432 | C23: Nguyễn Sỹ Nam Đăng | D23: 38886 | E23: =VLOOKUP(B23,[1]Sheet1!B$4:L$8446,4,0) -> 80 | F23: =VLOOKUP(B23,[1]Sheet1!B$4:F$8446,5,0) -> 80 | G23: =VLOOKUP(B23,[1]Sheet1!B$4:J$8446,6,0) -> 80 | H23: =VLOOKUP(B23,[1]Sheet1!B$4:H$8446,7,0) -> 80 | I23: =IF(H23>=90,"Xuất sắc",IF(H23>=80,"Tốt", IF(H23>=65,"Khá",IF(H23>=50,"Trung bình", IF(H23>=35, "Yếu", "Kém"))))) -> Tốt | J23: =VLOOKUP(B23,[1]Sheet1!B$4:K$8446,9,0) -> 80 | K23: =IF(J23>=90,"Xuất sắc",IF(J23>=80,"Tốt", IF(J23>=65,"Khá",IF(J23>=50,"Trung bình", IF(J23>=35, "Yếu", "Kém"))))) -> Tốt
A24: 12 | B24: 24020448 | C24: Nguyễn Minh Đức | D24: 38810 | E24: =VLOOKUP(B24,[1]Sheet1!B$4:L$8446,4,0) -> 87 | F24: =VLOOKUP(B24,[1]Sheet1!B$4:F$8446,5,0) -> 84 | G24: =VLOOKUP(B24,[1]Sheet1!B$4:J$8446,6,0) -> 84 | H24: =VLOOKUP(B24,[1]Sheet1!B$4:H$8446,7,0) -> 84 | I24: =IF(H24>=90,"Xuất sắc",IF(H24>=80,"Tốt", IF(H24>=65,"Khá",IF(H24>=50,"Trung bình", IF(H24>=35, "Yếu", "Kém"))))) -> Tốt | J24: =VLOOKUP(B24,[1]Sheet1!B$4:K$8446,9,0) -> 84 | K24: =IF(J24>=90,"Xuất sắc",IF(J24>=80,"Tốt", IF(J24>=65,"Khá",IF(J24>=50,"Trung bình", IF(J24>=35, "Yếu", "Kém"))))) -> Tốt
... A52: 40 | B52: 24020696 | C52: Nguyễn Anh Vũ | D52: 38890 | E52: =VLOOKUP(B52,[1]Sheet1!B$4:L$8446,4,0) -> 94 | F52: =VLOOKUP(B52,[1]Sheet1!B$4:F$8446,5,0) -> 94 | G52: =VLOOKUP(B52,[1]Sheet1!B$4:J$8446,6,0) -> 94 | H52: =VLOOKUP(B52,[1]Sheet1!B$4:H$8446,7,0) -> 94 | I52: =IF(H52>=90,"Xuất sắc",IF(H52>=80,"Tốt", IF(H52>=65,"Khá",IF(H52>=50,"Trung bình", IF(H52>=35, "Yếu", "Kém"))))) -> Xuất sắc | J52: =VLOOKUP(B52,[1]Sheet1!B$4:K$8446,9,0) -> 94 | K52: =IF(J52>=90,"Xuất sắc",IF(J52>=80,"Tốt", IF(J52>=65,"Khá",IF(J52>=50,"Trung bình", IF(J52>=35, "Yếu", "Kém"))))) -> Xuất sắc
A54: Ấn định danh sách có 40 sinh viên./.

Sheet K69ECE7
A1: ĐẠI HỌC QUỐC GIA HÀ NỘI | G1: CỘNG HÒA XÃ HỘI CHỦ NGHĨA VIỆT NAM
A2: TRƯỜNG ĐẠI HỌC CÔNG NGHỆ | G2: Độc lập - Tự do - Hạnh phúc
A5: BẢNG TỔNG HỢP KẾT QUẢ RÈN LUYỆN CỦA SINH VIÊN
A6: LỚP QH-2024-I/CQ-E-CE7, HỌC KỲ 2, NĂM HỌC 2024-2025
A7: KHOA ĐIỆN TỬ VIỄN THÔNG
A10: STT | B10: MASV | C10: Họ và tên | D10: Ngày sinh | E10: Điểm tự ĐG | F10: Điểm BCS | G10: Điểm GVCN | H10: Điểm KL | J10: Điểm KL
H11: HĐ cấp Khoa | J11: HĐ cấp Trường (dự kiến)
H12: Điểm | I12: Xếp loại | J12: Điểm | K12: Xếp loại
A13: 1 | B13: 24020377 | C13: Bùi Thế Anh | D13: 38904 | E13: =VLOOKUP(B13,[1]Sheet1!B$4:L$8446,4,0) -> 70 | F13: =VLOOKUP(B13,[1]Sheet1!B$4:F$8446,5,0) -> 75 | G13: =VLOOKUP(B13,[1]Sheet1!B$4:J$8446,6,0) -> 75 | H13: =VLOOKUP(B13,[1]Sheet1!B$4:H$8446,7,0) -> 75 | I13: =IF(H13>=90,"Xuất sắc",IF(H13>=80,"Tốt", IF(H13>=65,"Khá",IF(H13>=50,"Trung bình", IF(H13>=35, "Yếu", "Kém"))))) -> Khá | J13: =VLOOKUP(B13,[1]Sheet1!B$4:K$8446,9,0) -> 75 | K13: =IF(J13>=90,"Xuất sắc",IF(J13>=80,"Tốt", IF(J13>=65,"Khá",IF(J13>=50,"Trung bình", IF(J13>=35, "Yếu", "Kém"))))) -> Khá
A14: 2 | B14: 24020385 | C14: Nguyễn Duy Anh | D14: 38948 | E14: =VLOOKUP(B14,[1]Sheet1!B$4:L$8446,4,0) -> 90 | F14: =VLOOKUP(B14,[1]Sheet1!B$4:F$8446,5,0) -> 90 | G14: =VLOOKUP(B14,[1]Sheet1!B$4:J$8446,6,0) -> 90 | H14: =VLOOKUP(B14,[1]Sheet1!B$4:H$8446,7,0) -> 90 | I14: =IF(H14>=90,"Xuất sắc",IF(H14>=80,"Tốt", IF(H14>=65,"Khá",IF(H14>=50,"Trung bình", IF(H14>=35, "Yếu", "Kém"))))) -> Xuất sắc | J14: =VLOOKUP(B14,[1]Sheet1!B$4:K$8446,9,0) -> 90 | K14: =IF(J14>=90,"Xuất sắc",IF(J14>=80,"Tốt", IF(J14>=65,"Khá",IF(J14>=50,"Trung bình", IF(J14>=35, "Yếu", "Kém"))))) -> Xuất sắc
A15: 3 | B15: 24020393 | C15: Phùng Thế Anh | D15: 39012 | E15: =VLOOKUP(B15,[1]Sheet1!B$4:L$8446,4,0) -> 90 | F15: =VLOOKUP(B15,[1]Sheet1!B$4:F$8446,5,0) -> 90 | G15: =VLOOKUP(B15,[1]Sheet1!B$4:J$8446,6,0) -> 90 | H15: =VLOOKUP(B15,[1]Sheet1!B$4:H$8446,7,0) -> 90 | I15: =IF(H15>=90,"Xuất sắc",IF(H15>=80,"Tốt", IF(H15>=65,"Khá",IF(H15>=50,"Trung bình", IF(H15>=35, "Yếu", "Kém"))))) -> Xuất sắc | J15: =VLOOKUP(B15,[1]Sheet1!B$4:K$8446,9,0) -> 90 | K15: =IF(J15>=90,"Xuất sắc",IF(J15>=80,"Tốt", IF(J15>=65,"Khá",IF(J15>=50,"Trung bình", IF(J15>=35, "Yếu", "Kém"))))) -> Xuất sắc
A16: 4 | B16: 24020401 | C16: Nguyễn Gia Bảo | D16: 39051 | E16: =VLOOKUP(B16,[1]Sheet1!B$4:L$8446,4,0) -> 70 | F16: =VLOOKUP(B16,[1]Sheet1!B$4:F$8446,5,0) -> 80 | G16: =VLOOKUP(B16,[1]Sheet1!B$4:J$8446,6,0) -> 80 | H16: =VLOOKUP(B16,[1]Sheet1!B$4:H$8446,7,0) -> 80 | I16: =IF(H16>=90,"Xuất sắc",IF(H16>=80,"Tốt", IF(H16>=65,"Khá",IF(H16>=50,"Trung bình", IF(H16>=35, "Yếu", "Kém"))))) -> Tốt | J16: =VLOOKUP(B16,[1]Sheet1!B$4:K$8446,9,0) -> 80 | K16: =IF(J16>=90,"Xuất sắc",IF(J16>=80,"Tốt", IF(J16>=65,"Khá",IF(J16>=50,"Trung bình", IF(J16>=35, "Yếu", "Kém"))))) -> Tốt
A17: 5 | B17: 24020409 | C17: Nguyễn Trọng Cao | D17: 38738 | E17: =VLOOKUP(B17,[1]Sheet1!B$4:L$8446,4,0) -> 80 | F17: =VLOOKUP(B17,[1]Sheet1!B$4:F$8446,5,0) -> 80 | G17: =VLOOKUP(B17,[1]Sheet1!B$4:J$8446,6,0) -> 80 | H17: =VLOOKUP(B17,[1]Sheet1!B$4:H$8446,7,0) -> 80 | I17: =IF(H17>=90,"Xuất sắc",IF(H17>=80,"Tốt", IF(H17>=65,"Khá",IF(H17>=50,"Trung bình", IF(H17>=35, "Yếu", "Kém"))))) -> Tốt | J17: =VLOOKUP(B17,[1]Sheet1!B$4:K$8446,9,0) -> 80 | K17: =IF(J17>=90,"Xuất sắc",IF(J17>=80,"Tốt", IF(J17>=65,"Khá",IF(J17>=50,"Trung bình", IF(J17>=35, "Yếu", "Kém"))))) -> Tốt
A18: 6 | B18: 24020417 | C18: Lưu Hồng Chúc | D18: 38749 | E18: =VLOOKUP(B18,[1]Sheet1!B$4:L$8446,4,0) -> 94 | F18: =VLOOKUP(B18,[1]Sheet1!B$4:F$8446,5,0) -> 94 | G18: =VLOOKUP(B18,[1]Sheet1!B$4:J$8446,6,0) -> 94 | H18: =VLOOKUP(B18,[1]Sheet1!B$4:H$8446,7,0) -> 94 | I18: =IF(H18>=90,"Xuất sắc",IF(H18>=80,"Tốt", IF(H18>=65,"Khá",IF(H18>=50,"Trung bình", IF(H18>=35, "Yếu", "Kém"))))) -> Xuất sắc | J18: =VLOOKUP(B18,[1]Sheet1!B$4:K$8446,9,0) -> 94 | K18: =IF(J18>=90,"Xuất sắc",IF(J18>=80,"Tốt", IF(J18>=65,"Khá",IF(J18>=50,"Trung bình", IF(J18>=35, "Yếu", "Kém"))))) -> Xuất sắc
A19: 7 | B19: 24020425 | C19: Nguyễn Đình Cường | D19: 38801 | E19: =VLOOKUP(B19,[1]Sheet1!B$4:L$8446,4,0) -> 80 | F19: =VLOOKUP(B19,[1]Sheet1!B$4:F$8446,5,0) -> 80 | G19: =VLOOKUP(B19,[1]Sheet1!B$4:J$8446,6,0) -> 80 | H19: =VLOOKUP(B19,[1]Sheet1!B$4:H$8446,7,0) -> 80 | I19: =IF(H19>=90,"Xuất sắc",IF(H19>=80,"Tốt", IF(H19>=65,"Khá",IF(H19>=50,"Trung bình", IF(H19>=35, "Yếu", "Kém"))))) -> Tốt | J19: =VLOOKUP(B19,[1]Sheet1!B$4:K$8446,9,0) -> 80 | K19: =IF(J19>=90,"Xuất sắc",IF(J19>=80,"Tốt", IF(J19>=65,"Khá",IF(J19>=50,"Trung bình", IF(J19>=35, "Yếu", "Kém"))))) -> Tốt
A20: 8 | B20: 24020457 | C20: Phạm Quang Dũng | D20: 38992 | E20: =VLOOKUP(B20,[1]Sheet1!B$4:L$8446,4,0) -> 80 | F20: =VLOOKUP(B20,[1]Sheet1!B$4:F$8446,5,0) -> 80 | G20: =VLOOKUP(B20,[1]Sheet1!B$4:J$8446,6,0) -> 80 | H20: =VLOOKUP(B20,[1]Sheet1!B$4:H$8446,7,0) -> 80 | I20: =IF(H20>=90,"Xuất sắc",IF(H20>=80,"Tốt", IF(H20>=65,"Khá",IF(H20>=50,"Trung bình", IF(H20>=35, "Yếu", "Kém"))))) -> Tốt | J20: =VLOOKUP(B20,[1]Sheet1!B$4:K$8446,9,0) -> 80 | K20: =IF(J20>=90,"Xuất sắc",IF(J20>=80,"Tốt", IF(J20>=65,"Khá",IF(J20>=50,"Trung bình", IF(J20>=35, "Yếu", "Kém"))))) -> Tốt
A21: 9 | B21: 24020465 | C21: Nguyễn Tùng Dương | D21: 38956 | E21: =VLOOKUP(B21,[1]Sheet1!B$4:L$8446,4,0) -> 80 | F21: =VLOOKUP(B21,[1]Sheet1!B$4:F$8446,5,0) -> 80 | G21: =VLOOKUP(B21,[1]Sheet1!B$4:J$8446,6,0) -> 80 | H21: =VLOOKUP(B21,[1]Sheet1!B$4:H$8446,7,0) -> 80 | I21: =IF(H21>=90,"Xuất sắc",IF(H21>=80,"Tốt", IF(H21>=65,"Khá",IF(H21>=50,"Trung bình", IF(H21>=35, "Yếu", "Kém"))))) -> Tốt | J21: =VLOOKUP(B21,[1]Sheet1!B$4:K$8446,9,0) -> 80 | K21: =IF(J21>=90,"Xuất sắc",IF(J21>=80,"Tốt", IF(J21>=65,"Khá",IF(J21>=50,"Trung bình", IF(J21>=35, "Yếu", "Kém"))))) -> Tốt
A22: 10 | B22: 24020441 | C22: Vũ Đỗ Đình Đạt | D22: 38816 | E22: =VLOOKUP(B22,[1]Sheet1!B$4:L$8446,4,0) -> 90 | F22: =VLOOKUP(B22,[1]Sheet1!B$4:F$8446,5,0) -> 90 | G22: =VLOOKUP(B22,[1]Sheet1!B$4:J$8446,6,0) -> 90 | H22: =VLOOKUP(B22,[1]Sheet1!B$4:H$8446,7,0) -> 90 | I22: =IF(H22>=90,"Xuất sắc",IF(H22>=80,"Tốt", IF(H22>=65,"Khá",IF(H22>=50,"Trung bình", IF(H22>=35, "Yếu", "Kém"))))) -> Xuất sắc | J22: =VLOOKUP(B22,[1]Sheet1!B$4:K$8446,9,0) -> 90 | K22: =IF(J22>=90,"Xuất sắc",IF(J22>=80,"Tốt", IF(J22>=65,"Khá",IF(J22>=50,"Trung bình", IF(J22>=35, "Yếu", "Kém"))))) -> Xuất sắc
A23: 11 | B23: 24020433 | C23: Tô Vũ Phúc Đăng | D23: 38968 | E23: =VLOOKUP(B23,[1]Sheet1!B$4:L$8446,4,0) -> 96 | F23: =VLOOKUP(B23,[1]Sheet1!B$4:F$8446,5,0) -> 94 | G23: =VLOOKUP(B23,[1]Sheet1!B$4:J$8446,6,0) -> 94 | H23: =VLOOKUP(B23,[1]Sheet1!B$4:H$8446,7,0) -> 94 | I23: =IF(H23>=90,"Xuất sắc",IF(H23>=80,"Tốt", IF(H23>=65,"Khá",IF(H23>=50,"Trung bình", IF(H23>=35, "Yếu", "Kém"))))) -> Xuất sắc | J23: =VLOOKUP(B23,[1]Sheet1!B$4:K$8446,9,0) -> 94 | K23: =IF(J23>=90,"Xuất sắc",IF(J23>=80,"Tốt", IF(J23>=65,"Khá",IF(J23>=50,"Trung bình", IF(J23>=35, "Yếu", "Kém"))))) -> Xuất sắc
A24: 12 | B24: 24020449 | C24: Nguyễn Ngọc Đức | D24: 38856 | E24: =VLOOKUP(B24,[1]Sheet1!B$4:L$8446,4,0) -> 90 | F24: =VLOOKUP(B24,[1]Sheet1!B$4:F$8446,5,0) -> 90 | G24: =VLOOKUP(B24,[1]Sheet1!B$4:J$8446,6,0) -> 90 | H24: =VLOOKUP(B24,[1]Sheet1!B$4:H$8446,7,0) -> 90 | I24: =IF(H24>=90,"Xuất sắc",IF(H24>=80,"Tốt", IF(H24>=65,"Khá",IF(H24>=50,"Trung bình", IF(H24>=35, "Yếu", "Kém"))))) -> Xuất sắc | J24: =VLOOKUP(B24,[1]Sheet1!B$4:K$8446,9,0) -> 90 | K24: =IF(J24>=90,"Xuất sắc",IF(J24>=80,"Tốt", IF(J24>=65,"Khá",IF(J24>=50,"Trung bình", IF(J24>=35, "Yếu", "Kém"))))) -> Xuất sắc
... A52: 40 | B52: 24020697 | C52: Nguyễn Nguyên Vũ | D52: 39013 | E52: =VLOOKUP(B52,[1]Sheet1!B$4:L$8446,4,0) -> 80 | F52: =VLOOKUP(B52,[1]Sheet1!B$4:F$8446,5,0) -> 80 | G52: =VLOOKUP(B52,[1]Sheet1!B$4:J$8446,6,0) -> 80 | H52: =VLOOKUP(B52,[1]Sheet1!B$4:H$8446,7,0) -> 80 | I52: =IF(H52>=90,"Xuất sắc",IF(H52>=80,"Tốt", IF(H52>=65,"Khá",IF(H52>=50,"Trung bình", IF(H52>=35, "Yếu", "Kém"))))) -> Tốt | J52: =VLOOKUP(B52,[1]Sheet1!B$4:K$8446,9,0) -> 80 | K52: =IF(J52>=90,"Xuất sắc",IF(J52>=80,"Tốt", IF(J52>=65,"Khá",IF(J52>=50,"Trung bình", IF(J52>=35, "Yếu", "Kém"))))) -> Tốt
A54: Ấn định danh sách có 40 sinh viên./.

Sheet K69ECE8
A1: ĐẠI HỌC QUỐC GIA HÀ NỘI | G1: CỘNG HÒA XÃ HỘI CHỦ NGHĨA VIỆT NAM
A2: TRƯỜNG ĐẠI HỌC CÔNG NGHỆ | G2: Độc lập - Tự do - Hạnh phúc
A5: BẢNG TỔNG HỢP KẾT QUẢ RÈN LUYỆN CỦA SINH VIÊN
A6: LỚP QH-2024-I/CQ-E-CE8, HỌC KỲ 2, NĂM HỌC 2024-2025
A7: KHOA ĐIỆN TỬ VIỄN THÔNG
A10: STT | B10: MASV | C10: Họ và tên | D10: Ngày sinh | E10: Điểm tự ĐG | F10: Điểm BCS | G10: Điểm GVCN | H10: Điểm KL | J10: Điểm KL
H11: HĐ cấp Khoa | J11: HĐ cấp Trường (dự kiến)
H12: Điểm | I12: Xếp loại | J12: Điểm | K12: Xếp loại
A13: 1 | B13: 24020378 | C13: Đỗ Tuấn Anh | D13: 38828 | E13: =VLOOKUP(B13,[1]Sheet1!B$4:L$8446,4,0) -> 80 | F13: =VLOOKUP(B13,[1]Sheet1!B$4:F$8446,5,0) -> 80 | G13: =VLOOKUP(B13,[1]Sheet1!B$4:J$8446,6,0) -> 80 | H13: =VLOOKUP(B13,[1]Sheet1!B$4:H$8446,7,0) -> 80 | I13: =IF(H13>=90,"Xuất sắc",IF(H13>=80,"Tốt", IF(H13>=65,"Khá",IF(H13>=50,"Trung bình", IF(H13>=35, "Yếu", "Kém"))))) -> Tốt | J13: =VLOOKUP(B13,[1]Sheet1!B$4:K$8446,9,0) -> 80 | K13: =IF(J13>=90,"Xuất sắc",IF(J13>=80,"Tốt", IF(J13>=65,"Khá",IF(J13>=50,"Trung bình", IF(J13>=35, "Yếu", "Kém"))))) -> Tốt
A14: 2 | B14: 24020386 | C14: Nguyễn Duy Anh | D14: 38949 | E14: =VLOOKUP(B14,[1]Sheet1!B$4:L$8446,4,0) -> 90 | F14: =VLOOKUP(B14,[1]Sheet1!B$4:F$8446,5,0) -> 90 | G14: =VLOOKUP(B14,[1]Sheet1!B$4:J$8446,6,0) -> 90 | H14: =VLOOKUP(B14,[1]Sheet1!B$4:H$8446,7,0) -> 90 | I14: =IF(H14>=90,"Xuất sắc",IF(H14>=80,"Tốt", IF(H14>=65,"Khá",IF(H14>=50,"Trung bình", IF(H14>=35, "Yếu", "Kém"))))) -> Xuất sắc | J14: =VLOOKUP(B14,[1]Sheet1!B$4:K$8446,9,0) -> 90 | K14: =IF(J14>=90,"Xuất sắc",IF(J14>=80,"Tốt", IF(J14>=65,"Khá",IF(J14>=50,"Trung bình", IF(J14>=35, "Yếu", "Kém"))))) -> Xuất sắc
A15: 3 | B15: 24020394 | C15: Trần Duy Anh | D15: 38817 | E15: =VLOOKUP(B15,[1]Sheet1!B$4:L$8446,4,0) -> 85 | F15: =VLOOKUP(B15,[1]Sheet1!B$4:F$8446,5,0) -> 85 | G15: =VLOOKUP(B15,[1]Sheet1!B$4:J$8446,6,0) -> 85 | H15: =VLOOKUP(B15,[1]Sheet1!B$4:H$8446,7,0) -> 85 | I15: =IF(H15>=90,"Xuất sắc",IF(H15>=80,"Tốt", IF(H15>=65,"Khá",IF(H15>=50,"Trung bình", IF(H15>=35, "Yếu", "Kém"))))) -> Tốt | J15: =VLOOKUP(B15,[1]Sheet1!B$4:K$8446,9,0) -> 85 | K15: =IF(J15>=90,"Xuất sắc",IF(J15>=80,"Tốt", IF(J15>=65,"Khá",IF(J15>=50,"Trung bình", IF(J15>=35, "Yếu", "Kém"))))) -> Tốt
A16: 4 | B16: 24020402 | C16: Nguyễn Gia Bảo | D16: 39031 | E16: =VLOOKUP(B16,[1]Sheet1!B$4:L$8446,4,0) -> 90 | F16: =VLOOKUP(B16,[1]Sheet1!B$4:F$8446,5,0) -> 90 | G16: =VLOOKUP(B16,[1]Sheet1!B$4:J$8446,6,0) -> 90 | H16: =VLOOKUP(B16,[1]Sheet1!B$4:H$8446,7,0) -> 90 | I16: =IF(H16>=90,"Xuất sắc",IF(H16>=80,"Tốt", IF(H16>=65,"Khá",IF(H16>=50,"Trung bình", IF(H16>=35, "Yếu", "Kém"))))) -> Xuất sắc | J16: =VLOOKUP(B16,[1]Sheet1!B$4:K$8446,9,0) -> 90 | K16: =IF(J16>=90,"Xuất sắc",IF(J16>=80,"Tốt", IF(J16>=65,"Khá",IF(J16>=50,"Trung bình", IF(J16>=35, "Yếu", "Kém"))))) -> Xuất sắc
A17: 5 | B17: 24020410 | C17: Nguyễn Minh Cát | D17: 38884 | E17: =VLOOKUP(B17,[1]Sheet1!B$4:L$8446,4,0) -> 82 | F17: =VLOOKUP(B17,[1]Sheet1!B$4:F$8446,5,0) -> 82 | G17: =VLOOKUP(B17,[1]Sheet1!B$4:J$8446,6,0) -> 82 | H17: =VLOOKUP(B17,[1]Sheet1!B$4:H$8446,7,0) -> 82 | I17: =IF(H17>=90,"Xuất sắc",IF(H17>=80,"Tốt", IF(H17>=65,"Khá",IF(H17>=50,"Trung bình", IF(H17>=35, "Yếu", "Kém"))))) -> Tốt | J17: =VLOOKUP(B17,[1]Sheet1!B$4:K$8446,9,0) -> 82 | K17: =IF(J17>=90,"Xuất sắc",IF(J17>=80,"Tốt", IF(J17>=65,"Khá",IF(J17>=50,"Trung bình", IF(J17>=35, "Yếu", "Kém"))))) -> Tốt
A18: 6 | B18: 24020418 | C18: Ngô Thành Chung | D18: 38927 | E18: =VLOOKUP(B18,[1]Sheet1!B$4:L$8446,4,0) -> 90 | F18: =VLOOKUP(B18,[1]Sheet1!B$4:F$8446,5,0) -> 90 | G18: =VLOOKUP(B18,[1]Sheet1!B$4:J$8446,6,0) -> 90 | H18: =VLOOKUP(B18,[1]Sheet1!B$4:H$8446,7,0) -> 90 | I18: =IF(H18>=90,"Xuất sắc",IF(H18>=80,"Tốt", IF(H18>=65,"Khá",IF(H18>=50,"Trung bình", IF(H18>=35, "Yếu", "Kém"))))) -> Xuất sắc | J18: =VLOOKUP(B18,[1]Sheet1!B$4:K$8446,9,0) -> 90 | K18: =IF(J18>=90,"Xuất sắc",IF(J18>=80,"Tốt", IF(J18>=65,"Khá",IF(J18>=50,"Trung bình", IF(J18>=35, "Yếu", "Kém"))))) -> Xuất sắc
A19: 7 | B19: 24020426 | C19: Nguyễn Mạnh Cường | D19: 38853 | E19: =VLOOKUP(B19,[1]Sheet1!B$4:L$8446,4,0) -> 70 | F19: =VLOOKUP(B19,[1]Sheet1!B$4:F$8446,5,0) -> 80 | G19: =VLOOKUP(B19,[1]Sheet1!B$4:J$8446,6,0) -> 80 | H19: =VLOOKUP(B19,[1]Sheet1!B$4:H$8446,7,0) -> 80 | I19: =IF(H19>=90,"Xuất sắc",IF(H19>=80,"Tốt", IF(H19>=65,"Khá",IF(H19>=50,"Trung bình", IF(H19>=35, "Yếu", "Kém"))))) -> Tốt | J19: =VLOOKUP(B19,[1]Sheet1!B$4:K$8446,9,0) -> 80 | K19: =IF(J19>=90,"Xuất sắc",IF(J19>=80,"Tốt", IF(J19>=65,"Khá",IF(J19>=50,"Trung bình", IF(J19>=35, "Yếu", "Kém"))))) -> Tốt
A20: 8 | B20: 24020450 | C20: Đặng Minh Dũng | D20: 38873 | E20: =VLOOKUP(B20,[1]Sheet1!B$4:L$8446,4,0) -> 90 | F20: =VLOOKUP(B20,[1]Sheet1!B$4:F$8446,5,0) -> 90 | G20: =VLOOKUP(B20,[1]Sheet1!B$4:J$8446,6,0) -> 90 | H20: =VLOOKUP(B20,[1]Sheet1!B$4:H$8446,7,0) -> 90 | I20: =IF(H20>=90,"Xuất sắc",IF(H20>=80,"Tốt", IF(H20>=65,"Khá",IF(H20>=50,"Trung bình", IF(H20>=35, "Yếu", "Kém"))))) -> Xuất sắc | J20: =VLOOKUP(B20,[1]Sheet1!B$4:K$8446,9,0) -> 90 | K20: =IF(J20>=90,"Xuất sắc",IF(J20>=80,"Tốt", IF(J20>=65,"Khá",IF(J20>=50,"Trung bình", IF(J20>=35, "Yếu", "Kém"))))) -> Xuất sắc
A21: 9 | B21: 24020458 | C21: Trần Anh Dũng | D21: 38850 | E21: =VLOOKUP(B21,[1]Sheet1!B$4:L$8446,4,0) -> 70 | F21: =VLOOKUP(B21,[1]Sheet1!B$4:F$8446,5,0) -> 80 | G21: =VLOOKUP(B21,[1]Sheet1!B$4:J$8446,6,0) -> 80 | H21: =VLOOKUP(B21,[1]Sheet1!B$4:H$8446,7,0) -> 80 | I21: =IF(H21>=90,"Xuất sắc",IF(H21>=80,"Tốt", IF(H21>=65,"Khá",IF(H21>=50,"Trung bình", IF(H21>=35, "Yếu", "Kém"))))) -> Tốt | J21: =VLOOKUP(B21,[1]Sheet1!B$4:K$8446,9,0) -> 80 | K21: =IF(J21>=90,"Xuất sắc",IF(J21>=80,"Tốt", IF(J21>=65,"Khá",IF(J21>=50,"Trung bình", IF(J21>=35, "Yếu", "Kém"))))) -> Tốt
A22: 10 | B22: 24020474 | C22: Trần Anh Duy | D22: 39015 | E22: =VLOOKUP(B22,[1]Sheet1!B$4:L$8446,4,0) -> 80 | F22: =VLOOKUP(B22,[1]Sheet1!B$4:F$8446,5,0) -> 80 | G22: =VLOOKUP(B22,[1]Sheet1!B$4:J$8446,6,0) -> 80 | H22: =VLOOKUP(B22,[1]Sheet1!B$4:H$8446,7,0) -> 80 | I22: =IF(H22>=90,"Xuất sắc",IF(H22>=80,"Tốt", IF(H22>=65,"Khá",IF(H22>=50,"Trung bình", IF(H22>=35, "Yếu", "Kém"))))) -> Tốt | J22: =VLOOKUP(B22,[1]Sheet1!B$4:K$8446,9,0) -> 80 | K22: =IF(J22>=90,"Xuất sắc",IF(J22>=80,"Tốt", IF(J22>=65,"Khá",IF(J22>=50,"Trung bình", IF(J22>=35, "Yếu", "Kém"))))) -> Tốt
A23: 11 | B23: 24020466 | C23: Vương Chí Dương | D23: 38934 | E23: =VLOOKUP(B23,[1]Sheet1!B$4:L$8446,4,0) -> 90 | F23: =VLOOKUP(B23,[1]Sheet1!B$4:F$8446,5,0) -> 90 | G23: =VLOOKUP(B23,[1]Sheet1!B$4:J$8446,6,0) -> 90 | H23: =VLOOKUP(B23,[1]Sheet1!B$4:H$8446,7,0) -> 90 | I23: =IF(H23>=90,"Xuất sắc",IF(H23>=80,"Tốt", IF(H23>=65,"Khá",IF(H23>=50,"Trung bình", IF(H23>=35, "Yếu", "Kém"))))) -> Xuất sắc | J23: =VLOOKUP(B23,[1]Sheet1!B$4:K$8446,9,0) -> 90 | K23: =IF(J23>=90,"Xuất sắc",IF(J23>=80,"Tốt", IF(J23>=65,"Khá",IF(J23>=50,"Trung bình", IF(J23>=35, "Yếu", "Kém"))))) -> Xuất sắc
A24: 12 | B24: 24020434 | C24: Đỗ Duy Tiến Đạt | D24: 38893 | E24: =VLOOKUP(B24,[1]Sheet1!B$4:L$8446,4,0) -> 90 | F24: =VLOOKUP(B24,[1]Sheet1!B$4:F$8446,5,0) -> 90 | G24: =VLOOKUP(B24,[1]Sheet1!B$4:J$8446,6,0) -> 90 | H24: =VLOOKUP(B24,[1]Sheet1!B$4:H$8446,7,0) -> 90 | I24: =IF(H24>=90,"Xuất sắc",IF(H24>=80,"Tốt", IF(H24>=65,"Khá",IF(H24>=50,"Trung bình", IF(H24>=35, "Yếu", "Kém"))))) -> Xuất sắc | J24: =VLOOKUP(B24,[1]Sheet1!B$4:K$8446,9,0) -> 90 | K24: =IF(J24>=90,"Xuất sắc",IF(J24>=80,"Tốt", IF(J24>=65,"Khá",IF(J24>=50,"Trung bình", IF(J24>=35, "Yếu", "Kém"))))) -> Xuất sắc
... A29: 17 | B29: 24020506 | C29: Trần Trung Hiếu | D29: 39037 | E29: =VLOOKUP(B29,[1]Sheet1!B$4:L$8446,4,0) -> 80 | F29: =VLOOKUP(B29,[1]Sheet1!B$4:F$8446,5,0) -> 80 | G29: =VLOOKUP(B29,[1]Sheet1!B$4:J$8446,6,0) -> 80 | H29: =VLOOKUP(B29,[1]Sheet1!B$4:H$8446,7,0) -> 80 | I29: =IF(H29>=90,"Xuất sắc",IF(H29>=80,"Tốt", IF(H29>=65,"Khá",IF(H29>=50,"Trung bình", IF(H29>=35, "Yếu", "Kém"))))) -> Tốt | J29: =VLOOKUP(B29,[1]Sheet1!B$4:K$8446,9,0) -> 80 | K29: =IF(J29>=90,"Xuất sắc",IF(J29>=80,"Tốt", IF(J29>=65,"Khá",IF(J29>=50,"Trung bình", IF(J29>=35, "Yếu", "Kém"))))) -> Tốt
A30: 18 | B30: 24020514 | C30: Vũ Minh Hoàng | D30: 38848 | E30: =VLOOKUP(B30,[1]Sheet1!B$4:L$8446,4,0) -> 70 | F30: 70 | G30: 70 | H30: 70 | I30: =IF(H30>=90,"Xuất sắc",IF(H30>=80,"Tốt", IF(H30>=65,"Khá",IF(H30>=50,"Trung bình", IF(H30>=35, "Yếu", "Kém"))))) -> Khá | J30: 70 | K30: =IF(J30>=90,"Xuất sắc",IF(J30>=80,"Tốt", IF(J30>=65,"Khá",IF(J30>=50,"Trung bình", IF(J30>=35, "Yếu", "Kém"))))) -> Khá
A31: 19 | B31: 24020522 | C31: Nguyễn Việt Hùng | D31: 38865 | E31: =VLOOKUP(B31,[1]Sheet1!B$4:L$8446,4,0) -> 80 | F31: =VLOOKUP(B31,[1]Sheet1!B$4:F$8446,5,0) -> 80 | G31: =VLOOKUP(B31,[1]Sheet1!B$4:J$8446,6,0) -> 80 | H31: =VLOOKUP(B31,[1]Sheet1!B$4:H$8446,7,0) -> 80 | I31: =IF(H31>=90,"Xuất sắc",IF(H31>=80,"Tốt", IF(H31>=65,"Khá",IF(H31>=50,"Trung bình", IF(H31>=35, "Yếu", "Kém"))))) -> Tốt | J31: =VLOOKUP(B31,[1]Sheet1!B$4:K$8446,9,0) -> 80 | K31: =IF(J31>=90,"Xuất sắc",IF(J31>=80,"Tốt", IF(J31>=65,"Khá",IF(J31>=50,"Trung bình", IF(J31>=35, "Yếu", "Kém"))))) -> Tốt
A32: 20 | B32: 24020530 | C32: Hà Đức Huy | D32: 38774 | E32: =VLOOKUP(B32,[1]Sheet1!B$4:L$8446,4,0) -> 90 | F32: =VLOOKUP(B32,[1]Sheet1!B$4:F$8446,5,0) -> 90 | G32: =VLOOKUP(B32,[1]Sheet1!B$4:J$8446,6,0) -> 90 | H32: =VLOOKUP(B32,[1]Sheet1!B$4:H$8446,7,0) -> 90 | I32: =IF(H32>=90,"Xuất sắc",IF(H32>=80,"Tốt", IF(H32>=65,"Khá",IF(H32>=50,"Trung bình", IF(H32>=35, "Yếu", "Kém"))))) -> Xuất sắc | J32: =VLOOKUP(B32,[1]Sheet1!B$4:K$8446,9,0) -> 90 | K32: =IF(J32>=90,"Xuất sắc",IF(J32>=80,"Tốt", IF(J32>=65,"Khá",IF(J32>=50,"Trung bình", IF(J32>=35, "Yếu", "Kém"))))) -> Xuất sắc
A33: 21 | B33: 24020538 | C33: Hoàng Lê Gia Khánh | D33: 38770 | E33: =VLOOKUP(B33,[1]Sheet1!B$4:L$8446,4,0) -> 85 | F33: =VLOOKUP(B33,[1]Sheet1!B$4:F$8446,5,0) -> 85 | G33: =VLOOKUP(B33,[1]Sheet1!B$4:J$8446,6,0) -> 85 | H33: =VLOOKUP(B33,[1]Sheet1!B$4:H$8446,7,0) -> 85 | I33: =IF(H33>=90,"Xuất sắc",IF(H33>=80,"Tốt", IF(H33>=65,"Khá",IF(H33>=50,"Trung bình", IF(H33>=35, "Yếu", "Kém"))))) -> Tốt | J33: =VLOOKUP(B33,[1]Sheet1!B$4:K$8446,9,0) -> 85 | K33: =IF(J33>=90,"Xuất sắc",IF(J33>=80,"Tốt", IF(J33>=65,"Khá",IF(J33>=50,"Trung bình", IF(J33>=35, "Yếu", "Kém"))))) -> Tốt
A34: 22 | B34: 24020546 | C34: Ngọ Tuấn Kiệt | D34: 38958 | E34: =VLOOKUP(B34,[1]Sheet1!B$4:L$8446,4,0) -> 90 | F34: =VLOOKUP(B34,[1]Sheet1!B$4:F$8446,5,0) -> 90 | G34: =VLOOKUP(B34,[1]Sheet1!B$4:J$8446,6,0) -> 90 | H34: =VLOOKUP(B34,[1]Sheet1!B$4:H$8446,7,0) -> 90 | I34: =IF(H34>=90,"Xuất sắc",IF(H34>=80,"Tốt", IF(H34>=65,"Khá",IF(H34>=50,"Trung bình", IF(H34>=35, "Yếu", "Kém"))))) -> Xuất sắc | J34: =VLOOKUP(B34,[1]Sheet1!B$4:K$8446,9,0) -> 90 | K34: =IF(J34>=90,"Xuất sắc",IF(J34>=80,"Tốt", IF(J34>=65,"Khá",IF(J34>=50,"Trung bình", IF(J34>=35, "Yếu", "Kém"))))) -> Xuất sắc
A35: 23 | B35: 24020554 | C35: Kiều Nhật Linh | D35: 38864 | E35: =VLOOKUP(B35,[1]Sheet1!B$4:L$8446,4,0) -> 92 | F35: =VLOOKUP(B35,[1]Sheet1!B$4:F$8446,5,0) -> 92 | G35: =VLOOKUP(B35,[1]Sheet1!B$4:J$8446,6,0) -> 92 | H35: =VLOOKUP(B35,[1]Sheet1!B$4:H$8446,7,0) -> 92 | I35: =IF(H35>=90,"Xuất sắc",IF(H35>=80,"Tốt", IF(H35>=65,"Khá",IF(H35>=50,"Trung bình", IF(H35>=35, "Yếu", "Kém"))))) -> Xuất sắc | J35: =VLOOKUP(B35,[1]Sheet1!B$4:K$8446,9,0) -> 92 | K35: =IF(J35>=90,"Xuất sắc",IF(J35>=80,"Tốt", IF(J35>=65,"Khá",IF(J35>=50,"Trung bình", IF(J35>=35, "Yếu", "Kém"))))) -> Xuất sắc
A36: 24 | B36: 24020562 | C36: Trần Đức Long | D36: 38857 | E36: =VLOOKUP(B36,[1]Sheet1!B$4:L$8446,4,0) -> 90 | F36: =VLOOKUP(B36,[1]Sheet1!B$4:F$8446,5,0) -> 90 | G36: =VLOOKUP(B36,[1]Sheet1!B$4:J$8446,6,0) -> 90 | H36: =VLOOKUP(B36,[1]Sheet1!B$4:H$8446,7,0) -> 90 | I36: =IF(H36>=90,"Xuất sắc",IF(H36>=80,"Tốt", IF(H36>=65,"Khá",IF(H36>=50,"Trung bình", IF(H36>=35, "Yếu", "Kém"))))) -> Xuất sắc | J36: =VLOOKUP(B36,[1]Sheet1!B$4:K$8446,9,0) -> 90 | K36: =IF(J36>=90,"Xuất sắc",IF(J36>=80,"Tốt", IF(J36>=65,"Khá",IF(J36>=50,"Trung bình", IF(J36>=35, "Yếu", "Kém"))))) -> Xuất sắc
A37: 25 | B37: 24020570 | C37: Lê Gia Minh | D37: 38845 | E37: =VLOOKUP(B37,[1]Sheet1!B$4:L$8446,4,0) -> 75 | F37: =VLOOKUP(B37,[1]Sheet1!B$4:F$8446,5,0) -> 85 | G37: =VLOOKUP(B37,[1]Sheet1!B$4:J$8446,6,0) -> 85 | H37: =VLOOKUP(B37,[1]Sheet1!B$4:H$8446,7,0) -> 85 | I37: =IF(H37>=90,"Xuất sắc",IF(H37>=80,"Tốt", IF(H37>=65,"Khá",IF(H37>=50,"Trung bình", IF(H37>=35, "Yếu", "Kém"))))) -> Tốt | J37: =VLOOKUP(B37,[1]Sheet1!B$4:K$8446,9,0) -> 85 | K37: =IF(J37>=90,"Xuất sắc",IF(J37>=80,"Tốt", IF(J37>=65,"Khá",IF(J37>=50,"Trung bình", IF(J37>=35, "Yếu", "Kém"))))) -> Tốt
A38: 26 | B38: 24020578 | C38: Phạm Công Minh | D38: 38737 | E38: =VLOOKUP(B38,[1]Sheet1!B$4:L$8446,4,0) -> 80 | F38: =VLOOKUP(B38,[1]Sheet1!B$4:F$8446,5,0) -> 80 | G38: =VLOOKUP(B38,[1]Sheet1!B$4:J$8446,6,0) -> 80 | H38: =VLOOKUP(B38,[1]Sheet1!B$4:H$8446,7,0) -> 80 | I38: =IF(H38>=90,"Xuất sắc",IF(H38>=80,"Tốt", IF(H38>=65,"Khá",IF(H38>=50,"Trung bình", IF(H38>=35, "Yếu", "Kém"))))) -> Tốt | J38: =VLOOKUP(B38,[1]Sheet1!B$4:K$8446,9,0) -> 80 | K38: =IF(J38>=90,"Xuất sắc",IF(J38>=80,"Tốt", IF(J38>=65,"Khá",IF(J38>=50,"Trung bình", IF(J38>=35, "Yếu", "Kém"))))) -> Tốt
A39: 27 | B39: 24020586 | C39: Phạm Đức Nam | D39: 39075 | E39: =VLOOKUP(B39,[1]Sheet1!B$4:L$8446,4,0) -> 70 | F39: =VLOOKUP(B39,[1]Sheet1!B$4:F$8446,5,0) -> 80 | G39: =VLOOKUP(B39,[1]Sheet1!B$4:J$8446,6,0) -> 80 | H39: =VLOOKUP(B39,[1]Sheet1!B$4:H$8446,7,0) -> 80 | I39: =IF(H39>=90,"Xuất sắc",IF(H39>=80,"Tốt", IF(H39>=65,"Khá",IF(H39>=50,"Trung bình", IF(H39>=35, "Yếu", "Kém"))))) -> Tốt | J39: =VLOOKUP(B39,[1]Sheet1!B$4:K$8446,9,0) -> 80 | K39: =IF(J39>=90,"Xuất sắc",IF(J39>=80,"Tốt", IF(J39>=65,"Khá",IF(J39>=50,"Trung bình", IF(J39>=35, "Yếu", "Kém"))))) -> Tốt
A40: 28 | B40: 24020594 | C40: Phan Trung Nguyên | D40: 38919 | E40: =VLOOKUP(B40,[1]Sheet1!B$4:L$8446,4,0) -> 80 | F40: =VLOOKUP(B40,[1]Sheet1!B$4:F$8446,5,0) -> 80 | G40: =VLOOKUP(B40,[1]Sheet1!B$4:J$8446,6,0) -> 80 | H40: =VLOOKUP(B40,[1]Sheet1!B$4:H$8446,7,0) -> 80 | I40: =IF(H40>=90,"Xuất sắc",IF(H40>=80,"Tốt", IF(H40>=65,"Khá",IF(H40>=50,"Trung bình", IF(H40>=35, "Yếu", "Kém"))))) -> Tốt | J40: =VLOOKUP(B40,[1]Sheet1!B$4:K$8446,9,0) -> 80 | K40: =IF(J40>=90,"Xuất sắc",IF(J40>=80,"Tốt", IF(J40>=65,"Khá",IF(J40>=50,"Trung bình", IF(J40>=35, "Yếu", "Kém"))))) -> Tốt
A41: 29 | B41: 24020602 | C41: Nguyễn Khắc Lâm Phong | D41: 38969 | E41: =VLOOKUP(B41,[1]Sheet1!B$4:L$8446,4,0) -> 80 | F41: =VLOOKUP(B41,[1]Sheet1!B$4:F$8446,5,0) -> 80 | G41: =VLOOKUP(B41,[1]Sheet1!B$4:J$8446,6,0) -> 80 | H41: =VLOOKUP(B41,[1]Sheet1!B$4:H$8446,7,0) -> 80 | I41: =IF(H41>=90,"Xuất sắc",IF(H41>=80,"Tốt", IF(H41>=65,"Khá",IF(H41>=50,"Trung bình", IF(H41>=35, "Yếu", "Kém"))))) -> Tốt | J41: =VLOOKUP(B41,[1]Sheet1!B$4:K$8446,9,0) -> 80 | K41: =IF(J41>=90,"Xuất sắc",IF(J41>=80,"Tốt", IF(J41>=65,"Khá",IF(J41>=50,"Trung bình", IF(J41>=35, "Yếu", "Kém"))))) -> Tốt
A42: 30 | B42: 24020610 | C42: Lê Anh Phương | D42: 38772 | E42: =VLOOKUP(B42,[1]Sheet1!B$4:L$8446,4,0) -> 80 | F42: =VLOOKUP(B42,[1]Sheet1!B$4:F$8446,5,0) -> 80 | G42: =VLOOKUP(B42,[1]Sheet1!B$4:J$8446,6,0) -> 80 | H42: =VLOOKUP(B42,[1]Sheet1!B$4:H$8446,7,0) -> 80 | I42: =IF(H42>=90,"Xuất sắc",IF(H42>=80,"Tốt", IF(H42>=65,"Khá",IF(H42>=50,"Trung bình", IF(H42>=35, "Yếu", "Kém"))))) -> Tốt | J42: =VLOOKUP(B42,[1]Sheet1!B$4:K$8446,9,0) -> 80 | K42: =IF(J42>=90,"Xuất sắc",IF(J42>=80,"Tốt", IF(J42>=65,"Khá",IF(J42>=50,"Trung bình", IF(J42>=35, "Yếu", "Kém"))))) -> Tốt
... A53: 41 | B53: 24020698 | C53: Nguyễn Thị Như Ý | D53: 38962 | E53: =VLOOKUP(B53,[1]Sheet1!B$4:L$8446,4,0) -> 90 | F53: =VLOOKUP(B53,[1]Sheet1!B$4:F$8446,5,0) -> 90 | G53: =VLOOKUP(B53,[1]Sheet1!B$4:J$8446,6,0) -> 90 | H53: =VLOOKUP(B53,[1]Sheet1!B$4:H$8446,7,0) -> 90 | I53: =IF(H53>=90,"Xuất sắc",IF(H53>=80,"Tốt", IF(H53>=65,"Khá",IF(H53>=50,"Trung bình", IF(H53>=35, "Yếu", "Kém"))))) -> Xuất sắc | J53: =VLOOKUP(B53,[1]Sheet1!B$4:K$8446,9,0) -> 90 | K53: =IF(J53>=90,"Xuất sắc",IF(J53>=80,"Tốt", IF(J53>=65,"Khá",IF(J53>=50,"Trung bình", IF(J53>=35, "Yếu", "Kém"))))) -> Xuất sắc
A55: Ấn định danh sách có 41 sinh viên./.

Sheet K69EEC1
A1: ĐẠI HỌC QUỐC GIA HÀ NỘI | G1: CỘNG HÒA XÃ HỘI CHỦ NGHĨA VIỆT NAM
A2: TRƯỜNG ĐẠI HỌC CÔNG NGHỆ | G2: Độc lập - Tự do - Hạnh phúc
A5: BẢNG TỔNG HỢP KẾT QUẢ RÈN LUYỆN CỦA SINH VIÊN
A6: LỚP QH-2024-I/CQ-E-EC1, HỌC KỲ 2, NĂM HỌC 2024-2025
A7: KHOA ĐIỆN TỬ VIỄN THÔNG
A10: STT | B10: MASV | C10: Họ và tên | D10: Ngày sinh | E10: Điểm tự ĐG | F10: Điểm BCS | G10: Điểm GVCN | H10: Điểm KL | J10: Điểm KL
H11: HĐ cấp Khoa | J11: HĐ cấp Trường (dự kiến)
H12: Điểm | I12: Xếp loại | J12: Điểm | K12: Xếp loại
A13: 1 | B13: 24021681 | C13: Đinh Quốc An | D13: 38931 | E13: =VLOOKUP(B13,[1]Sheet1!B$4:L$8446,4,0) -> 80 | F13: =VLOOKUP(B13,[1]Sheet1!B$4:F$8446,5,0) -> 80 | G13: =VLOOKUP(B13,[1]Sheet1!B$4:J$8446,6,0) -> 80 | H13: =VLOOKUP(B13,[1]Sheet1!B$4:H$8446,7,0) -> 80 | I13: =IF(H13>=90,"Xuất sắc",IF(H13>=80,"Tốt", IF(H13>=65,"Khá",IF(H13>=50,"Trung bình", IF(H13>=35, "Yếu", "Kém"))))) -> Tốt | J13: =VLOOKUP(B13,[1]Sheet1!B$4:K$8446,9,0) -> 80 | K13: =IF(J13>=90,"Xuất sắc",IF(J13>=80,"Tốt", IF(J13>=65,"Khá",IF(J13>=50,"Trung bình", IF(J13>=35, "Yếu", "Kém"))))) -> Tốt
A14: 2 | B14: 24021689 | C14: Nguyễn Ngọc Thạch Anh | D14: 38849 | E14: =VLOOKUP(B14,[1]Sheet1!B$4:L$8446,4,0) -> 80 | F14: =VLOOKUP(B14,[1]Sheet1!B$4:F$8446,5,0) -> 90 | G14: =VLOOKUP(B14,[1]Sheet1!B$4:J$8446,6,0) -> 90 | H14: =VLOOKUP(B14,[1]Sheet1!B$4:H$8446,7,0) -> 90 | I14: =IF(H14>=90,"Xuất sắc",IF(H14>=80,"Tốt", IF(H14>=65,"Khá",IF(H14>=50,"Trung bình", IF(H14>=35, "Yếu", "Kém"))))) -> Xuất sắc | J14: =VLOOKUP(B14,[1]Sheet1!B$4:K$8446,9,0) -> 90 | K14: =IF(J14>=90,"Xuất sắc",IF(J14>=80,"Tốt", IF(J14>=65,"Khá",IF(J14>=50,"Trung bình", IF(J14>=35, "Yếu", "Kém"))))) -> Xuất sắc
A15: 3 | B15: 24021697 | C15: Chu Ngọc Ánh | D15: 39080 | E15: =VLOOKUP(B15,[1]Sheet1!B$4:L$8446,4,0) -> 92 | F15: =VLOOKUP(B15,[1]Sheet1!B$4:F$8446,5,0) -> 92 | G15: =VLOOKUP(B15,[1]Sheet1!B$4:J$8446,6,0) -> 92 | H15: =VLOOKUP(B15,[1]Sheet1!B$4:H$8446,7,0) -> 92 | I15: =IF(H15>=90,"Xuất sắc",IF(H15>=80,"Tốt", IF(H15>=65,"Khá",IF(H15>=50,"Trung bình", IF(H15>=35, "Yếu", "Kém"))))) -> Xuất sắc | J15: =VLOOKUP(B15,[1]Sheet1!B$4:K$8446,9,0) -> 92 | K15: =IF(J15>=90,"Xuất sắc",IF(J15>=80,"Tốt", IF(J15>=65,"Khá",IF(J15>=50,"Trung bình", IF(J15>=35, "Yếu", "Kém"))))) -> Xuất sắc
A16: 4 | B16: 24021705 | C16: Phạm Đức Chính | D16: 38937 | E16: =VLOOKUP(B16,[1]Sheet1!B$4:L$8446,4,0) -> 70 | F16: =VLOOKUP(B16,[1]Sheet1!B$4:F$8446,5,0) -> 80 | G16: =VLOOKUP(B16,[1]Sheet1!B$4:J$8446,6,0) -> 80 | H16: =VLOOKUP(B16,[1]Sheet1!B$4:H$8446,7,0) -> 80 | I16: =IF(H16>=90,"Xuất sắc",IF(H16>=80,"Tốt", IF(H16>=65,"Khá",IF(H16>=50,"Trung bình", IF(H16>=35, "Yếu", "Kém"))))) -> Tốt | J16: =VLOOKUP(B16,[1]Sheet1!B$4:K$8446,9,0) -> 80 | K16: =IF(J16>=90,"Xuất sắc",IF(J16>=80,"Tốt", IF(J16>=65,"Khá",IF(J16>=50,"Trung bình", IF(J16>=35, "Yếu", "Kém"))))) -> Tốt
A17: 5 | B17: 24021745 | C17: Bùi Tiến Dũng | D17: 39061 | E17: =VLOOKUP(B17,[1]Sheet1!B$4:L$8446,4,0) -> 77 | F17: =VLOOKUP(B17,[1]Sheet1!B$4:F$8446,5,0) -> 77 | G17: =VLOOKUP(B17,[1]Sheet1!B$4:J$8446,6,0) -> 77 | H17: =VLOOKUP(B17,[1]Sheet1!B$4:H$8446,7,0) -> 77 | I17: =IF(H17>=90,"Xuất sắc",IF(H17>=80,"Tốt", IF(H17>=65,"Khá",IF(H17>=50,"Trung bình", IF(H17>=35, "Yếu", "Kém"))))) -> Khá | J17: =VLOOKUP(B17,[1]Sheet1!B$4:K$8446,9,0) -> 77 | K17: =IF(J17>=90,"Xuất sắc",IF(J17>=80,"Tốt", IF(J17>=65,"Khá",IF(J17>=50,"Trung bình", IF(J17>=35, "Yếu", "Kém"))))) -> Khá
A18: 6 | B18: 24021753 | C18: Nguyễn Việt Dũng | D18: 38997 | E18: =VLOOKUP(B18,[1]Sheet1!B$4:L$8446,4,0) -> 90 | F18: =VLOOKUP(B18,[1]Sheet1!B$4:F$8446,5,0) -> 90 | G18: =VLOOKUP(B18,[1]Sheet1!B$4:J$8446,6,0) -> 90 | H18: =VLOOKUP(B18,[1]Sheet1!B$4:H$8446,7,0) -> 90 | I18: =IF(H18>=90,"Xuất sắc",IF(H18>=80,"Tốt", IF(H18>=65,"Khá",IF(H18>=50,"Trung bình", IF(H18>=35, "Yếu", "Kém"))))) -> Xuất sắc | J18: =VLOOKUP(B18,[1]Sheet1!B$4:K$8446,9,0) -> 90 | K18: =IF(J18>=90,"Xuất sắc",IF(J18>=80,"Tốt", IF(J18>=65,"Khá",IF(J18>=50,"Trung bình", IF(J18>=35, "Yếu", "Kém"))))) -> Xuất sắc
A19: 7 | B19: 24021769 | C19: Nguyễn Đức Duy | D19: 38933 | E19: =VLOOKUP(B19,[1]Sheet1!B$4:L$8446,4,0) -> 80 | F19: =VLOOKUP(B19,[1]Sheet1!B$4:F$8446,5,0) -> 90 | G19: =VLOOKUP(B19,[1]Sheet1!B$4:J$8446,6,0) -> 90 | H19: =VLOOKUP(B19,[1]Sheet1!B$4:H$8446,7,0) -> 90 | I19: =IF(H19>=90,"Xuất sắc",IF(H19>=80,"Tốt", IF(H19>=65,"Khá",IF(H19>=50,"Trung bình", IF(H19>=35, "Yếu", "Kém"))))) -> Xuất sắc | J19: =VLOOKUP(B19,[1]Sheet1!B$4:K$8446,9,0) -> 90 | K19: =IF(J19>=90,"Xuất sắc",IF(J19>=80,"Tốt", IF(J19>=65,"Khá",IF(J19>=50,"Trung bình", IF(J19>=35, "Yếu", "Kém"))))) -> Xuất sắc
A20: 8 | B20: 24021761 | C20: Nguyễn Quý Dương | D20: 38816 | E20: =VLOOKUP(B20,[1]Sheet1!B$4:L$8446,4,0) -> 80 | F20: =VLOOKUP(B20,[1]Sheet1!B$4:F$8446,5,0) -> 80 | G20: =VLOOKUP(B20,[1]Sheet1!B$4:J$8446,6,0) -> 80 | H20: =VLOOKUP(B20,[1]Sheet1!B$4:H$8446,7,0) -> 80 | I20: =IF(H20>=90,"Xuất sắc",IF(H20>=80,"Tốt", IF(H20>=65,"Khá",IF(H20>=50,"Trung bình", IF(H20>=35, "Yếu", "Kém"))))) -> Tốt | J20: =VLOOKUP(B20,[1]Sheet1!B$4:K$8446,9,0) -> 80 | K20: =IF(J20>=90,"Xuất sắc",IF(J20>=80,"Tốt", IF(J20>=65,"Khá",IF(J20>=50,"Trung bình", IF(J20>=35, "Yếu", "Kém"))))) -> Tốt
A21: 9 | B21: 24021721 | C21: Ngô Thành Đạt | D21: 39022 | E21: =VLOOKUP(B21,[1]Sheet1!B$4:L$8446,4,0) -> 82 | F21: =VLOOKUP(B21,[1]Sheet1!B$4:F$8446,5,0) -> 82 | G21: =VLOOKUP(B21,[1]Sheet1!B$4:J$8446,6,0) -> 82 | H21: =VLOOKUP(B21,[1]Sheet1!B$4:H$8446,7,0) -> 82 | I21: =IF(H21>=90,"Xuất sắc",IF(H21>=80,"Tốt", IF(H21>=65,"Khá",IF(H21>=50,"Trung bình", IF(H21>=35, "Yếu", "Kém"))))) -> Tốt | J21: =VLOOKUP(B21,[1]Sheet1!B$4:K$8446,9,0) -> 82 | K21: =IF(J21>=90,"Xuất sắc",IF(J21>=80,"Tốt", IF(J21>=65,"Khá",IF(J21>=50,"Trung bình", IF(J21>=35, "Yếu", "Kém"))))) -> Tốt
A22: 10 | B22: 24021729 | C22: Vũ Tuấn Đạt | D22: 38954 | E22: =VLOOKUP(B22,[1]Sheet1!B$4:L$8446,4,0) -> 70 | F22: =VLOOKUP(B22,[1]Sheet1!B$4:F$8446,5,0) -> 77 | G22: =VLOOKUP(B22,[1]Sheet1!B$4:J$8446,6,0) -> 77 | H22: =VLOOKUP(B22,[1]Sheet1!B$4:H$8446,7,0) -> 77 | I22: =IF(H22>=90,"Xuất sắc",IF(H22>=80,"Tốt", IF(H22>=65,"Khá",IF(H22>=50,"Trung bình", IF(H22>=35, "Yếu", "Kém"))))) -> Khá | J22: =VLOOKUP(B22,[1]Sheet1!B$4:K$8446,9,0) -> 77 | K22: =IF(J22>=90,"Xuất sắc",IF(J22>=80,"Tốt", IF(J22>=65,"Khá",IF(J22>=50,"Trung bình", IF(J22>=35, "Yếu", "Kém"))))) -> Khá
A23: 11 | B23: 24021713 | C23: Chu Hải Đăng | D23: 39080 | E23: =VLOOKUP(B23,[1]Sheet1!B$4:L$8446,4,0) -> 72 | F23: =VLOOKUP(B23,[1]Sheet1!B$4:F$8446,5,0) -> 80 | G23: =VLOOKUP(B23,[1]Sheet1!B$4:J$8446,6,0) -> 80 | H23: =VLOOKUP(B23,[1]Sheet1!B$4:H$8446,7,0) -> 80 | I23: =IF(H23>=90,"Xuất sắc",IF(H23>=80,"Tốt", IF(H23>=65,"Khá",IF(H23>=50,"Trung bình", IF(H23>=35, "Yếu", "Kém"))))) -> Tốt | J23: =VLOOKUP(B23,[1]Sheet1!B$4:K$8446,9,0) -> 80 | K23: =IF(J23>=90,"Xuất sắc",IF(J23>=80,"Tốt", IF(J23>=65,"Khá",IF(J23>=50,"Trung bình", IF(J23>=35, "Yếu", "Kém"))))) -> Tốt
A24: 12 | B24: 24021737 | C24: Nguyễn Tài Đức | D24: 39000 | E24: =VLOOKUP(B24,[1]Sheet1!B$4:L$8446,4,0) -> 70 | F24: =VLOOKUP(B24,[1]Sheet1!B$4:F$8446,5,0) -> 80 | G24: =VLOOKUP(B24,[1]Sheet1!B$4:J$8446,6,0) -> 80 | H24: =VLOOKUP(B24,[1]Sheet1!B$4:H$8446,7,0) -> 80 | I24: =IF(H24>=90,"Xuất sắc",IF(H24>=80,"Tốt", IF(H24>=65,"Khá",IF(H24>=50,"Trung bình", IF(H24>=35, "Yếu", "Kém"))))) -> Tốt | J24: =VLOOKUP(B24,[1]Sheet1!B$4:K$8446,9,0) -> 80 | K24: =IF(J24>=90,"Xuất sắc",IF(J24>=80,"Tốt", IF(J24>=65,"Khá",IF(J24>=50,"Trung bình", IF(J24>=35, "Yếu", "Kém"))))) -> Tốt
... A53: 41 | B53: 24022009 | C53: Trần Quang Anh Vũ | D53: 38983 | E53: =VLOOKUP(B53,[1]Sheet1!B$4:L$8446,4,0) -> 70 | F53: =VLOOKUP(B53,[1]Sheet1!B$4:F$8446,5,0) -> 80 | G53: =VLOOKUP(B53,[1]Sheet1!B$4:J$8446,6,0) -> 80 | H53: =VLOOKUP(B53,[1]Sheet1!B$4:H$8446,7,0) -> 80 | I53: =IF(H53>=90,"Xuất sắc",IF(H53>=80,"Tốt", IF(H53>=65,"Khá",IF(H53>=50,"Trung bình", IF(H53>=35, "Yếu", "Kém"))))) -> Tốt | J53: =VLOOKUP(B53,[1]Sheet1!B$4:K$8446,9,0) -> 80 | K53: =IF(J53>=90,"Xuất sắc",IF(J53>=80,"Tốt", IF(J53>=65,"Khá",IF(J53>=50,"Trung bình", IF(J53>=35, "Yếu", "Kém"))))) -> Tốt
A55: Ấn định danh sách có 41 sinh viên./.

Sheet K69EEC2
A1: ĐẠI HỌC QUỐC GIA HÀ NỘI | G1: CỘNG HÒA XÃ HỘI CHỦ NGHĨA VIỆT NAM
A2: TRƯỜNG ĐẠI HỌC CÔNG NGHỆ | G2: Độc lập - Tự do - Hạnh phúc
A5: BẢNG TỔNG HỢP KẾT QUẢ RÈN LUYỆN CỦA SINH VIÊN
A6: LỚP QH-2024-I/CQ-E-EC2, HỌC KỲ 2, NĂM HỌC 2024-2025
A7: KHOA ĐIỆN TỬ VIỄN THÔNG
A10: STT | B10: MASV | C10: Họ và tên | D10: Ngày sinh | E10: Điểm tự ĐG | F10: Điểm BCS | G10: Điểm GVCN | H10: Điểm KL | J10: Điểm KL
H11: HĐ cấp Khoa | J11: HĐ cấp Trường (dự kiến)
H12: Điểm | I12: Xếp loại | J12: Điểm | K12: Xếp loại
A13: 1 | B13: 24021682 | C13: Nguyễn Khánh An | D13: 38959 | E13: =VLOOKUP(B13,[1]Sheet1!B$4:L$8446,4,0) -> 85 | F13: =VLOOKUP(B13,[1]Sheet1!B$4:F$8446,5,0) -> 85 | G13: =VLOOKUP(B13,[1]Sheet1!B$4:J$8446,6,0) -> 85 | H13: =VLOOKUP(B13,[1]Sheet1!B$4:H$8446,7,0) -> 85 | I13: =IF(H13>=90,"Xuất sắc",IF(H13>=80,"Tốt", IF(H13>=65,"Khá",IF(H13>=50,"Trung bình", IF(H13>=35, "Yếu", "Kém"))))) -> Tốt | J13: =VLOOKUP(B13,[1]Sheet1!B$4:K$8446,9,0) -> 85 | K13: =IF(J13>=90,"Xuất sắc",IF(J13>=80,"Tốt", IF(J13>=65,"Khá",IF(J13>=50,"Trung bình", IF(J13>=35, "Yếu", "Kém"))))) -> Tốt
A14: 2 | B14: 24021690 | C14: Nguyễn Thị Vân Anh | D14: 38737 | E14: =VLOOKUP(B14,[1]Sheet1!B$4:L$8446,4,0) -> 90 | F14: =VLOOKUP(B14,[1]Sheet1!B$4:F$8446,5,0) -> 90 | G14: =VLOOKUP(B14,[1]Sheet1!B$4:J$8446,6,0) -> 90 | H14: =VLOOKUP(B14,[1]Sheet1!B$4:H$8446,7,0) -> 90 | I14: =IF(H14>=90,"Xuất sắc",IF(H14>=80,"Tốt", IF(H14>=65,"Khá",IF(H14>=50,"Trung bình", IF(H14>=35, "Yếu", "Kém"))))) -> Xuất sắc | J14: =VLOOKUP(B14,[1]Sheet1!B$4:K$8446,9,0) -> 90 | K14: =IF(J14>=90,"Xuất sắc",IF(J14>=80,"Tốt", IF(J14>=65,"Khá",IF(J14>=50,"Trung bình", IF(J14>=35, "Yếu", "Kém"))))) -> Xuất sắc
A15: 3 | B15: 24021698 | C15: Lại Văn Bách | D15: 39020 | E15: =VLOOKUP(B15,[1]Sheet1!B$4:L$8446,4,0) -> 79 | F15: =VLOOKUP(B15,[1]Sheet1!B$4:F$8446,5,0) -> 79 | G15: =VLOOKUP(B15,[1]Sheet1!B$4:J$8446,6,0) -> 79 | H15: =VLOOKUP(B15,[1]Sheet1!B$4:H$8446,7,0) -> 79 | I15: =IF(H15>=90,"Xuất sắc",IF(H15>=80,"Tốt", IF(H15>=65,"Khá",IF(H15>=50,"Trung bình", IF(H15>=35, "Yếu", "Kém"))))) -> Khá | J15: =VLOOKUP(B15,[1]Sheet1!B$4:K$8446,9,0) -> 79 | K15: =IF(J15>=90,"Xuất sắc",IF(J15>=80,"Tốt", IF(J15>=65,"Khá",IF(J15>=50,"Trung bình", IF(J15>=35, "Yếu", "Kém"))))) -> Khá
A16: 4 | B16: 24021706 | C16: Hoàng Tiến Công | D16: 39051 | E16: =VLOOKUP(B16,[1]Sheet1!B$4:L$8446,4,0) -> 80 | F16: =VLOOKUP(B16,[1]Sheet1!B$4:F$8446,5,0) -> 80 | G16: =VLOOKUP(B16,[1]Sheet1!B$4:J$8446,6,0) -> 80 | H16: =VLOOKUP(B16,[1]Sheet1!B$4:H$8446,7,0) -> 80 | I16: =IF(H16>=90,"Xuất sắc",IF(H16>=80,"Tốt", IF(H16>=65,"Khá",IF(H16>=50,"Trung bình", IF(H16>=35, "Yếu", "Kém"))))) -> Tốt | J16: =VLOOKUP(B16,[1]Sheet1!B$4:K$8446,9,0) -> 80 | K16: =IF(J16>=90,"Xuất sắc",IF(J16>=80,"Tốt", IF(J16>=65,"Khá",IF(J16>=50,"Trung bình", IF(J16>=35, "Yếu", "Kém"))))) -> Tốt
A17: 5 | B17: 24021746 | C17: Đặng Tất Dũng | D17: 39042 | E17: =VLOOKUP(B17,[1]Sheet1!B$4:L$8446,4,0) -> 85 | F17: =VLOOKUP(B17,[1]Sheet1!B$4:F$8446,5,0) -> 85 | G17: =VLOOKUP(B17,[1]Sheet1!B$4:J$8446,6,0) -> 85 | H17: =VLOOKUP(B17,[1]Sheet1!B$4:H$8446,7,0) -> 85 | I17: =IF(H17>=90,"Xuất sắc",IF(H17>=80,"Tốt", IF(H17>=65,"Khá",IF(H17>=50,"Trung bình", IF(H17>=35, "Yếu", "Kém"))))) -> Tốt | J17: =VLOOKUP(B17,[1]Sheet1!B$4:K$8446,9,0) -> 85 | K17: =IF(J17>=90,"Xuất sắc",IF(J17>=80,"Tốt", IF(J17>=65,"Khá",IF(J17>=50,"Trung bình", IF(J17>=35, "Yếu", "Kém"))))) -> Tốt
A18: 6 | B18: 24021754 | C18: Phạm Đức Dũng | D18: 38856 | E18: =VLOOKUP(B18,[1]Sheet1!B$4:L$8446,4,0) -> 80 | F18: =VLOOKUP(B18,[1]Sheet1!B$4:F$8446,5,0) -> 80 | G18: =VLOOKUP(B18,[1]Sheet1!B$4:J$8446,6,0) -> 80 | H18: =VLOOKUP(B18,[1]Sheet1!B$4:H$8446,7,0) -> 80 | I18: =IF(H18>=90,"Xuất sắc",IF(H18>=80,"Tốt", IF(H18>=65,"Khá",IF(H18>=50,"Trung bình", IF(H18>=35, "Yếu", "Kém"))))) -> Tốt | J18: =VLOOKUP(B18,[1]Sheet1!B$4:K$8446,9,0) -> 80 | K18: =IF(J18>=90,"Xuất sắc",IF(J18>=80,"Tốt", IF(J18>=65,"Khá",IF(J18>=50,"Trung bình", IF(J18>=35, "Yếu", "Kém"))))) -> Tốt
A19: 7 | B19: 24021770 | C19: Ninh Đức Duy | D19: 38798 | E19: =VLOOKUP(B19,[1]Sheet1!B$4:L$8446,4,0) -> 100 | F19: =VLOOKUP(B19,[1]Sheet1!B$4:F$8446,5,0) -> 100 | G19: =VLOOKUP(B19,[1]Sheet1!B$4:J$8446,6,0) -> 100 | H19: =VLOOKUP(B19,[1]Sheet1!B$4:H$8446,7,0) -> 100 | I19: =IF(H19>=90,"Xuất sắc",IF(H19>=80,"Tốt", IF(H19>=65,"Khá",IF(H19>=50,"Trung bình", IF(H19>=35, "Yếu", "Kém"))))) -> Xuất sắc | J19: =VLOOKUP(B19,[1]Sheet1!B$4:K$8446,9,0) -> 100 | K19: =IF(J19>=90,"Xuất sắc",IF(J19>=80,"Tốt", IF(J19>=65,"Khá",IF(J19>=50,"Trung bình", IF(J19>=35, "Yếu", "Kém"))))) -> Xuất sắc
A20: 8 | B20: 24021762 | C20: Phan Ngọc Dương | D20: 38962 | E20: =VLOOKUP(B20,[1]Sheet1!B$4:L$8446,4,0) -> 100 | F20: =VLOOKUP(B20,[1]Sheet1!B$4:F$8446,5,0) -> 100 | G20: =VLOOKUP(B20,[1]Sheet1!B$4:J$8446,6,0) -> 100 | H20: =VLOOKUP(B20,[1]Sheet1!B$4:H$8446,7,0) -> 100 | I20: =IF(H20>=90,"Xuất sắc",IF(H20>=80,"Tốt", IF(H20>=65,"Khá",IF(H20>=50,"Trung bình", IF(H20>=35, "Yếu", "Kém"))))) -> Xuất sắc | J20: =VLOOKUP(B20,[1]Sheet1!B$4:K$8446,9,0) -> 100 | K20: =IF(J20>=90,"Xuất sắc",IF(J20>=80,"Tốt", IF(J20>=65,"Khá",IF(J20>=50,"Trung bình", IF(J20>=35, "Yếu", "Kém"))))) -> Xuất sắc
A21: 9 | B21: 24021722 | C21: Nguyễn Thành Đạt | D21: 38946 | E21: =VLOOKUP(B21,[1]Sheet1!B$4:L$8446,4,0) -> 80 | F21: =VLOOKUP(B21,[1]Sheet1!B$4:F$8446,5,0) -> 80 | G21: =VLOOKUP(B21,[1]Sheet1!B$4:J$8446,6,0) -> 80 | H21: =VLOOKUP(B21,[1]Sheet1!B$4:H$8446,7,0) -> 80 | I21: =IF(H21>=90,"Xuất sắc",IF(H21>=80,"Tốt", IF(H21>=65,"Khá",IF(H21>=50,"Trung bình", IF(H21>=35, "Yếu", "Kém"))))) -> Tốt | J21: =VLOOKUP(B21,[1]Sheet1!B$4:K$8446,9,0) -> 80 | K21: =IF(J21>=90,"Xuất sắc",IF(J21>=80,"Tốt", IF(J21>=65,"Khá",IF(J21>=50,"Trung bình", IF(J21>=35, "Yếu", "Kém"))))) -> Tốt
A22: 10 | B22: 24021714 | C22: Nguyễn Hải Đăng | D22: 38819 | E22: =VLOOKUP(B22,[1]Sheet1!B$4:L$8446,4,0) -> 90 | F22: =VLOOKUP(B22,[1]Sheet1!B$4:F$8446,5,0) -> 85 | G22: =VLOOKUP(B22,[1]Sheet1!B$4:J$8446,6,0) -> 85 | H22: =VLOOKUP(B22,[1]Sheet1!B$4:H$8446,7,0) -> 85 | I22: =IF(H22>=90,"Xuất sắc",IF(H22>=80,"Tốt", IF(H22>=65,"Khá",IF(H22>=50,"Trung bình", IF(H22>=35, "Yếu", "Kém"))))) -> Tốt | J22: =VLOOKUP(B22,[1]Sheet1!B$4:K$8446,9,0) -> 85 | K22: =IF(J22>=90,"Xuất sắc",IF(J22>=80,"Tốt", IF(J22>=65,"Khá",IF(J22>=50,"Trung bình", IF(J22>=35, "Yếu", "Kém"))))) -> Tốt
A23: 11 | B23: 24021730 | C23: Đào Đức Đức | D23: 38842 | E23: =VLOOKUP(B23,[1]Sheet1!B$4:L$8446,4,0) -> 80 | F23: =VLOOKUP(B23,[1]Sheet1!B$4:F$8446,5,0) -> 80 | G23: =VLOOKUP(B23,[1]Sheet1!B$4:J$8446,6,0) -> 80 | H23: =VLOOKUP(B23,[1]Sheet1!B$4:H$8446,7,0) -> 80 | I23: =IF(H23>=90,"Xuất sắc",IF(H23>=80,"Tốt", IF(H23>=65,"Khá",IF(H23>=50,"Trung bình", IF(H23>=35, "Yếu", "Kém"))))) -> Tốt | J23: =VLOOKUP(B23,[1]Sheet1!B$4:K$8446,9,0) -> 80 | K23: =IF(J23>=90,"Xuất sắc",IF(J23>=80,"Tốt", IF(J23>=65,"Khá",IF(J23>=50,"Trung bình", IF(J23>=35, "Yếu", "Kém"))))) -> Tốt
A24: 12 | B24: 24021738 | C24: Niềm Minh Đức | D24: 38947 | E24: =VLOOKUP(B24,[1]Sheet1!B$4:L$8446,4,0) -> 85 | F24: =VLOOKUP(B24,[1]Sheet1!B$4:F$8446,5,0) -> 85 | G24: =VLOOKUP(B24,[1]Sheet1!B$4:J$8446,6,0) -> 85 | H24: =VLOOKUP(B24,[1]Sheet1!B$4:H$8446,7,0) -> 85 | I24: =IF(H24>=90,"Xuất sắc",IF(H24>=80,"Tốt", IF(H24>=65,"Khá",IF(H24>=50,"Trung bình", IF(H24>=35, "Yếu", "Kém"))))) -> Tốt | J24: =VLOOKUP(B24,[1]Sheet1!B$4:K$8446,9,0) -> 85 | K24: =IF(J24>=90,"Xuất sắc",IF(J24>=80,"Tốt", IF(J24>=65,"Khá",IF(J24>=50,"Trung bình", IF(J24>=35, "Yếu", "Kém"))))) -> Tốt
... A52: 40 | B52: 24022010 | C52: Lê Quốc Vương | D52: 39028 | E52: =VLOOKUP(B52,[1]Sheet1!B$4:L$8446,4,0) -> 90 | F52: =VLOOKUP(B52,[1]Sheet1!B$4:F$8446,5,0) -> 90 | G52: =VLOOKUP(B52,[1]Sheet1!B$4:J$8446,6,0) -> 90 | H52: =VLOOKUP(B52,[1]Sheet1!B$4:H$8446,7,0) -> 90 | I52: =IF(H52>=90,"Xuất sắc",IF(H52>=80,"Tốt", IF(H52>=65,"Khá",IF(H52>=50,"Trung bình", IF(H52>=35, "Yếu", "Kém"))))) -> Xuất sắc | J52: =VLOOKUP(B52,[1]Sheet1!B$4:K$8446,9,0) -> 90 | K52: =IF(J52>=90,"Xuất sắc",IF(J52>=80,"Tốt", IF(J52>=65,"Khá",IF(J52>=50,"Trung bình", IF(J52>=35, "Yếu", "Kém"))))) -> Xuất sắc
A54: Ấn định danh sách có 40 sinh viên./.

Sheet K69EEC3
A1: ĐẠI HỌC QUỐC GIA HÀ NỘI | G1: CỘNG HÒA XÃ HỘI CHỦ NGHĨA VIỆT NAM
A2: TRƯỜNG ĐẠI HỌC CÔNG NGHỆ | G2: Độc lập - Tự do - Hạnh phúc
A5: BẢNG TỔNG HỢP KẾT QUẢ RÈN LUYỆN CỦA SINH VIÊN
A6: LỚP QH-2024-I/CQ-E-EC3, HỌC KỲ 2, NĂM HỌC 2024-2025
A7: KHOA ĐIỆN TỬ VIỄN THÔNG
A10: STT | B10: MASV | C10: Họ và tên | D10: Ngày sinh | E10: Điểm tự ĐG | F10: Điểm BCS | G10: Điểm GVCN | H10: Điểm KL | J10: Điểm KL
H11: HĐ cấp Khoa | J11: HĐ cấp Trường (dự kiến)
H12: Điểm | I12: Xếp loại | J12: Điểm | K12: Xếp loại
A13: 1 | B13: 24021683 | C13: Phạm Xuân An | D13: 38727 | E13: =VLOOKUP(B13,[1]Sheet1!B$4:L$8446,4,0) -> 90 | F13: =VLOOKUP(B13,[1]Sheet1!B$4:F$8446,5,0) -> 90 | G13: =VLOOKUP(B13,[1]Sheet1!B$4:J$8446,6,0) -> 90 | H13: =VLOOKUP(B13,[1]Sheet1!B$4:H$8446,7,0) -> 90 | I13: =IF(H13>=90,"Xuất sắc",IF(H13>=80,"Tốt", IF(H13>=65,"Khá",IF(H13>=50,"Trung bình", IF(H13>=35, "Yếu", "Kém"))))) -> Xuất sắc | J13: =VLOOKUP(B13,[1]Sheet1!B$4:K$8446,9,0) -> 90 | K13: =IF(J13>=90,"Xuất sắc",IF(J13>=80,"Tốt", IF(J13>=65,"Khá",IF(J13>=50,"Trung bình", IF(J13>=35, "Yếu", "Kém"))))) -> Xuất sắc
A14: 2 | B14: 24021691 | C14: Nguyễn Tuấn Anh | D14: 38774 | E14: =VLOOKUP(B14,[1]Sheet1!B$4:L$8446,4,0) -> 80 | F14: =VLOOKUP(B14,[1]Sheet1!B$4:F$8446,5,0) -> 80 | G14: =VLOOKUP(B14,[1]Sheet1!B$4:J$8446,6,0) -> 80 | H14: =VLOOKUP(B14,[1]Sheet1!B$4:H$8446,7,0) -> 80 | I14: =IF(H14>=90,"Xuất sắc",IF(H14>=80,"Tốt", IF(H14>=65,"Khá",IF(H14>=50,"Trung bình", IF(H14>=35, "Yếu", "Kém"))))) -> Tốt | J14: =VLOOKUP(B14,[1]Sheet1!B$4:K$8446,9,0) -> 80 | K14: =IF(J14>=90,"Xuất sắc",IF(J14>=80,"Tốt", IF(J14>=65,"Khá",IF(J14>=50,"Trung bình", IF(J14>=35, "Yếu", "Kém"))))) -> Tốt
A15: 3 | B15: 24021699 | C15: Bùi Thế Bảo | D15: 38791 | E15: =VLOOKUP(B15,[1]Sheet1!B$4:L$8446,4,0) -> 90 | F15: =VLOOKUP(B15,[1]Sheet1!B$4:F$8446,5,0) -> 90 | G15: =VLOOKUP(B15,[1]Sheet1!B$4:J$8446,6,0) -> 90 | H15: =VLOOKUP(B15,[1]Sheet1!B$4:H$8446,7,0) -> 90 | I15: =IF(H15>=90,"Xuất sắc",IF(H15>=80,"Tốt", IF(H15>=65,"Khá",IF(H15>=50,"Trung bình", IF(H15>=35, "Yếu", "Kém"))))) -> Xuất sắc | J15: =VLOOKUP(B15,[1]Sheet1!B$4:K$8446,9,0) -> 90 | K15: =IF(J15>=90,"Xuất sắc",IF(J15>=80,"Tốt", IF(J15>=65,"Khá",IF(J15>=50,"Trung bình", IF(J15>=35, "Yếu", "Kém"))))) -> Xuất sắc
A16: 4 | B16: 24021707 | C16: Phạm Vũ Công | D16: 38899 | E16: =VLOOKUP(B16,[1]Sheet1!B$4:L$8446,4,0) -> 80 | F16: =VLOOKUP(B16,[1]Sheet1!B$4:F$8446,5,0) -> 80 | G16: =VLOOKUP(B16,[1]Sheet1!B$4:J$8446,6,0) -> 80 | H16: =VLOOKUP(B16,[1]Sheet1!B$4:H$8446,7,0) -> 80 | I16: =IF(H16>=90,"Xuất sắc",IF(H16>=80,"Tốt", IF(H16>=65,"Khá",IF(H16>=50,"Trung bình", IF(H16>=35, "Yếu", "Kém"))))) -> Tốt | J16: =VLOOKUP(B16,[1]Sheet1!B$4:K$8446,9,0) -> 80 | K16: =IF(J16>=90,"Xuất sắc",IF(J16>=80,"Tốt", IF(J16>=65,"Khá",IF(J16>=50,"Trung bình", IF(J16>=35, "Yếu", "Kém"))))) -> Tốt
A17: 5 | B17: 24021747 | C17: Đào Ngô Anh Dũng | D17: 38925 | E17: =VLOOKUP(B17,[1]Sheet1!B$4:L$8446,4,0) -> 89 | F17: =VLOOKUP(B17,[1]Sheet1!B$4:F$8446,5,0) -> 89 | G17: =VLOOKUP(B17,[1]Sheet1!B$4:J$8446,6,0) -> 89 | H17: =VLOOKUP(B17,[1]Sheet1!B$4:H$8446,7,0) -> 89 | I17: =IF(H17>=90,"Xuất sắc",IF(H17>=80,"Tốt", IF(H17>=65,"Khá",IF(H17>=50,"Trung bình", IF(H17>=35, "Yếu", "Kém"))))) -> Tốt | J17: =VLOOKUP(B17,[1]Sheet1!B$4:K$8446,9,0) -> 89 | K17: =IF(J17>=90,"Xuất sắc",IF(J17>=80,"Tốt", IF(J17>=65,"Khá",IF(J17>=50,"Trung bình", IF(J17>=35, "Yếu", "Kém"))))) -> Tốt
A18: 6 | B18: 24021755 | C18: Tạ Tiến Dũng | D18: 38923 | E18: =VLOOKUP(B18,[1]Sheet1!B$4:L$8446,4,0) -> 76 | F18: =VLOOKUP(B18,[1]Sheet1!B$4:F$8446,5,0) -> 75 | G18: =VLOOKUP(B18,[1]Sheet1!B$4:J$8446,6,0) -> 75 | H18: =VLOOKUP(B18,[1]Sheet1!B$4:H$8446,7,0) -> 75 | I18: =IF(H18>=90,"Xuất sắc",IF(H18>=80,"Tốt", IF(H18>=65,"Khá",IF(H18>=50,"Trung bình", IF(H18>=35, "Yếu", "Kém"))))) -> Khá | J18: =VLOOKUP(B18,[1]Sheet1!B$4:K$8446,9,0) -> 75 | K18: =IF(J18>=90,"Xuất sắc",IF(J18>=80,"Tốt", IF(J18>=65,"Khá",IF(J18>=50,"Trung bình", IF(J18>=35, "Yếu", "Kém"))))) -> Khá
A19: 7 | B19: 24021771 | C19: Trần Khương Duy | D19: 38934 | E19: =VLOOKUP(B19,[1]Sheet1!B$4:L$8446,4,0) -> 90 | F19: =VLOOKUP(B19,[1]Sheet1!B$4:F$8446,5,0) -> 90 | G19: =VLOOKUP(B19,[1]Sheet1!B$4:J$8446,6,0) -> 90 | H19: =VLOOKUP(B19,[1]Sheet1!B$4:H$8446,7,0) -> 90 | I19: =IF(H19>=90,"Xuất sắc",IF(H19>=80,"Tốt", IF(H19>=65,"Khá",IF(H19>=50,"Trung bình", IF(H19>=35, "Yếu", "Kém"))))) -> Xuất sắc | J19: =VLOOKUP(B19,[1]Sheet1!B$4:K$8446,9,0) -> 90 | K19: =IF(J19>=90,"Xuất sắc",IF(J19>=80,"Tốt", IF(J19>=65,"Khá",IF(J19>=50,"Trung bình", IF(J19>=35, "Yếu", "Kém"))))) -> Xuất sắc
A20: 8 | B20: 24021763 | C20: Phan Thái Dương | D20: 38950 | E20: =VLOOKUP(B20,[1]Sheet1!B$4:L$8446,4,0) -> 80 | F20: =VLOOKUP(B20,[1]Sheet1!B$4:F$8446,5,0) -> 80 | G20: =VLOOKUP(B20,[1]Sheet1!B$4:J$8446,6,0) -> 80 | H20: =VLOOKUP(B20,[1]Sheet1!B$4:H$8446,7,0) -> 80 | I20: =IF(H20>=90,"Xuất sắc",IF(H20>=80,"Tốt", IF(H20>=65,"Khá",IF(H20>=50,"Trung bình", IF(H20>=35, "Yếu", "Kém"))))) -> Tốt | J20: =VLOOKUP(B20,[1]Sheet1!B$4:K$8446,9,0) -> 80 | K20: =IF(J20>=90,"Xuất sắc",IF(J20>=80,"Tốt", IF(J20>=65,"Khá",IF(J20>=50,"Trung bình", IF(J20>=35, "Yếu", "Kém"))))) -> Tốt
A21: 9 | B21: 24021723 | C21: Nguyễn Thành Đạt | D21: 38748 | E21: =VLOOKUP(B21,[1]Sheet1!B$4:L$8446,4,0) -> 87 | F21: =VLOOKUP(B21,[1]Sheet1!B$4:F$8446,5,0) -> 87 | G21: =VLOOKUP(B21,[1]Sheet1!B$4:J$8446,6,0) -> 87 | H21: =VLOOKUP(B21,[1]Sheet1!B$4:H$8446,7,0) -> 87 | I21: =IF(H21>=90,"Xuất sắc",IF(H21>=80,"Tốt", IF(H21>=65,"Khá",IF(H21>=50,"Trung bình", IF(H21>=35, "Yếu", "Kém"))))) -> Tốt | J21: =VLOOKUP(B21,[1]Sheet1!B$4:K$8446,9,0) -> 87 | K21: =IF(J21>=90,"Xuất sắc",IF(J21>=80,"Tốt", IF(J21>=65,"Khá",IF(J21>=50,"Trung bình", IF(J21>=35, "Yếu", "Kém"))))) -> Tốt
A22: 10 | B22: 24021715 | C22: Phạm Hải Đăng | D22: 39064 | E22: =VLOOKUP(B22,[1]Sheet1!B$4:L$8446,4,0) -> 90 | F22: =VLOOKUP(B22,[1]Sheet1!B$4:F$8446,5,0) -> 90 | G22: =VLOOKUP(B22,[1]Sheet1!B$4:J$8446,6,0) -> 90 | H22: =VLOOKUP(B22,[1]Sheet1!B$4:H$8446,7,0) -> 90 | I22: =IF(H22>=90,"Xuất sắc",IF(H22>=80,"Tốt", IF(H22>=65,"Khá",IF(H22>=50,"Trung bình", IF(H22>=35, "Yếu", "Kém"))))) -> Xuất sắc | J22: =VLOOKUP(B22,[1]Sheet1!B$4:K$8446,9,0) -> 90 | K22: =IF(J22>=90,"Xuất sắc",IF(J22>=80,"Tốt", IF(J22>=65,"Khá",IF(J22>=50,"Trung bình", IF(J22>=35, "Yếu", "Kém"))))) -> Xuất sắc
A23: 11 | B23: 24021731 | C23: Hoàng Văn Đức | D23: 38768 | E23: =VLOOKUP(B23,[1]Sheet1!B$4:L$8446,4,0) -> 80 | F23: =VLOOKUP(B23,[1]Sheet1!B$4:F$8446,5,0) -> 80 | G23: =VLOOKUP(B23,[1]Sheet1!B$4:J$8446,6,0) -> 80 | H23: =VLOOKUP(B23,[1]Sheet1!B$4:H$8446,7,0) -> 80 | I23: =IF(H23>=90,"Xuất sắc",IF(H23>=80,"Tốt", IF(H23>=65,"Khá",IF(H23>=50,"Trung bình", IF(H23>=35, "Yếu", "Kém"))))) -> Tốt | J23: =VLOOKUP(B23,[1]Sheet1!B$4:K$8446,9,0) -> 80 | K23: =IF(J23>=90,"Xuất sắc",IF(J23>=80,"Tốt", IF(J23>=65,"Khá",IF(J23>=50,"Trung bình", IF(J23>=35, "Yếu", "Kém"))))) -> Tốt
A24: 12 | B24: 24021739 | C24: Phạm Anh Đức | D24: 39071 | E24: =VLOOKUP(B24,[1]Sheet1!B$4:L$8446,4,0) -> 90 | F24: =VLOOKUP(B24,[1]Sheet1!B$4:F$8446,5,0) -> 90 | G24: =VLOOKUP(B24,[1]Sheet1!B$4:J$8446,6,0) -> 90 | H24: =VLOOKUP(B24,[1]Sheet1!B$4:H$8446,7,0) -> 90 | I24: =IF(H24>=90,"Xuất sắc",IF(H24>=80,"Tốt", IF(H24>=65,"Khá",IF(H24>=50,"Trung bình", IF(H24>=35, "Yếu", "Kém"))))) -> Xuất sắc | J24: =VLOOKUP(B24,[1]Sheet1!B$4:K$8446,9,0) -> 90 | K24: =IF(J24>=90,"Xuất sắc",IF(J24>=80,"Tốt", IF(J24>=65,"Khá",IF(J24>=50,"Trung bình", IF(J24>=35, "Yếu", "Kém"))))) -> Xuất sắc
... A53: 41 | B53: 24022003 | C53: Nguyễn Đức Minh Việt | D53: 39064 | E53: =VLOOKUP(B53,[1]Sheet1!B$4:L$8446,4,0) -> 90 | F53: =VLOOKUP(B53,[1]Sheet1!B$4:F$8446,5,0) -> 90 | G53: =VLOOKUP(B53,[1]Sheet1!B$4:J$8446,6,0) -> 90 | H53: =VLOOKUP(B53,[1]Sheet1!B$4:H$8446,7,0) -> 90 | I53: =IF(H53>=90,"Xuất sắc",IF(H53>=80,"Tốt", IF(H53>=65,"Khá",IF(H53>=50,"Trung bình", IF(H53>=35, "Yếu", "Kém"))))) -> Xuất sắc | J53: =VLOOKUP(B53,[1]Sheet1!B$4:K$8446,9,0) -> 90 | K53: =IF(J53>=90,"Xuất sắc",IF(J53>=80,"Tốt", IF(J53>=65,"Khá",IF(J53>=50,"Trung bình", IF(J53>=35, "Yếu", "Kém"))))) -> Xuất sắc
A55: Ấn định danh sách có 41 sinh viên./.

Sheet K69EEC4
A1: ĐẠI HỌC QUỐC GIA HÀ NỘI | G1: CỘNG HÒA XÃ HỘI CHỦ NGHĨA VIỆT NAM
A2: TRƯỜNG ĐẠI HỌC CÔNG NGHỆ | G2: Độc lập - Tự do - Hạnh phúc
A5: BẢNG TỔNG HỢP KẾT QUẢ RÈN LUYỆN CỦA SINH VIÊN
A6: LỚP QH-2024-I/CQ-E-EC4, HỌC KỲ 2, NĂM HỌC 2024-2025
A7: KHOA ĐIỆN TỬ VIỄN THÔNG
A10: STT | B10: MASV | C10: Họ và tên | D10: Ngày sinh | E10: Điểm tự ĐG | F10: Điểm BCS | G10: Điểm GVCN | H10: Điểm KL | J10: Điểm KL
H11: HĐ cấp Khoa | J11: HĐ cấp Trường (dự kiến)
H12: Điểm | I12: Xếp loại | J12: Điểm | K12: Xếp loại
A13: 1 | B13: 24021684 | C13: Đinh Ngọc Đức Anh | D13: 38800 | E13: =VLOOKUP(B13,[1]Sheet1!B$4:L$8446,4,0) -> 80 | F13: =VLOOKUP(B13,[1]Sheet1!B$4:F$8446,5,0) -> 80 | G13: =VLOOKUP(B13,[1]Sheet1!B$4:J$8446,6,0) -> 80 | H13: =VLOOKUP(B13,[1]Sheet1!B$4:H$8446,7,0) -> 80 | I13: =IF(H13>=90,"Xuất sắc",IF(H13>=80,"Tốt", IF(H13>=65,"Khá",IF(H13>=50,"Trung bình", IF(H13>=35, "Yếu", "Kém"))))) -> Tốt | J13: =VLOOKUP(B13,[1]Sheet1!B$4:K$8446,9,0) -> 80 | K13: =IF(J13>=90,"Xuất sắc",IF(J13>=80,"Tốt", IF(J13>=65,"Khá",IF(J13>=50,"Trung bình", IF(J13>=35, "Yếu", "Kém"))))) -> Tốt
A14: 2 | B14: 24021692 | C14: Nguyễn Văn Anh | D14: 38749 | E14: =VLOOKUP(B14,[1]Sheet1!B$4:L$8446,4,0) -> 70 | F14: =VLOOKUP(B14,[1]Sheet1!B$4:F$8446,5,0) -> 80 | G14: =VLOOKUP(B14,[1]Sheet1!B$4:J$8446,6,0) -> 80 | H14: =VLOOKUP(B14,[1]Sheet1!B$4:H$8446,7,0) -> 80 | I14: =IF(H14>=90,"Xuất sắc",IF(H14>=80,"Tốt", IF(H14>=65,"Khá",IF(H14>=50,"Trung bình", IF(H14>=35, "Yếu", "Kém"))))) -> Tốt | J14: =VLOOKUP(B14,[1]Sheet1!B$4:K$8446,9,0) -> 80 | K14: =IF(J14>=90,"Xuất sắc",IF(J14>=80,"Tốt", IF(J14>=65,"Khá",IF(J14>=50,"Trung bình", IF(J14>=35, "Yếu", "Kém"))))) -> Tốt
A15: 3 | B15: 24021700 | C15: Phùng Quốc Bảo | D15: 38999 | E15: =VLOOKUP(B15,[1]Sheet1!B$4:L$8446,4,0) -> 90 | F15: =VLOOKUP(B15,[1]Sheet1!B$4:F$8446,5,0) -> 90 | G15: =VLOOKUP(B15,[1]Sheet1!B$4:J$8446,6,0) -> 90 | H15: =VLOOKUP(B15,[1]Sheet1!B$4:H$8446,7,0) -> 90 | I15: =IF(H15>=90,"Xuất sắc",IF(H15>=80,"Tốt", IF(H15>=65,"Khá",IF(H15>=50,"Trung bình", IF(H15>=35, "Yếu", "Kém"))))) -> Xuất sắc | J15: =VLOOKUP(B15,[1]Sheet1!B$4:K$8446,9,0) -> 90 | K15: =IF(J15>=90,"Xuất sắc",IF(J15>=80,"Tốt", IF(J15>=65,"Khá",IF(J15>=50,"Trung bình", IF(J15>=35, "Yếu", "Kém"))))) -> Xuất sắc
A16: 4 | B16: 24021708 | C16: Nguyễn Nam Cường | D16: 38916 | E16: =VLOOKUP(B16,[1]Sheet1!B$4:L$8446,4,0) -> 90 | F16: =VLOOKUP(B16,[1]Sheet1!B$4:F$8446,5,0) -> 90 | G16: =VLOOKUP(B16,[1]Sheet1!B$4:J$8446,6,0) -> 90 | H16: =VLOOKUP(B16,[1]Sheet1!B$4:H$8446,7,0) -> 90 | I16: =IF(H16>=90,"Xuất sắc",IF(H16>=80,"Tốt", IF(H16>=65,"Khá",IF(H16>=50,"Trung bình", IF(H16>=35, "Yếu", "Kém"))))) -> Xuất sắc | J16: =VLOOKUP(B16,[1]Sheet1!B$4:K$8446,9,0) -> 90 | K16: =IF(J16>=90,"Xuất sắc",IF(J16>=80,"Tốt", IF(J16>=65,"Khá",IF(J16>=50,"Trung bình", IF(J16>=35, "Yếu", "Kém"))))) -> Xuất sắc
A17: 5 | B17: 24021748 | C17: Đỗ Tiến Dũng | D17: 39014 | E17: =VLOOKUP(B17,[1]Sheet1!B$4:L$8446,4,0) -> 67 | F17: =VLOOKUP(B17,[1]Sheet1!B$4:F$8446,5,0) -> 77 | G17: =VLOOKUP(B17,[1]Sheet1!B$4:J$8446,6,0) -> 77 | H17: =VLOOKUP(B17,[1]Sheet1!B$4:H$8446,7,0) -> 77 | I17: =IF(H17>=90,"Xuất sắc",IF(H17>=80,"Tốt", IF(H17>=65,"Khá",IF(H17>=50,"Trung bình", IF(H17>=35, "Yếu", "Kém"))))) -> Khá | J17: =VLOOKUP(B17,[1]Sheet1!B$4:K$8446,9,0) -> 77 | K17: =IF(J17>=90,"Xuất sắc",IF(J17>=80,"Tốt", IF(J17>=65,"Khá",IF(J17>=50,"Trung bình", IF(J17>=35, "Yếu", "Kém"))))) -> Khá
A18: 6 | B18: 24021756 | C18: Vũ Mạnh Dũng | D18: 39017 | E18: =VLOOKUP(B18,[1]Sheet1!B$4:L$8446,4,0) -> 77 | F18: =VLOOKUP(B18,[1]Sheet1!B$4:F$8446,5,0) -> 77 | G18: =VLOOKUP(B18,[1]Sheet1!B$4:J$8446,6,0) -> 77 | H18: =VLOOKUP(B18,[1]Sheet1!B$4:H$8446,7,0) -> 77 | I18: =IF(H18>=90,"Xuất sắc",IF(H18>=80,"Tốt", IF(H18>=65,"Khá",IF(H18>=50,"Trung bình", IF(H18>=35, "Yếu", "Kém"))))) -> Khá | J18: =VLOOKUP(B18,[1]Sheet1!B$4:K$8446,9,0) -> 77 | K18: =IF(J18>=90,"Xuất sắc",IF(J18>=80,"Tốt", IF(J18>=65,"Khá",IF(J18>=50,"Trung bình", IF(J18>=35, "Yếu", "Kém"))))) -> Khá
A19: 7 | B19: 24021772 | C19: Trương Tiến Duy | D19: 38747 | E19: =VLOOKUP(B19,[1]Sheet1!B$4:L$8446,4,0) -> 80 | F19: =VLOOKUP(B19,[1]Sheet1!B$4:F$8446,5,0) -> 80 | G19: =VLOOKUP(B19,[1]Sheet1!B$4:J$8446,6,0) -> 80 | H19: =VLOOKUP(B19,[1]Sheet1!B$4:H$8446,7,0) -> 80 | I19: =IF(H19>=90,"Xuất sắc",IF(H19>=80,"Tốt", IF(H19>=65,"Khá",IF(H19>=50,"Trung bình", IF(H19>=35, "Yếu", "Kém"))))) -> Tốt | J19: =VLOOKUP(B19,[1]Sheet1!B$4:K$8446,9,0) -> 80 | K19: =IF(J19>=90,"Xuất sắc",IF(J19>=80,"Tốt", IF(J19>=65,"Khá",IF(J19>=50,"Trung bình", IF(J19>=35, "Yếu", "Kém"))))) -> Tốt
A20: 8 | B20: 24021764 | C20: Trần Nam Dương | D20: 38810 | E20: =VLOOKUP(B20,[1]Sheet1!B$4:L$8446,4,0) -> 80 | F20: =VLOOKUP(B20,[1]Sheet1!B$4:F$8446,5,0) -> 90 | G20: =VLOOKUP(B20,[1]Sheet1!B$4:J$8446,6,0) -> 90 | H20: =VLOOKUP(B20,[1]Sheet1!B$4:H$8446,7,0) -> 90 | I20: =IF(H20>=90,"Xuất sắc",IF(H20>=80,"Tốt", IF(H20>=65,"Khá",IF(H20>=50,"Trung bình", IF(H20>=35, "Yếu", "Kém"))))) -> Xuất sắc | J20: =VLOOKUP(B20,[1]Sheet1!B$4:K$8446,9,0) -> 90 | K20: =IF(J20>=90,"Xuất sắc",IF(J20>=80,"Tốt", IF(J20>=65,"Khá",IF(J20>=50,"Trung bình", IF(J20>=35, "Yếu", "Kém"))))) -> Xuất sắc
A21: 9 | B21: 24021724 | C21: Nguyễn Tiến Đạt | D21: 38851 | E21: =VLOOKUP(B21,[1]Sheet1!B$4:L$8446,4,0) -> 90 | F21: =VLOOKUP(B21,[1]Sheet1!B$4:F$8446,5,0) -> 90 | G21: =VLOOKUP(B21,[1]Sheet1!B$4:J$8446,6,0) -> 90 | H21: =VLOOKUP(B21,[1]Sheet1!B$4:H$8446,7,0) -> 90 | I21: =IF(H21>=90,"Xuất sắc",IF(H21>=80,"Tốt", IF(H21>=65,"Khá",IF(H21>=50,"Trung bình", IF(H21>=35, "Yếu", "Kém"))))) -> Xuất sắc | J21: =VLOOKUP(B21,[1]Sheet1!B$4:K$8446,9,0) -> 90 | K21: =IF(J21>=90,"Xuất sắc",IF(J21>=80,"Tốt", IF(J21>=65,"Khá",IF(J21>=50,"Trung bình", IF(J21>=35, "Yếu", "Kém"))))) -> Xuất sắc
A22: 10 | B22: 24021716 | C22: Phạm Văn Đăng | D22: 38729 | E22: =VLOOKUP(B22,[1]Sheet1!B$4:L$8446,4,0) -> 88 | F22: =VLOOKUP(B22,[1]Sheet1!B$4:F$8446,5,0) -> 85 | G22: =VLOOKUP(B22,[1]Sheet1!B$4:J$8446,6,0) -> 85 | H22: =VLOOKUP(B22,[1]Sheet1!B$4:H$8446,7,0) -> 85 | I22: =IF(H22>=90,"Xuất sắc",IF(H22>=80,"Tốt", IF(H22>=65,"Khá",IF(H22>=50,"Trung bình", IF(H22>=35, "Yếu", "Kém"))))) -> Tốt | J22: =VLOOKUP(B22,[1]Sheet1!B$4:K$8446,9,0) -> 85 | K22: =IF(J22>=90,"Xuất sắc",IF(J22>=80,"Tốt", IF(J22>=65,"Khá",IF(J22>=50,"Trung bình", IF(J22>=35, "Yếu", "Kém"))))) -> Tốt
A23: 11 | B23: 24021732 | C23: Lê Anh Đức | D23: 39068 | E23: =VLOOKUP(B23,[1]Sheet1!B$4:L$8446,4,0) -> 90 | F23: =VLOOKUP(B23,[1]Sheet1!B$4:F$8446,5,0) -> 90 | G23: =VLOOKUP(B23,[1]Sheet1!B$4:J$8446,6,0) -> 90 | H23: =VLOOKUP(B23,[1]Sheet1!B$4:H$8446,7,0) -> 90 | I23: =IF(H23>=90,"Xuất sắc",IF(H23>=80,"Tốt", IF(H23>=65,"Khá",IF(H23>=50,"Trung bình", IF(H23>=35, "Yếu", "Kém"))))) -> Xuất sắc | J23: =VLOOKUP(B23,[1]Sheet1!B$4:K$8446,9,0) -> 90 | K23: =IF(J23>=90,"Xuất sắc",IF(J23>=80,"Tốt", IF(J23>=65,"Khá",IF(J23>=50,"Trung bình", IF(J23>=35, "Yếu", "Kém"))))) -> Xuất sắc
A24: 12 | B24: 24021740 | C24: Phạm Minh Đức | D24: 39036 | E24: =VLOOKUP(B24,[1]Sheet1!B$4:L$8446,4,0) -> 90 | F24: =VLOOKUP(B24,[1]Sheet1!B$4:F$8446,5,0) -> 90 | G24: =VLOOKUP(B24,[1]Sheet1!B$4:J$8446,6,0) -> 90 | H24: =VLOOKUP(B24,[1]Sheet1!B$4:H$8446,7,0) -> 90 | I24: =IF(H24>=90,"Xuất sắc",IF(H24>=80,"Tốt", IF(H24>=65,"Khá",IF(H24>=50,"Trung bình", IF(H24>=35, "Yếu", "Kém"))))) -> Xuất sắc | J24: =VLOOKUP(B24,[1]Sheet1!B$4:K$8446,9,0) -> 90 | K24: =IF(J24>=90,"Xuất sắc",IF(J24>=80,"Tốt", IF(J24>=65,"Khá",IF(J24>=50,"Trung bình", IF(J24>=35, "Yếu", "Kém"))))) -> Xuất sắc
... A53: 41 | B53: 24022004 | C53: Ngô Quang Vinh | D53: 38726 | E53: =VLOOKUP(B53,[1]Sheet1!B$4:L$8446,4,0) -> 90 | F53: =VLOOKUP(B53,[1]Sheet1!B$4:F$8446,5,0) -> 90 | G53: =VLOOKUP(B53,[1]Sheet1!B$4:J$8446,6,0) -> 90 | H53: =VLOOKUP(B53,[1]Sheet1!B$4:H$8446,7,0) -> 90 | I53: =IF(H53>=90,"Xuất sắc",IF(H53>=80,"Tốt", IF(H53>=65,"Khá",IF(H53>=50,"Trung bình", IF(H53>=35, "Yếu", "Kém"))))) -> Xuất sắc | J53: =VLOOKUP(B53,[1]Sheet1!B$4:K$8446,9,0) -> 90 | K53: =IF(J53>=90,"Xuất sắc",IF(J53>=80,"Tốt", IF(J53>=65,"Khá",IF(J53>=50,"Trung bình", IF(J53>=35, "Yếu", "Kém"))))) -> Xuất sắc
A55: Ấn định danh sách có 41 sinh viên./.

Sheet K69EEC5
A1: ĐẠI HỌC QUỐC GIA HÀ NỘI | G1: CỘNG HÒA XÃ HỘI CHỦ NGHĨA VIỆT NAM
A2: TRƯỜNG ĐẠI HỌC CÔNG NGHỆ | G2: Độc lập - Tự do - Hạnh phúc
A5: BẢNG TỔNG HỢP KẾT QUẢ RÈN LUYỆN CỦA SINH VIÊN
A6: LỚP QH-2024-I/CQ-E-EC5, HỌC KỲ 2, NĂM HỌC 2024-2025
A7: KHOA ĐIỆN TỬ VIỄN THÔNG
A10: STT | B10: MASV | C10: Họ và tên | D10: Ngày sinh | E10: Điểm tự ĐG | F10: Điểm BCS | G10: Điểm GVCN | H10: Điểm KL | J10: Điểm KL
H11: HĐ cấp Khoa | J11: HĐ cấp Trường (dự kiến)
H12: Điểm | I12: Xếp loại | J12: Điểm | K12: Xếp loại
A13: 1 | B13: 24021685 | C13: Đỗ Quốc Anh | D13: 38872 | E13: =VLOOKUP(B13,[1]Sheet1!B$4:L$8446,4,0) -> 70 | F13: =VLOOKUP(B13,[1]Sheet1!B$4:F$8446,5,0) -> 65 | G13: =VLOOKUP(B13,[1]Sheet1!B$4:J$8446,6,0) -> 65 | H13: =VLOOKUP(B13,[1]Sheet1!B$4:H$8446,7,0) -> 65 | I13: =IF(H13>=90,"Xuất sắc",IF(H13>=80,"Tốt", IF(H13>=65,"Khá",IF(H13>=50,"Trung bình", IF(H13>=35, "Yếu", "Kém"))))) -> Khá | J13: =VLOOKUP(B13,[1]Sheet1!B$4:K$8446,9,0) -> 65 | K13: =IF(J13>=90,"Xuất sắc",IF(J13>=80,"Tốt", IF(J13>=65,"Khá",IF(J13>=50,"Trung bình", IF(J13>=35, "Yếu", "Kém"))))) -> Khá
A14: 2 | B14: 24021693 | C14: Nguyễn Văn Tú Anh | D14: 38955 | E14: =VLOOKUP(B14,[1]Sheet1!B$4:L$8446,4,0) -> 90 | F14: =VLOOKUP(B14,[1]Sheet1!B$4:F$8446,5,0) -> 90 | G14: =VLOOKUP(B14,[1]Sheet1!B$4:J$8446,6,0) -> 90 | H14: =VLOOKUP(B14,[1]Sheet1!B$4:H$8446,7,0) -> 90 | I14: =IF(H14>=90,"Xuất sắc",IF(H14>=80,"Tốt", IF(H14>=65,"Khá",IF(H14>=50,"Trung bình", IF(H14>=35, "Yếu", "Kém"))))) -> Xuất sắc | J14: =VLOOKUP(B14,[1]Sheet1!B$4:K$8446,9,0) -> 90 | K14: =IF(J14>=90,"Xuất sắc",IF(J14>=80,"Tốt", IF(J14>=65,"Khá",IF(J14>=50,"Trung bình", IF(J14>=35, "Yếu", "Kém"))))) -> Xuất sắc
A15: 3 | B15: 24021701 | C15: Nguyễn Bính | D15: 38806 | E15: =VLOOKUP(B15,[1]Sheet1!B$4:L$8446,4,0) -> 80 | F15: =VLOOKUP(B15,[1]Sheet1!B$4:F$8446,5,0) -> 80 | G15: =VLOOKUP(B15,[1]Sheet1!B$4:J$8446,6,0) -> 80 | H15: =VLOOKUP(B15,[1]Sheet1!B$4:H$8446,7,0) -> 80 | I15: =IF(H15>=90,"Xuất sắc",IF(H15>=80,"Tốt", IF(H15>=65,"Khá",IF(H15>=50,"Trung bình", IF(H15>=35, "Yếu", "Kém"))))) -> Tốt | J15: =VLOOKUP(B15,[1]Sheet1!B$4:K$8446,9,0) -> 80 | K15: =IF(J15>=90,"Xuất sắc",IF(J15>=80,"Tốt", IF(J15>=65,"Khá",IF(J15>=50,"Trung bình", IF(J15>=35, "Yếu", "Kém"))))) -> Tốt
A16: 4 | B16: 24021709 | C16: Nguyễn Việt Cường | D16: 38964 | E16: =VLOOKUP(B16,[1]Sheet1!B$4:L$8446,4,0) -> 92 | F16: =VLOOKUP(B16,[1]Sheet1!B$4:F$8446,5,0) -> 92 | G16: =VLOOKUP(B16,[1]Sheet1!B$4:J$8446,6,0) -> 92 | H16: =VLOOKUP(B16,[1]Sheet1!B$4:H$8446,7,0) -> 92 | I16: =IF(H16>=90,"Xuất sắc",IF(H16>=80,"Tốt", IF(H16>=65,"Khá",IF(H16>=50,"Trung bình", IF(H16>=35, "Yếu", "Kém"))))) -> Xuất sắc | J16: =VLOOKUP(B16,[1]Sheet1!B$4:K$8446,9,0) -> 92 | K16: =IF(J16>=90,"Xuất sắc",IF(J16>=80,"Tốt", IF(J16>=65,"Khá",IF(J16>=50,"Trung bình", IF(J16>=35, "Yếu", "Kém"))))) -> Xuất sắc
A17: 5 | B17: 24021773 | C17: Vũ Khánh Duy | D17: 39000 | E17: =VLOOKUP(B17,[1]Sheet1!B$4:L$8446,4,0) -> 80 | F17: =VLOOKUP(B17,[1]Sheet1!B$4:F$8446,5,0) -> 80 | G17: =VLOOKUP(B17,[1]Sheet1!B$4:J$8446,6,0) -> 80 | H17: =VLOOKUP(B17,[1]Sheet1!B$4:H$8446,7,0) -> 80 | I17: =IF(H17>=90,"Xuất sắc",IF(H17>=80,"Tốt", IF(H17>=65,"Khá",IF(H17>=50,"Trung bình", IF(H17>=35, "Yếu", "Kém"))))) -> Tốt | J17: =VLOOKUP(B17,[1]Sheet1!B$4:K$8446,9,0) -> 80 | K17: =IF(J17>=90,"Xuất sắc",IF(J17>=80,"Tốt", IF(J17>=65,"Khá",IF(J17>=50,"Trung bình", IF(J17>=35, "Yếu", "Kém"))))) -> Tốt
