Workbook

Sheet K66ECE
A1: ĐẠI HỌC QUỐC GIA HÀ NỘI | G1: CỘNG HÒA XÃ HỘI CHỦ NGHĨA VIỆT NAM
A2: TRƯỜNG ĐẠI HỌC CÔNG NGHỆ | G2: Độc lập - Tự do - Hạnh phúc
A5: BẢNG TỔNG HỢP KẾT QUẢ RÈN LUYỆN CỦA SINH VIÊN
A6: LỚP QH-2021-I/CQ-E-CE, HỌC KỲ 2, NĂM HỌC 2024-2025
A7: KHOA ĐIỆN TỬ VIỄN THÔNG
A10: STT | B10: MASV | C10: Họ và tên | D10: Ngày sinh | E10: Điểm tự ĐG | F10: Điểm BCS | G10: Điểm GVCN | H10: Điểm KL | J10: Điểm KL
H11: HĐ cấp Khoa | J11: HĐ cấp Trường (dự kiến)
H12: Điểm | I12: Xếp loại | J12: Điểm | K12: Xếp loại
A13: 1 | B13: 21020426 | C13: Nguyễn Duy Anh | D13: 37773 | E13: =VLOOKUP(B13,[1]Sheet1!B$4:L$8446,4,0) -> 75 | F13: =VLOOKUP(B13,[1]Sheet1!B$4:F$8446,5,0) -> 85 | G13: =VLOOKUP(B13,[1]Sheet1!B$4:J$8446,6,0) -> 85 | H13: =VLOOKUP(B13,[1]Sheet1!B$4:H$8446,7,0) -> 85 | I13: =IF(H13>=90,"Xuất sắc",IF(H13>=80,"Tốt", IF(H13>=65,"Khá",IF(H13>=50,"Trung bình", IF(H13>=35, "Yếu", "Kém"))))) -> Tốt | J13: =VLOOKUP(B13,[1]Sheet1!B$4:K$8446,9,0) -> 85 | K13: =IF(J13>=90,"Xuất sắc",IF(J13>=80,"Tốt", IF(J13>=65,"Khá",IF(J13>=50,"Trung bình", IF(J13>=35, "Yếu", "Kém"))))) -> Tốt
A14: 2 | B14: 21020558 | C14: Nguyễn Đức Anh | D14: 37873 | E14: =VLOOKUP(B14,[1]Sheet1!B$4:L$8446,4,0) -> 70 | F14: =VLOOKUP(B14,[1]Sheet1!B$4:F$8446,5,0) -> 80 | G14: =VLOOKUP(B14,[1]Sheet1!B$4:J$8446,6,0) -> 80 | H14: =VLOOKUP(B14,[1]Sheet1!B$4:H$8446,7,0) -> 80 | I14: =IF(H14>=90,"Xuất sắc",IF(H14>=80,"Tốt", IF(H14>=65,"Khá",IF(H14>=50,"Trung bình", IF(H14>=35, "Yếu", "Kém"))))) -> Tốt | J14: =VLOOKUP(B14,[1]Sheet1!B$4:K$8446,9,0) -> 80 | K14: =IF(J14>=90,"Xuất sắc",IF(J14>=80,"Tốt", IF(J14>=65,"Khá",IF(J14>=50,"Trung bình", IF(J14>=35, "Yếu", "Kém"))))) -> Tốt
A15: 3 | B15: 21020099 | C15: Phạm Tuấn Anh | D15: 37944 | E15: =VLOOKUP(B15,[1]Sheet1!B$4:L$8446,4,0) -> 80 | F15: =VLOOKUP(B15,[1]Sheet1!B$4:F$8446,5,0) -> 80 | G15: =VLOOKUP(B15,[1]Sheet1!B$4:J$8446,6,0) -> 80 | H15: =VLOOKUP(B15,[1]Sheet1!B$4:H$8446,7,0) -> 80 | I15: =IF(H15>=90,"Xuất sắc",IF(H15>=80,"Tốt", IF(H15>=65,"Khá",IF(H15>=50,"Trung bình", IF(H15>=35, "Yếu", "Kém"))))) -> Tốt | J15: =VLOOKUP(B15,[1]Sheet1!B$4:K$8446,9,0) -> 80 | K15: =IF(J15>=90,"Xuất sắc",IF(J15>=80,"Tốt", IF(J15>=65,"Khá",IF(J15>=50,"Trung bình", IF(J15>=35, "Yếu", "Kém"))))) -> Tốt
A16: 4 | B16: 21020889 | C16: Trần Quốc Ánh | D16: 37866 | E16: =VLOOKUP(B16,[1]Sheet1!B$4:L$8446,4,0) -> 80 | F16: =VLOOKUP(B16,[1]Sheet1!B$4:F$8446,5,0) -> 80 | G16: =VLOOKUP(B16,[1]Sheet1!B$4:J$8446,6,0) -> 80 | H16: =VLOOKUP(B16,[1]Sheet1!B$4:H$8446,7,0) -> 80 | I16: =IF(H16>=90,"Xuất sắc",IF(H16>=80,"Tốt", IF(H16>=65,"Khá",IF(H16>=50,"Trung bình", IF(H16>=35, "Yếu", "Kém"))))) -> Tốt | J16: =VLOOKUP(B16,[1]Sheet1!B$4:K$8446,9,0) -> 80 | K16: =IF(J16>=90,"Xuất sắc",IF(J16>=80,"Tốt", IF(J16>=65,"Khá",IF(J16>=50,"Trung bình", IF(J16>=35, "Yếu", "Kém"))))) -> Tốt
A17: 5 | B17: 21020890 | C17: Trịnh Minh Chiến | D17: 37835 | E17: =VLOOKUP(B17,[1]Sheet1!B$4:L$8446,4,0) -> 80 | F17: =VLOOKUP(B17,[1]Sheet1!B$4:F$8446,5,0) -> 80 | G17: =VLOOKUP(B17,[1]Sheet1!B$4:J$8446,6,0) -> 80 | H17: =VLOOKUP(B17,[1]Sheet1!B$4:H$8446,7,0) -> 80 | I17: =IF(H17>=90,"Xuất sắc",IF(H17>=80,"Tốt", IF(H17>=65,"Khá",IF(H17>=50,"Trung bình", IF(H17>=35, "Yếu", "Kém"))))) -> Tốt | J17: =VLOOKUP(B17,[1]Sheet1!B$4:K$8446,9,0) -> 80 | K17: =IF(J17>=90,"Xuất sắc",IF(J17>=80,"Tốt", IF(J17>=65,"Khá",IF(J17>=50,"Trung bình", IF(J17>=35, "Yếu", "Kém"))))) -> Tốt
A18: 6 | B18: 21020134 | C18: Lê Xuân Dân | D18: 37699 | E18: =VLOOKUP(B18,[1]Sheet1!B$4:L$8446,4,0) -> 90 | F18: =VLOOKUP(B18,[1]Sheet1!B$4:F$8446,5,0) -> 90 | G18: =VLOOKUP(B18,[1]Sheet1!B$4:J$8446,6,0) -> 90 | H18: =VLOOKUP(B18,[1]Sheet1!B$4:H$8446,7,0) -> 90 | I18: =IF(H18>=90,"Xuất sắc",IF(H18>=80,"Tốt", IF(H18>=65,"Khá",IF(H18>=50,"Trung bình", IF(H18>=35, "Yếu", "Kém"))))) -> Xuất sắc | J18: =VLOOKUP(B18,[1]Sheet1!B$4:K$8446,9,0) -> 90 | K18: =IF(J18>=90,"Xuất sắc",IF(J18>=80,"Tốt", IF(J18>=65,"Khá",IF(J18>=50,"Trung bình", IF(J18>=35, "Yếu", "Kém"))))) -> Xuất sắc
A19: 7 | B19: 21020895 | C19: Vũ Ngọc Duy | D19: 37784 | E19: =VLOOKUP(B19,[1]Sheet1!B$4:L$8446,4,0) -> 90 | F19: =VLOOKUP(B19,[1]Sheet1!B$4:F$8446,5,0) -> 90 | G19: =VLOOKUP(B19,[1]Sheet1!B$4:J$8446,6,0) -> 90 | H19: =VLOOKUP(B19,[1]Sheet1!B$4:H$8446,7,0) -> 90 | I19: =IF(H19>=90,"Xuất sắc",IF(H19>=80,"Tốt", IF(H19>=65,"Khá",IF(H19>=50,"Trung bình", IF(H19>=35, "Yếu", "Kém"))))) -> Xuất sắc | J19: =VLOOKUP(B19,[1]Sheet1!B$4:K$8446,9,0) -> 90 | K19: =IF(J19>=90,"Xuất sắc",IF(J19>=80,"Tốt", IF(J19>=65,"Khá",IF(J19>=50,"Trung bình", IF(J19>=35, "Yếu", "Kém"))))) -> Xuất sắc
A20: 8 | B20: 21020432 | C20: Trương Vũ Hoàng Dương | D20: 37881 | E20: =VLOOKUP(B20,[1]Sheet1!B$4:L$8446,4,0) -> 80 | F20: =VLOOKUP(B20,[1]Sheet1!B$4:F$8446,5,0) -> 90 | G20: =VLOOKUP(B20,[1]Sheet1!B$4:J$8446,6,0) -> 90 | H20: =VLOOKUP(B20,[1]Sheet1!B$4:H$8446,7,0) -> 90 | I20: =IF(H20>=90,"Xuất sắc",IF(H20>=80,"Tốt", IF(H20>=65,"Khá",IF(H20>=50,"Trung bình", IF(H20>=35, "Yếu", "Kém"))))) -> Xuất sắc | J20: =VLOOKUP(B20,[1]Sheet1!B$4:K$8446,9,0) -> 90 | K20: =IF(J20>=90,"Xuất sắc",IF(J20>=80,"Tốt", IF(J20>=65,"Khá",IF(J20>=50,"Trung bình", IF(J20>=35, "Yếu", "Kém"))))) -> Xuất sắc
A21: 9 | B21: 21020897 | C21: Nguyễn Quang Đạo | D21: 37945 | E21: =VLOOKUP(B21,[1]Sheet1!B$4:L$8446,4,0) -> 70 | F21: =VLOOKUP(B21,[1]Sheet1!B$4:F$8446,5,0) -> 70 | G21: =VLOOKUP(B21,[1]Sheet1!B$4:J$8446,6,0) -> 70 | H21: =VLOOKUP(B21,[1]Sheet1!B$4:H$8446,7,0) -> 70 | I21: =IF(H21>=90,"Xuất sắc",IF(H21>=80,"Tốt", IF(H21>=65,"Khá",IF(H21>=50,"Trung bình", IF(H21>=35, "Yếu", "Kém"))))) -> Khá | J21: =VLOOKUP(B21,[1]Sheet1!B$4:K$8446,9,0) -> 70 | K21: =IF(J21>=90,"Xuất sắc",IF(J21>=80,"Tốt", IF(J21>=65,"Khá",IF(J21>=50,"Trung bình", IF(J21>=35, "Yếu", "Kém"))))) -> Khá
A22: 10 | B22: 21020900 | C22: Bùi Anh Đức | D22: 37893 | E22: =VLOOKUP(B22,[1]Sheet1!B$4:L$8446,4,0) -> 70 | F22: =VLOOKUP(B22,[1]Sheet1!B$4:F$8446,5,0) -> 75 | G22: =VLOOKUP(B22,[1]Sheet1!B$4:J$8446,6,0) -> 75 | H22: =VLOOKUP(B22,[1]Sheet1!B$4:H$8446,7,0) -> 75 | I22: =IF(H22>=90,"Xuất sắc",IF(H22>=80,"Tốt", IF(H22>=65,"Khá",IF(H22>=50,"Trung bình", IF(H22>=35, "Yếu", "Kém"))))) -> Khá | J22: =VLOOKUP(B22,[1]Sheet1!B$4:K$8446,9,0) -> 75 | K22: =IF(J22>=90,"Xuất sắc",IF(J22>=80,"Tốt", IF(J22>=65,"Khá",IF(J22>=50,"Trung bình", IF(J22>=35, "Yếu", "Kém"))))) -> Khá
A23: 11 | B23: 21020901 | C23: Mai Anh Đức | D23: 37849 | E23: =VLOOKUP(B23,[1]Sheet1!B$4:L$8446,4,0) -> 80 | F23: =VLOOKUP(B23,[1]Sheet1!B$4:F$8446,5,0) -> 80 | G23: =VLOOKUP(B23,[1]Sheet1!B$4:J$8446,6,0) -> 80 | H23: =VLOOKUP(B23,[1]Sheet1!B$4:H$8446,7,0) -> 80 | I23: =IF(H23>=90,"Xuất sắc",IF(H23>=80,"Tốt", IF(H23>=65,"Khá",IF(H23>=50,"Trung bình", IF(H23>=35, "Yếu", "Kém"))))) -> Tốt | J23: =VLOOKUP(B23,[1]Sheet1!B$4:K$8446,9,0) -> 80 | K23: =IF(J23>=90,"Xuất sắc",IF(J23>=80,"Tốt", IF(J23>=65,"Khá",IF(J23>=50,"Trung bình", IF(J23>=35, "Yếu", "Kém"))))) -> Tốt
A24: 12 | B24: 21020902 | C24: Nguyễn Anh Đức | D24: 37774 | E24: =VLOOKUP(B24,[1]Sheet1!B$4:L$8446,4,0) -> 70 | F24: =VLOOKUP(B24,[1]Sheet1!B$4:F$8446,5,0) -> 75 | G24: =VLOOKUP(B24,[1]Sheet1!B$4:J$8446,6,0) -> 75 | H24: =VLOOKUP(B24,[1]Sheet1!B$4:H$8446,7,0) -> 75 | I24: =IF(H24>=90,"Xuất sắc",IF(H24>=80,"Tốt", IF(H24>=65,"Khá",IF(H24>=50,"Trung bình", IF(H24>=35, "Yếu", "Kém"))))) -> Khá | J24: =VLOOKUP(B24,[1]Sheet1!B$4:K$8446,9,0) -> 75 | K24: =IF(J24>=90,"Xuất sắc",IF(J24>=80,"Tốt", IF(J24>=65,"Khá",IF(J24>=50,"Trung bình", IF(J24>=35, "Yếu", "Kém"))))) -> Khá
... A71: 59 | B71: 21020459 | C71: Nguyễn Thế Việt | D71: 37880 | E71: =VLOOKUP(B71,[1]Sheet1!B$4:L$8446,4,0) -> 68 | F71: =VLOOKUP(B71,[1]Sheet1!B$4:F$8446,5,0) -> 73 | G71: =VLOOKUP(B71,[1]Sheet1!B$4:J$8446,6,0) -> 73 | H71: =VLOOKUP(B71,[1]Sheet1!B$4:H$8446,7,0) -> 78 | I71: =IF(H71>=90,"Xuất sắc",IF(H71>=80,"Tốt", IF(H71>=65,"Khá",IF(H71>=50,"Trung bình", IF(H71>=35, "Yếu", "Kém"))))) -> Khá | J71: =VLOOKUP(B71,[1]Sheet1!B$4:K$8446,9,0) -> 78 | K71: =IF(J71>=90,"Xuất sắc",IF(J71>=80,"Tốt", IF(J71>=65,"Khá",IF(J71>=50,"Trung bình", IF(J71>=35, "Yếu", "Kém"))))) -> Khá
A73: Ấn định danh sách có 59 sinh viên./.

Sheet K66ERE
A1: ĐẠI HỌC QUỐC GIA HÀ NỘI | G1: CỘNG HÒA XÃ HỘI CHỦ NGHĨA VIỆT NAM
A2: TRƯỜNG ĐẠI HỌC CÔNG NGHỆ | G2: Độc lập - Tự do - Hạnh phúc
A5: BẢNG TỔNG HỢP KẾT QUẢ RÈN LUYỆN CỦA SINH VIÊN
A6: LỚP QH-2021-I/CQ-E-RE, HỌC KỲ 2, NĂM HỌC 2024-2025
A7: KHOA ĐIỆN TỬ VIỄN THÔNG
A10: STT | B10: MASV | C10: Họ và tên | D10: Ngày sinh | E10: Điểm tự ĐG | F10: Điểm BCS | G10: Điểm GVCN | H10: Điểm KL | J10: Điểm KL
H11: HĐ cấp Khoa | J11: HĐ cấp Trường (dự kiến)
H12: Điểm | I12: Xếp loại | J12: Điểm | K12: Xếp loại
A13: 1 | B13: 21020557 | C13: Nguyễn Quy Thành An | D13: 37905 | E13: =VLOOKUP(B13,[1]Sheet1!B$4:L$8446,4,0) -> 80 | F13: =VLOOKUP(B13,[1]Sheet1!B$4:F$8446,5,0) -> 80 | G13: =VLOOKUP(B13,[1]Sheet1!B$4:J$8446,6,0) -> 80 | H13: =VLOOKUP(B13,[1]Sheet1!B$4:H$8446,7,0) -> 80 | I13: =IF(H13>=90,"Xuất sắc",IF(H13>=80,"Tốt", IF(H13>=65,"Khá",IF(H13>=50,"Trung bình", IF(H13>=35, "Yếu", "Kém"))))) -> Tốt | J13: =VLOOKUP(B13,[1]Sheet1!B$4:K$8446,9,0) -> 80 | K13: =IF(J13>=90,"Xuất sắc",IF(J13>=80,"Tốt", IF(J13>=65,"Khá",IF(J13>=50,"Trung bình", IF(J13>=35, "Yếu", "Kém"))))) -> Tốt
A14: 2 | B14: 21020428 | C14: Nguyễn Trung Phúc Anh | D14: 37656 | E14: =VLOOKUP(B14,[1]Sheet1!B$4:L$8446,4,0) -> 90 | F14: =VLOOKUP(B14,[1]Sheet1!B$4:F$8446,5,0) -> 90 | G14: =VLOOKUP(B14,[1]Sheet1!B$4:J$8446,6,0) -> 90 | H14: =VLOOKUP(B14,[1]Sheet1!B$4:H$8446,7,0) -> 90 | I14: =IF(H14>=90,"Xuất sắc",IF(H14>=80,"Tốt", IF(H14>=65,"Khá",IF(H14>=50,"Trung bình", IF(H14>=35, "Yếu", "Kém"))))) -> Xuất sắc | J14: =VLOOKUP(B14,[1]Sheet1!B$4:K$8446,9,0) -> 90 | K14: =IF(J14>=90,"Xuất sắc",IF(J14>=80,"Tốt", IF(J14>=65,"Khá",IF(J14>=50,"Trung bình", IF(J14>=35, "Yếu", "Kém"))))) -> Xuất sắc
A15: 3 | B15: 21020559 | C15: Nguyễn Gia Bảo | D15: 37928 | E15: =VLOOKUP(B15,[1]Sheet1!B$4:L$8446,4,0) -> 90 | F15: =VLOOKUP(B15,[1]Sheet1!B$4:F$8446,5,0) -> 90 | G15: =VLOOKUP(B15,[1]Sheet1!B$4:J$8446,6,0) -> 90 | H15: =VLOOKUP(B15,[1]Sheet1!B$4:H$8446,7,0) -> 90 | I15: =IF(H15>=90,"Xuất sắc",IF(H15>=80,"Tốt", IF(H15>=65,"Khá",IF(H15>=50,"Trung bình", IF(H15>=35, "Yếu", "Kém"))))) -> Xuất sắc | J15: =VLOOKUP(B15,[1]Sheet1!B$4:K$8446,9,0) -> 90 | K15: =IF(J15>=90,"Xuất sắc",IF(J15>=80,"Tốt", IF(J15>=65,"Khá",IF(J15>=50,"Trung bình", IF(J15>=35, "Yếu", "Kém"))))) -> Xuất sắc
A16: 4 | B16: 21020891 | C16: Trần Đàm Mạnh Cường | D16: 37927 | E16: =VLOOKUP(B16,[1]Sheet1!B$4:L$8446,4,0) -> 90 | F16: =VLOOKUP(B16,[1]Sheet1!B$4:F$8446,5,0) -> 90 | G16: =VLOOKUP(B16,[1]Sheet1!B$4:J$8446,6,0) -> 90 | H16: =VLOOKUP(B16,[1]Sheet1!B$4:H$8446,7,0) -> 90 | I16: =IF(H16>=90,"Xuất sắc",IF(H16>=80,"Tốt", IF(H16>=65,"Khá",IF(H16>=50,"Trung bình", IF(H16>=35, "Yếu", "Kém"))))) -> Xuất sắc | J16: =VLOOKUP(B16,[1]Sheet1!B$4:K$8446,9,0) -> 90 | K16: =IF(J16>=90,"Xuất sắc",IF(J16>=80,"Tốt", IF(J16>=65,"Khá",IF(J16>=50,"Trung bình", IF(J16>=35, "Yếu", "Kém"))))) -> Xuất sắc
A17: 5 | B17: 21020430 | C17: Hà Hữu Dũng | D17: 37730 | E17: =VLOOKUP(B17,[1]Sheet1!B$4:L$8446,4,0) -> 70 | F17: 70 | G17: 70 | H17: =VLOOKUP(B17,[1]Sheet1!B$4:H$8446,7,0) -> 70 | I17: =IF(H17>=90,"Xuất sắc",IF(H17>=80,"Tốt", IF(H17>=65,"Khá",IF(H17>=50,"Trung bình", IF(H17>=35, "Yếu", "Kém"))))) -> Khá | J17: 70 | K17: =IF(J17>=90,"Xuất sắc",IF(J17>=80,"Tốt", IF(J17>=65,"Khá",IF(J17>=50,"Trung bình", IF(J17>=35, "Yếu", "Kém"))))) -> Khá
A18: 6 | B18: 21020135 | C18: Thân Ngọc Dũng | D18: 37754 | E18: =VLOOKUP(B18,[1]Sheet1!B$4:L$8446,4,0) -> 90 | F18: =VLOOKUP(B18,[1]Sheet1!B$4:F$8446,5,0) -> 90 | G18: =VLOOKUP(B18,[1]Sheet1!B$4:J$8446,6,0) -> 90 | H18: =VLOOKUP(B18,[1]Sheet1!B$4:H$8446,7,0) -> 90 | I18: =IF(H18>=90,"Xuất sắc",IF(H18>=80,"Tốt", IF(H18>=65,"Khá",IF(H18>=50,"Trung bình", IF(H18>=35, "Yếu", "Kém"))))) -> Xuất sắc | J18: =VLOOKUP(B18,[1]Sheet1!B$4:K$8446,9,0) -> 90 | K18: =IF(J18>=90,"Xuất sắc",IF(J18>=80,"Tốt", IF(J18>=65,"Khá",IF(J18>=50,"Trung bình", IF(J18>=35, "Yếu", "Kém"))))) -> Xuất sắc
A19: 7 | B19: 21020431 | C19: Trần Tiến Dũng | D19: 37676 | E19: =VLOOKUP(B19,[1]Sheet1!B$4:L$8446,4,0) -> 80 | F19: =VLOOKUP(B19,[1]Sheet1!B$4:F$8446,5,0) -> 80 | G19: =VLOOKUP(B19,[1]Sheet1!B$4:J$8446,6,0) -> 80 | H19: =VLOOKUP(B19,[1]Sheet1!B$4:H$8446,7,0) -> 80 | I19: =IF(H19>=90,"Xuất sắc",IF(H19>=80,"Tốt", IF(H19>=65,"Khá",IF(H19>=50,"Trung bình", IF(H19>=35, "Yếu", "Kém"))))) -> Tốt | J19: =VLOOKUP(B19,[1]Sheet1!B$4:K$8446,9,0) -> 80 | K19: =IF(J19>=90,"Xuất sắc",IF(J19>=80,"Tốt", IF(J19>=65,"Khá",IF(J19>=50,"Trung bình", IF(J19>=35, "Yếu", "Kém"))))) -> Tốt
A20: 8 | B20: 21021662 | C20: Đinh Quang Dự | D20: 37476 | E20: =VLOOKUP(B20,[1]Sheet1!B$4:L$8446,4,0) -> 67 | F20: =VLOOKUP(B20,[1]Sheet1!B$4:F$8446,5,0) -> 67 | G20: =VLOOKUP(B20,[1]Sheet1!B$4:J$8446,6,0) -> 67 | H20: =VLOOKUP(B20,[1]Sheet1!B$4:H$8446,7,0) -> 67 | I20: =IF(H20>=90,"Xuất sắc",IF(H20>=80,"Tốt", IF(H20>=65,"Khá",IF(H20>=50,"Trung bình", IF(H20>=35, "Yếu", "Kém"))))) -> Khá | J20: =VLOOKUP(B20,[1]Sheet1!B$4:K$8446,9,0) -> 67 | K20: =IF(J20>=90,"Xuất sắc",IF(J20>=80,"Tốt", IF(J20>=65,"Khá",IF(J20>=50,"Trung bình", IF(J20>=35, "Yếu", "Kém"))))) -> Khá
A21: 9 | B21: 21020138 | C21: Đào Ngọc Đức | D21: 37853 | E21: =VLOOKUP(B21,[1]Sheet1!B$4:L$8446,4,0) -> 90 | F21: =VLOOKUP(B21,[1]Sheet1!B$4:F$8446,5,0) -> 90 | G21: =VLOOKUP(B21,[1]Sheet1!B$4:J$8446,6,0) -> 90 | H21: =VLOOKUP(B21,[1]Sheet1!B$4:H$8446,7,0) -> 90 | I21: =IF(H21>=90,"Xuất sắc",IF(H21>=80,"Tốt", IF(H21>=65,"Khá",IF(H21>=50,"Trung bình", IF(H21>=35, "Yếu", "Kém"))))) -> Xuất sắc | J21: =VLOOKUP(B21,[1]Sheet1!B$4:K$8446,9,0) -> 90 | K21: =IF(J21>=90,"Xuất sắc",IF(J21>=80,"Tốt", IF(J21>=65,"Khá",IF(J21>=50,"Trung bình", IF(J21>=35, "Yếu", "Kém"))))) -> Xuất sắc
A22: 10 | B22: 21020912 | C22: Nguyễn Huy Hoàng | D22: 37696 | E22: =VLOOKUP(B22,[1]Sheet1!B$4:L$8446,4,0) -> 90 | F22: =VLOOKUP(B22,[1]Sheet1!B$4:F$8446,5,0) -> 90 | G22: =VLOOKUP(B22,[1]Sheet1!B$4:J$8446,6,0) -> 90 | H22: =VLOOKUP(B22,[1]Sheet1!B$4:H$8446,7,0) -> 90 | I22: =IF(H22>=90,"Xuất sắc",IF(H22>=80,"Tốt", IF(H22>=65,"Khá",IF(H22>=50,"Trung bình", IF(H22>=35, "Yếu", "Kém"))))) -> Xuất sắc | J22: =VLOOKUP(B22,[1]Sheet1!B$4:K$8446,9,0) -> 90 | K22: =IF(J22>=90,"Xuất sắc",IF(J22>=80,"Tốt", IF(J22>=65,"Khá",IF(J22>=50,"Trung bình", IF(J22>=35, "Yếu", "Kém"))))) -> Xuất sắc
A23: 11 | B23: 21020913 | C23: Nguyễn Đắc Học | D23: 37663 | E23: =VLOOKUP(B23,[1]Sheet1!B$4:L$8446,4,0) -> 82 | F23: =VLOOKUP(B23,[1]Sheet1!B$4:F$8446,5,0) -> 82 | G23: =VLOOKUP(B23,[1]Sheet1!B$4:J$8446,6,0) -> 82 | H23: =VLOOKUP(B23,[1]Sheet1!B$4:H$8446,7,0) -> 82 | I23: =IF(H23>=90,"Xuất sắc",IF(H23>=80,"Tốt", IF(H23>=65,"Khá",IF(H23>=50,"Trung bình", IF(H23>=35, "Yếu", "Kém"))))) -> Tốt | J23: =VLOOKUP(B23,[1]Sheet1!B$4:K$8446,9,0) -> 82 | K23: =IF(J23>=90,"Xuất sắc",IF(J23>=80,"Tốt", IF(J23>=65,"Khá",IF(J23>=50,"Trung bình", IF(J23>=35, "Yếu", "Kém"))))) -> Tốt
A24: 12 | B24: 21020915 | C24: Ngô Quang Huy | D24: 37839 | E24: =VLOOKUP(B24,[1]Sheet1!B$4:L$8446,4,0) -> 67 | F24: =VLOOKUP(B24,[1]Sheet1!B$4:F$8446,5,0) -> 67 | G24: =VLOOKUP(B24,[1]Sheet1!B$4:J$8446,6,0) -> 67 | H24: =VLOOKUP(B24,[1]Sheet1!B$4:H$8446,7,0) -> 67 | I24: =IF(H24>=90,"Xuất sắc",IF(H24>=80,"Tốt", IF(H24>=65,"Khá",IF(H24>=50,"Trung bình", IF(H24>=35, "Yếu", "Kém"))))) -> Khá | J24: =VLOOKUP(B24,[1]Sheet1!B$4:K$8446,9,0) -> 67 | K24: =IF(J24>=90,"Xuất sắc",IF(J24>=80,"Tốt", IF(J24>=65,"Khá",IF(J24>=50,"Trung bình", IF(J24>=35, "Yếu", "Kém"))))) -> Khá
A25: 13 | B25: 21020917 | C25: Dương Bá Hưng | D25: 37699 | E25: =VLOOKUP(B25,[1]Sheet1!B$4:L$8446,4,0) -> 90 | F25: =VLOOKUP(B25,[1]Sheet1!B$4:F$8446,5,0) -> 80 | G25: =VLOOKUP(B25,[1]Sheet1!B$4:J$8446,6,0) -> 80 | H25: =VLOOKUP(B25,[1]Sheet1!B$4:H$8446,7,0) -> 90 | I25: =IF(H25>=90,"Xuất sắc",IF(H25>=80,"Tốt", IF(H25>=65,"Khá",IF(H25>=50,"Trung bình", IF(H25>=35, "Yếu", "Kém"))))) -> Xuất sắc | J25: =VLOOKUP(B25,[1]Sheet1!B$4:K$8446,9,0) -> 80 | K25: =IF(J25>=90,"Xuất sắc",IF(J25>=80,"Tốt", IF(J25>=65,"Khá",IF(J25>=50,"Trung bình", IF(J25>=35, "Yếu", "Kém"))))) -> Tốt
A26: 14 | B26: 21020919 | C26: Khương Gia Khánh | D26: 37963 | E26: =VLOOKUP(B26,[1]Sheet1!B$4:L$8446,4,0) -> 70 | F26: =VLOOKUP(B26,[1]Sheet1!B$4:F$8446,5,0) -> 60 | G26: =VLOOKUP(B26,[1]Sheet1!B$4:J$8446,6,0) -> 60 | H26: =VLOOKUP(B26,[1]Sheet1!B$4:H$8446,7,0) -> 60 | I26: =IF(H26>=90,"Xuất sắc",IF(H26>=80,"Tốt", IF(H26>=65,"Khá",IF(H26>=50,"Trung bình", IF(H26>=35, "Yếu", "Kém"))))) -> Trung bình | J26: =VLOOKUP(B26,[1]Sheet1!B$4:K$8446,9,0) -> 60 | K26: =IF(J26>=90,"Xuất sắc",IF(J26>=80,"Tốt", IF(J26>=65,"Khá",IF(J26>=50,"Trung bình", IF(J26>=35, "Yếu", "Kém"))))) -> Trung bình
A27: 15 | B27: 21020562 | C27: Nguyễn Hồ Khánh | D27: 37902 | E27: =VLOOKUP(B27,[1]Sheet1!B$4:L$8446,4,0) -> 90 | F27: =VLOOKUP(B27,[1]Sheet1!B$4:F$8446,5,0) -> 90 | G27: =VLOOKUP(B27,[1]Sheet1!B$4:J$8446,6,0) -> 90 | H27: =VLOOKUP(B27,[1]Sheet1!B$4:H$8446,7,0) -> 90 | I27: =IF(H27>=90,"Xuất sắc",IF(H27>=80,"Tốt", IF(H27>=65,"Khá",IF(H27>=50,"Trung bình", IF(H27>=35, "Yếu", "Kém"))))) -> Xuất sắc | J27: =VLOOKUP(B27,[1]Sheet1!B$4:K$8446,9,0) -> 90 | K27: =IF(J27>=90,"Xuất sắc",IF(J27>=80,"Tốt", IF(J27>=65,"Khá",IF(J27>=50,"Trung bình", IF(J27>=35, "Yếu", "Kém"))))) -> Xuất sắc
A28: 16 | B28: 21020445 | C28: Phạm Thị Mỹ Lệ | D28: 37824 | E28: =VLOOKUP(B28,[1]Sheet1!B$4:L$8446,4,0) -> 77 | F28: =VLOOKUP(B28,[1]Sheet1!B$4:F$8446,5,0) -> 80 | G28: =VLOOKUP(B28,[1]Sheet1!B$4:J$8446,6,0) -> 80 | H28: =VLOOKUP(B28,[1]Sheet1!B$4:H$8446,7,0) -> 80 | I28: =IF(H28>=90,"Xuất sắc",IF(H28>=80,"Tốt", IF(H28>=65,"Khá",IF(H28>=50,"Trung bình", IF(H28>=35, "Yếu", "Kém"))))) -> Tốt | J28: =VLOOKUP(B28,[1]Sheet1!B$4:K$8446,9,0) -> 80 | K28: =IF(J28>=90,"Xuất sắc",IF(J28>=80,"Tốt", IF(J28>=65,"Khá",IF(J28>=50,"Trung bình", IF(J28>=35, "Yếu", "Kém"))))) -> Tốt
A29: 17 | B29: 21020446 | C29: Nguyễn Khánh Linh | D29: 37757 | E29: =VLOOKUP(B29,[1]Sheet1!B$4:L$8446,4,0) -> 80 | F29: =VLOOKUP(B29,[1]Sheet1!B$4:F$8446,5,0) -> 80 | G29: =VLOOKUP(B29,[1]Sheet1!B$4:J$8446,6,0) -> 80 | H29: =VLOOKUP(B29,[1]Sheet1!B$4:H$8446,7,0) -> 80 | I29: =IF(H29>=90,"Xuất sắc",IF(H29>=80,"Tốt", IF(H29>=65,"Khá",IF(H29>=50,"Trung bình", IF(H29>=35, "Yếu", "Kém"))))) -> Tốt | J29: =VLOOKUP(B29,[1]Sheet1!B$4:K$8446,9,0) -> 80 | K29: =IF(J29>=90,"Xuất sắc",IF(J29>=80,"Tốt", IF(J29>=65,"Khá",IF(J29>=50,"Trung bình", IF(J29>=35, "Yếu", "Kém"))))) -> Tốt
... A37: 25 | B37: 21020567 | C37: Đào Sơn Tùng | D37: 37679 | E37: =VLOOKUP(B37,[1]Sheet1!B$4:L$8446,4,0) -> 75 | F37: =VLOOKUP(B37,[1]Sheet1!B$4:F$8446,5,0) -> 75 | G37: =VLOOKUP(B37,[1]Sheet1!B$4:J$8446,6,0) -> 75 | H37: =VLOOKUP(B37,[1]Sheet1!B$4:H$8446,7,0) -> 75 | I37: =IF(H37>=90,"Xuất sắc",IF(H37>=80,"Tốt", IF(H37>=65,"Khá",IF(H37>=50,"Trung bình", IF(H37>=35, "Yếu", "Kém"))))) -> Khá | J37: =VLOOKUP(B37,[1]Sheet1!B$4:K$8446,9,0) -> 75 | K37: =IF(J37>=90,"Xuất sắc",IF(J37>=80,"Tốt", IF(J37>=65,"Khá",IF(J37>=50,"Trung bình", IF(J37>=35, "Yếu", "Kém"))))) -> Khá
A39: Ấn định danh sách có 25 sinh viên./.

Sheet K67ECE1
A1: ĐẠI HỌC QUỐC GIA HÀ NỘI | G1: CỘNG HÒA XÃ HỘI CHỦ NGHĨA VIỆT NAM
A2: TRƯỜNG ĐẠI HỌC CÔNG NGHỆ | G2: Độc lập - Tự do - Hạnh phúc
A5: BẢNG TỔNG HỢP KẾT QUẢ RÈN LUYỆN CỦA SINH VIÊN
A6: LỚP QH-2022-I/CQ-E-CE1, HỌC KỲ 2, NĂM HỌC 2024-2025
A7: KHOA ĐIỆN TỬ VIỄN THÔNG
A10: STT | B10: MASV | C10: Họ và tên | D10: Ngày sinh | E10: Điểm tự ĐG | F10: Điểm BCS | G10: Điểm GVCN | H10: Điểm KL | J10: Điểm KL
H11: HĐ cấp Khoa | J11: HĐ cấp Trường (dự kiến)
H12: Điểm | I12: Xếp loại | J12: Điểm | K12: Xếp loại
A13: 1 | B13: 22022138 | C13: Nguyễn Quốc An | D13: 38286 | E13: =VLOOKUP(B13,[1]Sheet1!B$4:L$8446,4,0) -> 80 | F13: =VLOOKUP(B13,[1]Sheet1!B$4:F$8446,5,0) -> 80 | G13: =VLOOKUP(B13,[1]Sheet1!B$4:J$8446,6,0) -> 80 | H13: =VLOOKUP(B13,[1]Sheet1!B$4:H$8446,7,0) -> 80 | I13: =IF(H13>=90,"Xuất sắc",IF(H13>=80,"Tốt", IF(H13>=65,"Khá",IF(H13>=50,"Trung bình", IF(H13>=35, "Yếu", "Kém"))))) -> Tốt | J13: =VLOOKUP(B13,[1]Sheet1!B$4:K$8446,9,0) -> 80 | K13: =IF(J13>=90,"Xuất sắc",IF(J13>=80,"Tốt", IF(J13>=65,"Khá",IF(J13>=50,"Trung bình", IF(J13>=35, "Yếu", "Kém"))))) -> Tốt
A14: 2 | B14: 22022171 | C14: Nguyễn Đức Anh | D14: 38064 | E14: =VLOOKUP(B14,[1]Sheet1!B$4:L$8446,4,0) -> 90 | F14: =VLOOKUP(B14,[1]Sheet1!B$4:F$8446,5,0) -> 90 | G14: =VLOOKUP(B14,[1]Sheet1!B$4:J$8446,6,0) -> 90 | H14: =VLOOKUP(B14,[1]Sheet1!B$4:H$8446,7,0) -> 90 | I14: =IF(H14>=90,"Xuất sắc",IF(H14>=80,"Tốt", IF(H14>=65,"Khá",IF(H14>=50,"Trung bình", IF(H14>=35, "Yếu", "Kém"))))) -> Xuất sắc | J14: =VLOOKUP(B14,[1]Sheet1!B$4:K$8446,9,0) -> 90 | K14: =IF(J14>=90,"Xuất sắc",IF(J14>=80,"Tốt", IF(J14>=65,"Khá",IF(J14>=50,"Trung bình", IF(J14>=35, "Yếu", "Kém"))))) -> Xuất sắc
A15: 3 | B15: 22022168 | C15: Nguyễn Tuấn Anh | D15: 38009 | E15: =VLOOKUP(B15,[1]Sheet1!B$4:L$8446,4,0) -> 92 | F15: =VLOOKUP(B15,[1]Sheet1!B$4:F$8446,5,0) -> 92 | G15: =VLOOKUP(B15,[1]Sheet1!B$4:J$8446,6,0) -> 92 | H15: =VLOOKUP(B15,[1]Sheet1!B$4:H$8446,7,0) -> 92 | I15: =IF(H15>=90,"Xuất sắc",IF(H15>=80,"Tốt", IF(H15>=65,"Khá",IF(H15>=50,"Trung bình", IF(H15>=35, "Yếu", "Kém"))))) -> Xuất sắc | J15: =VLOOKUP(B15,[1]Sheet1!B$4:K$8446,9,0) -> 92 | K15: =IF(J15>=90,"Xuất sắc",IF(J15>=80,"Tốt", IF(J15>=65,"Khá",IF(J15>=50,"Trung bình", IF(J15>=35, "Yếu", "Kém"))))) -> Xuất sắc
A16: 4 | B16: 22022189 | C16: Trần Đức Anh | D16: 38164 | E16: =VLOOKUP(B16,[1]Sheet1!B$4:L$8446,4,0) -> 90 | F16: =VLOOKUP(B16,[1]Sheet1!B$4:F$8446,5,0) -> 91 | G16: =VLOOKUP(B16,[1]Sheet1!B$4:J$8446,6,0) -> 91 | H16: =VLOOKUP(B16,[1]Sheet1!B$4:H$8446,7,0) -> 91 | I16: =IF(H16>=90,"Xuất sắc",IF(H16>=80,"Tốt", IF(H16>=65,"Khá",IF(H16>=50,"Trung bình", IF(H16>=35, "Yếu", "Kém"))))) -> Xuất sắc | J16: =VLOOKUP(B16,[1]Sheet1!B$4:K$8446,9,0) -> 91 | K16: =IF(J16>=90,"Xuất sắc",IF(J16>=80,"Tốt", IF(J16>=65,"Khá",IF(J16>=50,"Trung bình", IF(J16>=35, "Yếu", "Kém"))))) -> Xuất sắc
A17: 5 | B17: 22022162 | C17: Nguyễn Văn Bình | D17: 38308 | E17: =VLOOKUP(B17,[1]Sheet1!B$4:L$8446,4,0) -> 90 | F17: =VLOOKUP(B17,[1]Sheet1!B$4:F$8446,5,0) -> 90 | G17: =VLOOKUP(B17,[1]Sheet1!B$4:J$8446,6,0) -> 90 | H17: =VLOOKUP(B17,[1]Sheet1!B$4:H$8446,7,0) -> 90 | I17: =IF(H17>=90,"Xuất sắc",IF(H17>=80,"Tốt", IF(H17>=65,"Khá",IF(H17>=50,"Trung bình", IF(H17>=35, "Yếu", "Kém"))))) -> Xuất sắc | J17: =VLOOKUP(B17,[1]Sheet1!B$4:K$8446,9,0) -> 90 | K17: =IF(J17>=90,"Xuất sắc",IF(J17>=80,"Tốt", IF(J17>=65,"Khá",IF(J17>=50,"Trung bình", IF(J17>=35, "Yếu", "Kém"))))) -> Xuất sắc
A18: 6 | B18: 22022200 | C18: Võ Văn Cường | D18: 38024 | E18: =VLOOKUP(B18,[1]Sheet1!B$4:L$8446,4,0) -> 80 | F18: =VLOOKUP(B18,[1]Sheet1!B$4:F$8446,5,0) -> 81 | G18: =VLOOKUP(B18,[1]Sheet1!B$4:J$8446,6,0) -> 81 | H18: =VLOOKUP(B18,[1]Sheet1!B$4:H$8446,7,0) -> 81 | I18: =IF(H18>=90,"Xuất sắc",IF(H18>=80,"Tốt", IF(H18>=65,"Khá",IF(H18>=50,"Trung bình", IF(H18>=35, "Yếu", "Kém"))))) -> Tốt | J18: =VLOOKUP(B18,[1]Sheet1!B$4:K$8446,9,0) -> 81 | K18: =IF(J18>=90,"Xuất sắc",IF(J18>=80,"Tốt", IF(J18>=65,"Khá",IF(J18>=50,"Trung bình", IF(J18>=35, "Yếu", "Kém"))))) -> Tốt
A19: 7 | B19: 22022201 | C19: Phan Đình Danh | D19: 37641 | E19: =VLOOKUP(B19,[1]Sheet1!B$4:L$8446,4,0) -> 80 | F19: =VLOOKUP(B19,[1]Sheet1!B$4:F$8446,5,0) -> 80 | G19: =VLOOKUP(B19,[1]Sheet1!B$4:J$8446,6,0) -> 80 | H19: =VLOOKUP(B19,[1]Sheet1!B$4:H$8446,7,0) -> 80 | I19: =IF(H19>=90,"Xuất sắc",IF(H19>=80,"Tốt", IF(H19>=65,"Khá",IF(H19>=50,"Trung bình", IF(H19>=35, "Yếu", "Kém"))))) -> Tốt | J19: =VLOOKUP(B19,[1]Sheet1!B$4:K$8446,9,0) -> 80 | K19: =IF(J19>=90,"Xuất sắc",IF(J19>=80,"Tốt", IF(J19>=65,"Khá",IF(J19>=50,"Trung bình", IF(J19>=35, "Yếu", "Kém"))))) -> Tốt
A20: 8 | B20: 22022206 | C20: Hoàng Anh Dũng | D20: 38082 | E20: =VLOOKUP(B20,[1]Sheet1!B$4:L$8446,4,0) -> 80 | F20: =VLOOKUP(B20,[1]Sheet1!B$4:F$8446,5,0) -> 80 | G20: =VLOOKUP(B20,[1]Sheet1!B$4:J$8446,6,0) -> 80 | H20: =VLOOKUP(B20,[1]Sheet1!B$4:H$8446,7,0) -> 80 | I20: =IF(H20>=90,"Xuất sắc",IF(H20>=80,"Tốt", IF(H20>=65,"Khá",IF(H20>=50,"Trung bình", IF(H20>=35, "Yếu", "Kém"))))) -> Tốt | J20: =VLOOKUP(B20,[1]Sheet1!B$4:K$8446,9,0) -> 80 | K20: =IF(J20>=90,"Xuất sắc",IF(J20>=80,"Tốt", IF(J20>=65,"Khá",IF(J20>=50,"Trung bình", IF(J20>=35, "Yếu", "Kém"))))) -> Tốt
A21: 9 | B21: 22022105 | C21: Nguyễn Mạnh Dũng | D21: 38269 | E21: =VLOOKUP(B21,[1]Sheet1!B$4:L$8446,4,0) -> 100 | F21: =VLOOKUP(B21,[1]Sheet1!B$4:F$8446,5,0) -> 100 | G21: =VLOOKUP(B21,[1]Sheet1!B$4:J$8446,6,0) -> 100 | H21: =VLOOKUP(B21,[1]Sheet1!B$4:H$8446,7,0) -> 100 | I21: =IF(H21>=90,"Xuất sắc",IF(H21>=80,"Tốt", IF(H21>=65,"Khá",IF(H21>=50,"Trung bình", IF(H21>=35, "Yếu", "Kém"))))) -> Xuất sắc | J21: =VLOOKUP(B21,[1]Sheet1!B$4:K$8446,9,0) -> 100 | K21: =IF(J21>=90,"Xuất sắc",IF(J21>=80,"Tốt", IF(J21>=65,"Khá",IF(J21>=50,"Trung bình", IF(J21>=35, "Yếu", "Kém"))))) -> Xuất sắc
A22: 10 | B22: 22022121 | C22: Đỗ An Duy | D22: 38336 | E22: =VLOOKUP(B22,[1]Sheet1!B$4:L$8446,4,0) -> 80 | F22: =VLOOKUP(B22,[1]Sheet1!B$4:F$8446,5,0) -> 80 | G22: =VLOOKUP(B22,[1]Sheet1!B$4:J$8446,6,0) -> 80 | H22: =VLOOKUP(B22,[1]Sheet1!B$4:H$8446,7,0) -> 80 | I22: =IF(H22>=90,"Xuất sắc",IF(H22>=80,"Tốt", IF(H22>=65,"Khá",IF(H22>=50,"Trung bình", IF(H22>=35, "Yếu", "Kém"))))) -> Tốt | J22: =VLOOKUP(B22,[1]Sheet1!B$4:K$8446,9,0) -> 80 | K22: =IF(J22>=90,"Xuất sắc",IF(J22>=80,"Tốt", IF(J22>=65,"Khá",IF(J22>=50,"Trung bình", IF(J22>=35, "Yếu", "Kém"))))) -> Tốt
A23: 11 | B23: 22022186 | C23: Vũ Quang Duy | D23: 38006 | E23: =VLOOKUP(B23,[1]Sheet1!B$4:L$8446,4,0) -> 80 | F23: =VLOOKUP(B23,[1]Sheet1!B$4:F$8446,5,0) -> 81 | G23: =VLOOKUP(B23,[1]Sheet1!B$4:J$8446,6,0) -> 81 | H23: =VLOOKUP(B23,[1]Sheet1!B$4:H$8446,7,0) -> 81 | I23: =IF(H23>=90,"Xuất sắc",IF(H23>=80,"Tốt", IF(H23>=65,"Khá",IF(H23>=50,"Trung bình", IF(H23>=35, "Yếu", "Kém"))))) -> Tốt | J23: =VLOOKUP(B23,[1]Sheet1!B$4:K$8446,9,0) -> 81 | K23: =IF(J23>=90,"Xuất sắc",IF(J23>=80,"Tốt", IF(J23>=65,"Khá",IF(J23>=50,"Trung bình", IF(J23>=35, "Yếu", "Kém"))))) -> Tốt
A24: 12 | B24: 22022122 | C24: Đoàn Hải Dương | D24: 38125 | E24: =VLOOKUP(B24,[1]Sheet1!B$4:L$8446,4,0) -> 90 | F24: =VLOOKUP(B24,[1]Sheet1!B$4:F$8446,5,0) -> 90 | G24: =VLOOKUP(B24,[1]Sheet1!B$4:J$8446,6,0) -> 90 | H24: =VLOOKUP(B24,[1]Sheet1!B$4:H$8446,7,0) -> 90 | I24: =IF(H24>=90,"Xuất sắc",IF(H24>=80,"Tốt", IF(H24>=65,"Khá",IF(H24>=50,"Trung bình", IF(H24>=35, "Yếu", "Kém"))))) -> Xuất sắc | J24: =VLOOKUP(B24,[1]Sheet1!B$4:K$8446,9,0) -> 90 | K24: =IF(J24>=90,"Xuất sắc",IF(J24>=80,"Tốt", IF(J24>=65,"Khá",IF(J24>=50,"Trung bình", IF(J24>=35, "Yếu", "Kém"))))) -> Xuất sắc
... A69: 57 | B69: 22022102 | C69: Vũ Đình Vương | D69: 38314 | E69: =VLOOKUP(B69,[1]Sheet1!B$4:L$8446,4,0) -> 80 | F69: =VLOOKUP(B69,[1]Sheet1!B$4:F$8446,5,0) -> 80 | G69: =VLOOKUP(B69,[1]Sheet1!B$4:J$8446,6,0) -> 80 | H69: =VLOOKUP(B69,[1]Sheet1!B$4:H$8446,7,0) -> 80 | I69: =IF(H69>=90,"Xuất sắc",IF(H69>=80,"Tốt", IF(H69>=65,"Khá",IF(H69>=50,"Trung bình", IF(H69>=35, "Yếu", "Kém"))))) -> Tốt | J69: =VLOOKUP(B69,[1]Sheet1!B$4:K$8446,9,0) -> 80 | K69: =IF(J69>=90,"Xuất sắc",IF(J69>=80,"Tốt", IF(J69>=65,"Khá",IF(J69>=50,"Trung bình", IF(J69>=35, "Yếu", "Kém"))))) -> Tốt
A71: Ấn định danh sách có 57 sinh viên./.

Sheet K67ECE2
A1: ĐẠI HỌC QUỐC GIA HÀ NỘI | G1: CỘNG HÒA XÃ HỘI CHỦ NGHĨA VIỆT NAM
A2: TRƯỜNG ĐẠI HỌC CÔNG NGHỆ | G2: Độc lập - Tự do - Hạnh phúc
A5: BẢNG TỔNG HỢP KẾT QUẢ RÈN LUYỆN CỦA SINH VIÊN
A6: LỚP QH-2022-I/CQ-E-CE2, HỌC KỲ 2, NĂM HỌC 2024-2025
A7: KHOA ĐIỆN TỬ VIỄN THÔNG
A10: STT | B10: MASV | C10: Họ và tên | D10: Ngày sinh | E10: Điểm tự ĐG | F10: Điểm BCS | G10: Điểm GVCN | H10: Điểm KL | J10: Điểm KL
H11: HĐ cấp Khoa | J11: HĐ cấp Trường (dự kiến)
H12: Điểm | I12: Xếp loại | J12: Điểm | K12: Xếp loại
A13: 1 | B13: 22022163 | C13: Đỗ Nhất Anh | D13: 38103 | E13: =VLOOKUP(B13,[1]Sheet1!B$4:L$8446,4,0) -> 90 | F13: =VLOOKUP(B13,[1]Sheet1!B$4:F$8446,5,0) -> 90 | G13: =VLOOKUP(B13,[1]Sheet1!B$4:J$8446,6,0) -> 90 | H13: =VLOOKUP(B13,[1]Sheet1!B$4:H$8446,7,0) -> 90 | I13: =IF(H13>=90,"Xuất sắc",IF(H13>=80,"Tốt", IF(H13>=65,"Khá",IF(H13>=50,"Trung bình", IF(H13>=35, "Yếu", "Kém"))))) -> Xuất sắc | J13: =VLOOKUP(B13,[1]Sheet1!B$4:K$8446,9,0) -> 90 | K13: =IF(J13>=90,"Xuất sắc",IF(J13>=80,"Tốt", IF(J13>=65,"Khá",IF(J13>=50,"Trung bình", IF(J13>=35, "Yếu", "Kém"))))) -> Xuất sắc
A14: 2 | B14: 22022196 | C14: Nguyễn Hữu Trọng Anh | D14: 38103 | E14: =VLOOKUP(B14,[1]Sheet1!B$4:L$8446,4,0) -> 80 | F14: =VLOOKUP(B14,[1]Sheet1!B$4:F$8446,5,0) -> 80 | G14: =VLOOKUP(B14,[1]Sheet1!B$4:J$8446,6,0) -> 80 | H14: =VLOOKUP(B14,[1]Sheet1!B$4:H$8446,7,0) -> 80 | I14: =IF(H14>=90,"Xuất sắc",IF(H14>=80,"Tốt", IF(H14>=65,"Khá",IF(H14>=50,"Trung bình", IF(H14>=35, "Yếu", "Kém"))))) -> Tốt | J14: =VLOOKUP(B14,[1]Sheet1!B$4:K$8446,9,0) -> 80 | K14: =IF(J14>=90,"Xuất sắc",IF(J14>=80,"Tốt", IF(J14>=65,"Khá",IF(J14>=50,"Trung bình", IF(J14>=35, "Yếu", "Kém"))))) -> Tốt
A15: 3 | B15: 22022190 | C15: Trần Đức Việt Anh | D15: 38263 | E15: =VLOOKUP(B15,[1]Sheet1!B$4:L$8446,4,0) -> 80 | F15: =VLOOKUP(B15,[1]Sheet1!B$4:F$8446,5,0) -> 80 | G15: =VLOOKUP(B15,[1]Sheet1!B$4:J$8446,6,0) -> 80 | H15: =VLOOKUP(B15,[1]Sheet1!B$4:H$8446,7,0) -> 80 | I15: =IF(H15>=90,"Xuất sắc",IF(H15>=80,"Tốt", IF(H15>=65,"Khá",IF(H15>=50,"Trung bình", IF(H15>=35, "Yếu", "Kém"))))) -> Tốt | J15: =VLOOKUP(B15,[1]Sheet1!B$4:K$8446,9,0) -> 80 | K15: =IF(J15>=90,"Xuất sắc",IF(J15>=80,"Tốt", IF(J15>=65,"Khá",IF(J15>=50,"Trung bình", IF(J15>=35, "Yếu", "Kém"))))) -> Tốt
A16: 4 | B16: 22022185 | C16: Vũ Minh Chiến | D16: 38117 | E16: =VLOOKUP(B16,[1]Sheet1!B$4:L$8446,4,0) -> 80 | F16: =VLOOKUP(B16,[1]Sheet1!B$4:F$8446,5,0) -> 80 | G16: =VLOOKUP(B16,[1]Sheet1!B$4:J$8446,6,0) -> 80 | H16: =VLOOKUP(B16,[1]Sheet1!B$4:H$8446,7,0) -> 80 | I16: =IF(H16>=90,"Xuất sắc",IF(H16>=80,"Tốt", IF(H16>=65,"Khá",IF(H16>=50,"Trung bình", IF(H16>=35, "Yếu", "Kém"))))) -> Tốt | J16: =VLOOKUP(B16,[1]Sheet1!B$4:K$8446,9,0) -> 80 | K16: =IF(J16>=90,"Xuất sắc",IF(J16>=80,"Tốt", IF(J16>=65,"Khá",IF(J16>=50,"Trung bình", IF(J16>=35, "Yếu", "Kém"))))) -> Tốt
A17: 5 | B17: 22022183 | C17: Nguyễn Quốc Cường | D17: 37989 | E17: =VLOOKUP(B17,[1]Sheet1!B$4:L$8446,4,0) -> 90 | F17: =VLOOKUP(B17,[1]Sheet1!B$4:F$8446,5,0) -> 90 | G17: =VLOOKUP(B17,[1]Sheet1!B$4:J$8446,6,0) -> 90 | H17: =VLOOKUP(B17,[1]Sheet1!B$4:H$8446,7,0) -> 90 | I17: =IF(H17>=90,"Xuất sắc",IF(H17>=80,"Tốt", IF(H17>=65,"Khá",IF(H17>=50,"Trung bình", IF(H17>=35, "Yếu", "Kém"))))) -> Xuất sắc | J17: =VLOOKUP(B17,[1]Sheet1!B$4:K$8446,9,0) -> 90 | K17: =IF(J17>=90,"Xuất sắc",IF(J17>=80,"Tốt", IF(J17>=65,"Khá",IF(J17>=50,"Trung bình", IF(J17>=35, "Yếu", "Kém"))))) -> Xuất sắc
A18: 6 | B18: 22022158 | C18: Nguyễn Văn Diện | D18: 38110 | E18: =VLOOKUP(B18,[1]Sheet1!B$4:L$8446,4,0) -> 80 | F18: =VLOOKUP(B18,[1]Sheet1!B$4:F$8446,5,0) -> 80 | G18: =VLOOKUP(B18,[1]Sheet1!B$4:J$8446,6,0) -> 80 | H18: =VLOOKUP(B18,[1]Sheet1!B$4:H$8446,7,0) -> 80 | I18: =IF(H18>=90,"Xuất sắc",IF(H18>=80,"Tốt", IF(H18>=65,"Khá",IF(H18>=50,"Trung bình", IF(H18>=35, "Yếu", "Kém"))))) -> Tốt | J18: =VLOOKUP(B18,[1]Sheet1!B$4:K$8446,9,0) -> 80 | K18: =IF(J18>=90,"Xuất sắc",IF(J18>=80,"Tốt", IF(J18>=65,"Khá",IF(J18>=50,"Trung bình", IF(J18>=35, "Yếu", "Kém"))))) -> Tốt
A19: 7 | B19: 22022149 | C19: Nguyễn Đức Dũng | D19: 38204 | E19: =VLOOKUP(B19,[1]Sheet1!B$4:L$8446,4,0) -> 80 | F19: =VLOOKUP(B19,[1]Sheet1!B$4:F$8446,5,0) -> 80 | G19: =VLOOKUP(B19,[1]Sheet1!B$4:J$8446,6,0) -> 80 | H19: =VLOOKUP(B19,[1]Sheet1!B$4:H$8446,7,0) -> 80 | I19: =IF(H19>=90,"Xuất sắc",IF(H19>=80,"Tốt", IF(H19>=65,"Khá",IF(H19>=50,"Trung bình", IF(H19>=35, "Yếu", "Kém"))))) -> Tốt | J19: =VLOOKUP(B19,[1]Sheet1!B$4:K$8446,9,0) -> 80 | K19: =IF(J19>=90,"Xuất sắc",IF(J19>=80,"Tốt", IF(J19>=65,"Khá",IF(J19>=50,"Trung bình", IF(J19>=35, "Yếu", "Kém"))))) -> Tốt
A20: 8 | B20: 22022113 | C20: Nguyễn Tiến Dũng | D20: 38263 | E20: =VLOOKUP(B20,[1]Sheet1!B$4:L$8446,4,0) -> 90 | F20: =VLOOKUP(B20,[1]Sheet1!B$4:F$8446,5,0) -> 90 | G20: =VLOOKUP(B20,[1]Sheet1!B$4:J$8446,6,0) -> 90 | H20: =VLOOKUP(B20,[1]Sheet1!B$4:H$8446,7,0) -> 90 | I20: =IF(H20>=90,"Xuất sắc",IF(H20>=80,"Tốt", IF(H20>=65,"Khá",IF(H20>=50,"Trung bình", IF(H20>=35, "Yếu", "Kém"))))) -> Xuất sắc | J20: =VLOOKUP(B20,[1]Sheet1!B$4:K$8446,9,0) -> 90 | K20: =IF(J20>=90,"Xuất sắc",IF(J20>=80,"Tốt", IF(J20>=65,"Khá",IF(J20>=50,"Trung bình", IF(J20>=35, "Yếu", "Kém"))))) -> Xuất sắc
A21: 9 | B21: 22022148 | C21: Nguyễn Quang Duy | D21: 38093 | E21: =VLOOKUP(B21,[1]Sheet1!B$4:L$8446,4,0) -> 90 | F21: =VLOOKUP(B21,[1]Sheet1!B$4:F$8446,5,0) -> 90 | G21: =VLOOKUP(B21,[1]Sheet1!B$4:J$8446,6,0) -> 90 | H21: =VLOOKUP(B21,[1]Sheet1!B$4:H$8446,7,0) -> 90 | I21: =IF(H21>=90,"Xuất sắc",IF(H21>=80,"Tốt", IF(H21>=65,"Khá",IF(H21>=50,"Trung bình", IF(H21>=35, "Yếu", "Kém"))))) -> Xuất sắc | J21: =VLOOKUP(B21,[1]Sheet1!B$4:K$8446,9,0) -> 90 | K21: =IF(J21>=90,"Xuất sắc",IF(J21>=80,"Tốt", IF(J21>=65,"Khá",IF(J21>=50,"Trung bình", IF(J21>=35, "Yếu", "Kém"))))) -> Xuất sắc
A22: 10 | B22: 22022118 | C22: Phạm Văn Duy | D22: 38125 | E22: =VLOOKUP(B22,[1]Sheet1!B$4:L$8446,4,0) -> 90 | F22: =VLOOKUP(B22,[1]Sheet1!B$4:F$8446,5,0) -> 90 | G22: =VLOOKUP(B22,[1]Sheet1!B$4:J$8446,6,0) -> 90 | H22: =VLOOKUP(B22,[1]Sheet1!B$4:H$8446,7,0) -> 90 | I22: =IF(H22>=90,"Xuất sắc",IF(H22>=80,"Tốt", IF(H22>=65,"Khá",IF(H22>=50,"Trung bình", IF(H22>=35, "Yếu", "Kém"))))) -> Xuất sắc | J22: =VLOOKUP(B22,[1]Sheet1!B$4:K$8446,9,0) -> 90 | K22: =IF(J22>=90,"Xuất sắc",IF(J22>=80,"Tốt", IF(J22>=65,"Khá",IF(J22>=50,"Trung bình", IF(J22>=35, "Yếu", "Kém"))))) -> Xuất sắc
A23: 11 | B23: 22022157 | C23: Đặng Minh Dương | D23: 38257 | E23: =VLOOKUP(B23,[1]Sheet1!B$4:L$8446,4,0) -> 80 | F23: =VLOOKUP(B23,[1]Sheet1!B$4:F$8446,5,0) -> 90 | G23: =VLOOKUP(B23,[1]Sheet1!B$4:J$8446,6,0) -> 90 | H23: =VLOOKUP(B23,[1]Sheet1!B$4:H$8446,7,0) -> 90 | I23: =IF(H23>=90,"Xuất sắc",IF(H23>=80,"Tốt", IF(H23>=65,"Khá",IF(H23>=50,"Trung bình", IF(H23>=35, "Yếu", "Kém"))))) -> Xuất sắc | J23: =VLOOKUP(B23,[1]Sheet1!B$4:K$8446,9,0) -> 90 | K23: =IF(J23>=90,"Xuất sắc",IF(J23>=80,"Tốt", IF(J23>=65,"Khá",IF(J23>=50,"Trung bình", IF(J23>=35, "Yếu", "Kém"))))) -> Xuất sắc
A24: 12 | B24: 22022104 | C24: Nghiêm Đình Dương | D24: 38231 | E24: =VLOOKUP(B24,[1]Sheet1!B$4:L$8446,4,0) -> 80 | F24: =VLOOKUP(B24,[1]Sheet1!B$4:F$8446,5,0) -> 80 | G24: =VLOOKUP(B24,[1]Sheet1!B$4:J$8446,6,0) -> 80 | H24: =VLOOKUP(B24,[1]Sheet1!B$4:H$8446,7,0) -> 80 | I24: =IF(H24>=90,"Xuất sắc",IF(H24>=80,"Tốt", IF(H24>=65,"Khá",IF(H24>=50,"Trung bình", IF(H24>=35, "Yếu", "Kém"))))) -> Tốt | J24: =VLOOKUP(B24,[1]Sheet1!B$4:K$8446,9,0) -> 80 | K24: =IF(J24>=90,"Xuất sắc",IF(J24>=80,"Tốt", IF(J24>=65,"Khá",IF(J24>=50,"Trung bình", IF(J24>=35, "Yếu", "Kém"))))) -> Tốt
... A70: 58 | B70: 22022156 | C70: Dương Minh Vương | D70: 38111 | E70: =VLOOKUP(B70,[1]Sheet1!B$4:L$8446,4,0) -> 80 | F70: =VLOOKUP(B70,[1]Sheet1!B$4:F$8446,5,0) -> 80 | G70: =VLOOKUP(B70,[1]Sheet1!B$4:J$8446,6,0) -> 80 | H70: =VLOOKUP(B70,[1]Sheet1!B$4:H$8446,7,0) -> 80 | I70: =IF(H70>=90,"Xuất sắc",IF(H70>=80,"Tốt", IF(H70>=65,"Khá",IF(H70>=50,"Trung bình", IF(H70>=35, "Yếu", "Kém"))))) -> Tốt | J70: =VLOOKUP(B70,[1]Sheet1!B$4:K$8446,9,0) -> 80 | K70: =IF(J70>=90,"Xuất sắc",IF(J70>=80,"Tốt", IF(J70>=65,"Khá",IF(J70>=50,"Trung bình", IF(J70>=35, "Yếu", "Kém"))))) -> Tốt
A72: Ấn định danh sách có 58 sinh viên./.

Sheet K67EEC
A1: ĐẠI HỌC QUỐC GIA HÀ NỘI | G1: CỘNG HÒA XÃ HỘI CHỦ NGHĨA VIỆT NAM
A2: TRƯỜNG ĐẠI HỌC CÔNG NGHỆ | G2: Độc lập - Tự do - Hạnh phúc
A5: BẢNG TỔNG HỢP KẾT QUẢ RÈN LUYỆN CỦA SINH VIÊN
A6: LỚP QH-2022-I/CQ-E-EC, HỌC KỲ 2, NĂM HỌC 2024-2025
A7: KHOA ĐIỆN TỬ VIỄN THÔNG
A10: STT | B10: MASV | C10: Họ và tên | D10: Ngày sinh | E10: Điểm tự ĐG | F10: Điểm BCS | G10: Điểm GVCN | H10: Điểm KL | J10: Điểm KL
H11: HĐ cấp Khoa | J11: HĐ cấp Trường (dự kiến)
H12: Điểm | I12: Xếp loại | J12: Điểm | K12: Xếp loại
A13: 1 | B13: 22029039 | C13: Nguyễn Đình An | D13: 38328 | E13: =VLOOKUP(B13,[1]Sheet1!B$4:L$8446,4,0) -> 80 | F13: =VLOOKUP(B13,[1]Sheet1!B$4:F$8446,5,0) -> 75 | G13: =VLOOKUP(B13,[1]Sheet1!B$4:J$8446,6,0) -> 65 | H13: =VLOOKUP(B13,[1]Sheet1!B$4:H$8446,7,0) -> 65 | I13: =IF(H13>=90,"Xuất sắc",IF(H13>=80,"Tốt", IF(H13>=65,"Khá",IF(H13>=50,"Trung bình", IF(H13>=35, "Yếu", "Kém"))))) -> Khá | J13: =VLOOKUP(B13,[1]Sheet1!B$4:K$8446,9,0) -> 65 | K13: =IF(J13>=90,"Xuất sắc",IF(J13>=80,"Tốt", IF(J13>=65,"Khá",IF(J13>=50,"Trung bình", IF(J13>=35, "Yếu", "Kém"))))) -> Khá
A14: 2 | B14: 22029029 | C14: Nguyễn Quang An | D14: 38251 | E14: =VLOOKUP(B14,[1]Sheet1!B$4:L$8446,4,0) -> 80 | F14: =VLOOKUP(B14,[1]Sheet1!B$4:F$8446,5,0) -> 80 | G14: =VLOOKUP(B14,[1]Sheet1!B$4:J$8446,6,0) -> 80 | H14: =VLOOKUP(B14,[1]Sheet1!B$4:H$8446,7,0) -> 80 | I14: =IF(H14>=90,"Xuất sắc",IF(H14>=80,"Tốt", IF(H14>=65,"Khá",IF(H14>=50,"Trung bình", IF(H14>=35, "Yếu", "Kém"))))) -> Tốt | J14: =VLOOKUP(B14,[1]Sheet1!B$4:K$8446,9,0) -> 80 | K14: =IF(J14>=90,"Xuất sắc",IF(J14>=80,"Tốt", IF(J14>=65,"Khá",IF(J14>=50,"Trung bình", IF(J14>=35, "Yếu", "Kém"))))) -> Tốt
A15: 3 | B15: 22029042 | C15: Bùi Duy Anh | D15: 38039 | E15: =VLOOKUP(B15,[1]Sheet1!B$4:L$8446,4,0) -> 80 | F15: =VLOOKUP(B15,[1]Sheet1!B$4:F$8446,5,0) -> 80 | G15: =VLOOKUP(B15,[1]Sheet1!B$4:J$8446,6,0) -> 80 | H15: =VLOOKUP(B15,[1]Sheet1!B$4:H$8446,7,0) -> 80 | I15: =IF(H15>=90,"Xuất sắc",IF(H15>=80,"Tốt", IF(H15>=65,"Khá",IF(H15>=50,"Trung bình", IF(H15>=35, "Yếu", "Kém"))))) -> Tốt | J15: =VLOOKUP(B15,[1]Sheet1!B$4:K$8446,9,0) -> 80 | K15: =IF(J15>=90,"Xuất sắc",IF(J15>=80,"Tốt", IF(J15>=65,"Khá",IF(J15>=50,"Trung bình", IF(J15>=35, "Yếu", "Kém"))))) -> Tốt
A16: 4 | B16: 22029084 | C16: Nguyễn Nhật Anh | D16: 38167 | E16: =VLOOKUP(B16,[1]Sheet1!B$4:L$8446,4,0) -> 70 | F16: =VLOOKUP(B16,[1]Sheet1!B$4:F$8446,5,0) -> 65 | G16: =VLOOKUP(B16,[1]Sheet1!B$4:J$8446,6,0) -> 65 | H16: =VLOOKUP(B16,[1]Sheet1!B$4:H$8446,7,0) -> 65 | I16: =IF(H16>=90,"Xuất sắc",IF(H16>=80,"Tốt", IF(H16>=65,"Khá",IF(H16>=50,"Trung bình", IF(H16>=35, "Yếu", "Kém"))))) -> Khá | J16: =VLOOKUP(B16,[1]Sheet1!B$4:K$8446,9,0) -> 65 | K16: =IF(J16>=90,"Xuất sắc",IF(J16>=80,"Tốt", IF(J16>=65,"Khá",IF(J16>=50,"Trung bình", IF(J16>=35, "Yếu", "Kém"))))) -> Khá
A17: 5 | B17: 22029060 | C17: Nguyễn Phan Anh | D17: 38330 | E17: =VLOOKUP(B17,[1]Sheet1!B$4:L$8446,4,0) -> 72 | F17: =VLOOKUP(B17,[1]Sheet1!B$4:F$8446,5,0) -> 72 | G17: =VLOOKUP(B17,[1]Sheet1!B$4:J$8446,6,0) -> 72 | H17: =VLOOKUP(B17,[1]Sheet1!B$4:H$8446,7,0) -> 72 | I17: =IF(H17>=90,"Xuất sắc",IF(H17>=80,"Tốt", IF(H17>=65,"Khá",IF(H17>=50,"Trung bình", IF(H17>=35, "Yếu", "Kém"))))) -> Khá | J17: =VLOOKUP(B17,[1]Sheet1!B$4:K$8446,9,0) -> 72 | K17: =IF(J17>=90,"Xuất sắc",IF(J17>=80,"Tốt", IF(J17>=65,"Khá",IF(J17>=50,"Trung bình", IF(J17>=35, "Yếu", "Kém"))))) -> Khá
A18: 6 | B18: 22029053 | C18: Nguyễn Tuấn Anh | D18: 38309 | E18: =VLOOKUP(B18,[1]Sheet1!B$4:L$8446,4,0) -> 80 | F18: =VLOOKUP(B18,[1]Sheet1!B$4:F$8446,5,0) -> 75 | G18: =VLOOKUP(B18,[1]Sheet1!B$4:J$8446,6,0) -> 75 | H18: =VLOOKUP(B18,[1]Sheet1!B$4:H$8446,7,0) -> 80 | I18: =IF(H18>=90,"Xuất sắc",IF(H18>=80,"Tốt", IF(H18>=65,"Khá",IF(H18>=50,"Trung bình", IF(H18>=35, "Yếu", "Kém"))))) -> Tốt | J18: =VLOOKUP(B18,[1]Sheet1!B$4:K$8446,9,0) -> 80 | K18: =IF(J18>=90,"Xuất sắc",IF(J18>=80,"Tốt", IF(J18>=65,"Khá",IF(J18>=50,"Trung bình", IF(J18>=35, "Yếu", "Kém"))))) -> Tốt
A19: 7 | B19: 22029057 | C19: Nguyễn Việt Anh | D19: 38349 | E19: =VLOOKUP(B19,[1]Sheet1!B$4:L$8446,4,0) -> 90 | F19: =VLOOKUP(B19,[1]Sheet1!B$4:F$8446,5,0) -> 90 | G19: =VLOOKUP(B19,[1]Sheet1!B$4:J$8446,6,0) -> 90 | H19: =VLOOKUP(B19,[1]Sheet1!B$4:H$8446,7,0) -> 90 | I19: =IF(H19>=90,"Xuất sắc",IF(H19>=80,"Tốt", IF(H19>=65,"Khá",IF(H19>=50,"Trung bình", IF(H19>=35, "Yếu", "Kém"))))) -> Xuất sắc | J19: =VLOOKUP(B19,[1]Sheet1!B$4:K$8446,9,0) -> 90 | K19: =IF(J19>=90,"Xuất sắc",IF(J19>=80,"Tốt", IF(J19>=65,"Khá",IF(J19>=50,"Trung bình", IF(J19>=35, "Yếu", "Kém"))))) -> Xuất sắc
A20: 8 | B20: 22029078 | C20: Phạm Huy Bằng | D20: 38007 | E20: =VLOOKUP(B20,[1]Sheet1!B$4:L$8446,4,0) -> 82 | F20: =VLOOKUP(B20,[1]Sheet1!B$4:F$8446,5,0) -> 77 | G20: =VLOOKUP(B20,[1]Sheet1!B$4:J$8446,6,0) -> 77 | H20: =VLOOKUP(B20,[1]Sheet1!B$4:H$8446,7,0) -> 77 | I20: =IF(H20>=90,"Xuất sắc",IF(H20>=80,"Tốt", IF(H20>=65,"Khá",IF(H20>=50,"Trung bình", IF(H20>=35, "Yếu", "Kém"))))) -> Khá | J20: =VLOOKUP(B20,[1]Sheet1!B$4:K$8446,9,0) -> 77 | K20: =IF(J20>=90,"Xuất sắc",IF(J20>=80,"Tốt", IF(J20>=65,"Khá",IF(J20>=50,"Trung bình", IF(J20>=35, "Yếu", "Kém"))))) -> Khá
A21: 9 | B21: 22029047 | C21: Nguyễn Thị Mai Chi | D21: 38312 | E21: =VLOOKUP(B21,[1]Sheet1!B$4:L$8446,4,0) -> 82 | F21: =VLOOKUP(B21,[1]Sheet1!B$4:F$8446,5,0) -> 77 | G21: =VLOOKUP(B21,[1]Sheet1!B$4:J$8446,6,0) -> 77 | H21: =VLOOKUP(B21,[1]Sheet1!B$4:H$8446,7,0) -> 77 | I21: =IF(H21>=90,"Xuất sắc",IF(H21>=80,"Tốt", IF(H21>=65,"Khá",IF(H21>=50,"Trung bình", IF(H21>=35, "Yếu", "Kém"))))) -> Khá | J21: =VLOOKUP(B21,[1]Sheet1!B$4:K$8446,9,0) -> 77 | K21: =IF(J21>=90,"Xuất sắc",IF(J21>=80,"Tốt", IF(J21>=65,"Khá",IF(J21>=50,"Trung bình", IF(J21>=35, "Yếu", "Kém"))))) -> Khá
A22: 10 | B22: 22029105 | C22: Nguyễn Văn Chiến | D22: 38025 | E22: =VLOOKUP(B22,[1]Sheet1!B$4:L$8446,4,0) -> 77 | F22: =VLOOKUP(B22,[1]Sheet1!B$4:F$8446,5,0) -> 72 | G22: =VLOOKUP(B22,[1]Sheet1!B$4:J$8446,6,0) -> 72 | H22: =VLOOKUP(B22,[1]Sheet1!B$4:H$8446,7,0) -> 72 | I22: =IF(H22>=90,"Xuất sắc",IF(H22>=80,"Tốt", IF(H22>=65,"Khá",IF(H22>=50,"Trung bình", IF(H22>=35, "Yếu", "Kém"))))) -> Khá | J22: =VLOOKUP(B22,[1]Sheet1!B$4:K$8446,9,0) -> 72 | K22: =IF(J22>=90,"Xuất sắc",IF(J22>=80,"Tốt", IF(J22>=65,"Khá",IF(J22>=50,"Trung bình", IF(J22>=35, "Yếu", "Kém"))))) -> Khá
A23: 11 | B23: 22029045 | C23: Phạm Văn Chiến | D23: 38092 | E23: =VLOOKUP(B23,[1]Sheet1!B$4:L$8446,4,0) -> 70 | F23: =VLOOKUP(B23,[1]Sheet1!B$4:F$8446,5,0) -> 62 | G23: =VLOOKUP(B23,[1]Sheet1!B$4:J$8446,6,0) -> 62 | H23: =VLOOKUP(B23,[1]Sheet1!B$4:H$8446,7,0) -> 62 | I23: =IF(H23>=90,"Xuất sắc",IF(H23>=80,"Tốt", IF(H23>=65,"Khá",IF(H23>=50,"Trung bình", IF(H23>=35, "Yếu", "Kém"))))) -> Trung bình | J23: =VLOOKUP(B23,[1]Sheet1!B$4:K$8446,9,0) -> 62 | K23: =IF(J23>=90,"Xuất sắc",IF(J23>=80,"Tốt", IF(J23>=65,"Khá",IF(J23>=50,"Trung bình", IF(J23>=35, "Yếu", "Kém"))))) -> Trung bình
A24: 12 | B24: 22029076 | C24: Đặng Xuân Chung | D24: 38157 | E24: =VLOOKUP(B24,[1]Sheet1!B$4:L$8446,4,0) -> 80 | F24: =VLOOKUP(B24,[1]Sheet1!B$4:F$8446,5,0) -> 80 | G24: =VLOOKUP(B24,[1]Sheet1!B$4:J$8446,6,0) -> 80 | H24: =VLOOKUP(B24,[1]Sheet1!B$4:H$8446,7,0) -> 80 | I24: =IF(H24>=90,"Xuất sắc",IF(H24>=80,"Tốt", IF(H24>=65,"Khá",IF(H24>=50,"Trung bình", IF(H24>=35, "Yếu", "Kém"))))) -> Tốt | J24: =VLOOKUP(B24,[1]Sheet1!B$4:K$8446,9,0) -> 80 | K24: =IF(J24>=90,"Xuất sắc",IF(J24>=80,"Tốt", IF(J24>=65,"Khá",IF(J24>=50,"Trung bình", IF(J24>=35, "Yếu", "Kém"))))) -> Tốt
... A115: 103 | B115: 22029067 | C115: Phạm Đức Vượng | D115: 38327 | E115: =VLOOKUP(B115,[1]Sheet1!B$4:L$8446,4,0) -> 90 | F115: =VLOOKUP(B115,[1]Sheet1!B$4:F$8446,5,0) -> 90 | G115: =VLOOKUP(B115,[1]Sheet1!B$4:J$8446,6,0) -> 90 | H115: =VLOOKUP(B115,[1]Sheet1!B$4:H$8446,7,0) -> 90 | I115: =IF(H115>=90,"Xuất sắc",IF(H115>=80,"Tốt", IF(H115>=65,"Khá",IF(H115>=50,"Trung bình", IF(H115>=35, "Yếu", "Kém"))))) -> Xuất sắc | J115: =VLOOKUP(B115,[1]Sheet1!B$4:K$8446,9,0) -> 90 | K115: =IF(J115>=90,"Xuất sắc",IF(J115>=80,"Tốt", IF(J115>=65,"Khá",IF(J115>=50,"Trung bình", IF(J115>=35, "Yếu", "Kém"))))) -> Xuất sắc
A117: Ấn định danh sách có 103 sinh viên./.

Sheet K67ERE
A1: ĐẠI HỌC QUỐC GIA HÀ NỘI | G1: CỘNG HÒA XÃ HỘI CHỦ NGHĨA VIỆT NAM
A2: TRƯỜNG ĐẠI HỌC CÔNG NGHỆ | G2: Độc lập - Tự do - Hạnh phúc
A5: BẢNG TỔNG HỢP KẾT QUẢ RÈN LUYỆN CỦA SINH VIÊN
A6: LỚP QH-2022-I/CQ-E-RE, HỌC KỲ 2, NĂM HỌC 2024-2025
A7: KHOA ĐIỆN TỬ VIỄN THÔNG
A10: STT | B10: MASV | C10: Họ và tên | D10: Ngày sinh | E10: Điểm tự ĐG | F10: Điểm BCS | G10: Điểm GVCN | H10: Điểm KL | J10: Điểm KL
H11: HĐ cấp Khoa | J11: HĐ cấp Trường (dự kiến)
H12: Điểm | I12: Xếp loại | J12: Điểm | K12: Xếp loại
A13: 1 | B13: 22027519 | C13: Hoàng Việt Anh | D13: 38056 | E13: =VLOOKUP(B13,[1]Sheet1!B$4:L$8446,4,0) -> 80 | F13: =VLOOKUP(B13,[1]Sheet1!B$4:F$8446,5,0) -> 80 | G13: =VLOOKUP(B13,[1]Sheet1!B$4:J$8446,6,0) -> 80 | H13: =VLOOKUP(B13,[1]Sheet1!B$4:H$8446,7,0) -> 80 | I13: =IF(H13>=90,"Xuất sắc",IF(H13>=80,"Tốt", IF(H13>=65,"Khá",IF(H13>=50,"Trung bình", IF(H13>=35, "Yếu", "Kém"))))) -> Tốt | J13: =VLOOKUP(B13,[1]Sheet1!B$4:K$8446,9,0) -> 80 | K13: =IF(J13>=90,"Xuất sắc",IF(J13>=80,"Tốt", IF(J13>=65,"Khá",IF(J13>=50,"Trung bình", IF(J13>=35, "Yếu", "Kém"))))) -> Tốt
A14: 2 | B14: 22027553 | C14: Lâm Việt Anh | D14: 38187 | E14: =VLOOKUP(B14,[1]Sheet1!B$4:L$8446,4,0) -> 90 | F14: =VLOOKUP(B14,[1]Sheet1!B$4:F$8446,5,0) -> 90 | G14: =VLOOKUP(B14,[1]Sheet1!B$4:J$8446,6,0) -> 90 | H14: =VLOOKUP(B14,[1]Sheet1!B$4:H$8446,7,0) -> 90 | I14: =IF(H14>=90,"Xuất sắc",IF(H14>=80,"Tốt", IF(H14>=65,"Khá",IF(H14>=50,"Trung bình", IF(H14>=35, "Yếu", "Kém"))))) -> Xuất sắc | J14: =VLOOKUP(B14,[1]Sheet1!B$4:K$8446,9,0) -> 90 | K14: =IF(J14>=90,"Xuất sắc",IF(J14>=80,"Tốt", IF(J14>=65,"Khá",IF(J14>=50,"Trung bình", IF(J14>=35, "Yếu", "Kém"))))) -> Xuất sắc
A15: 3 | B15: 22027514 | C15: Nguyễn Tuấn Anh | D15: 38026 | E15: =VLOOKUP(B15,[1]Sheet1!B$4:L$8446,4,0) -> 80 | F15: =VLOOKUP(B15,[1]Sheet1!B$4:F$8446,5,0) -> 80 | G15: =VLOOKUP(B15,[1]Sheet1!B$4:J$8446,6,0) -> 75 | H15: =VLOOKUP(B15,[1]Sheet1!B$4:H$8446,7,0) -> 75 | I15: =IF(H15>=90,"Xuất sắc",IF(H15>=80,"Tốt", IF(H15>=65,"Khá",IF(H15>=50,"Trung bình", IF(H15>=35, "Yếu", "Kém"))))) -> Khá | J15: =VLOOKUP(B15,[1]Sheet1!B$4:K$8446,9,0) -> 75 | K15: =IF(J15>=90,"Xuất sắc",IF(J15>=80,"Tốt", IF(J15>=65,"Khá",IF(J15>=50,"Trung bình", IF(J15>=35, "Yếu", "Kém"))))) -> Khá
A16: 4 | B16: 22027532 | C16: Phạm Trung Anh | D16: 38263 | E16: =VLOOKUP(B16,[1]Sheet1!B$4:L$8446,4,0) -> 94 | F16: =VLOOKUP(B16,[1]Sheet1!B$4:F$8446,5,0) -> 94 | G16: =VLOOKUP(B16,[1]Sheet1!B$4:J$8446,6,0) -> 89 | H16: =VLOOKUP(B16,[1]Sheet1!B$4:H$8446,7,0) -> 89 | I16: =IF(H16>=90,"Xuất sắc",IF(H16>=80,"Tốt", IF(H16>=65,"Khá",IF(H16>=50,"Trung bình", IF(H16>=35, "Yếu", "Kém"))))) -> Tốt | J16: =VLOOKUP(B16,[1]Sheet1!B$4:K$8446,9,0) -> 89 | K16: =IF(J16>=90,"Xuất sắc",IF(J16>=80,"Tốt", IF(J16>=65,"Khá",IF(J16>=50,"Trung bình", IF(J16>=35, "Yếu", "Kém"))))) -> Tốt
A17: 5 | B17: 22027528 | C17: Trương Ngọc Anh | D17: 38212 | E17: =VLOOKUP(B17,[1]Sheet1!B$4:L$8446,4,0) -> 80 | F17: =VLOOKUP(B17,[1]Sheet1!B$4:F$8446,5,0) -> 80 | G17: =VLOOKUP(B17,[1]Sheet1!B$4:J$8446,6,0) -> 80 | H17: =VLOOKUP(B17,[1]Sheet1!B$4:H$8446,7,0) -> 80 | I17: =IF(H17>=90,"Xuất sắc",IF(H17>=80,"Tốt", IF(H17>=65,"Khá",IF(H17>=50,"Trung bình", IF(H17>=35, "Yếu", "Kém"))))) -> Tốt | J17: =VLOOKUP(B17,[1]Sheet1!B$4:K$8446,9,0) -> 80 | K17: =IF(J17>=90,"Xuất sắc",IF(J17>=80,"Tốt", IF(J17>=65,"Khá",IF(J17>=50,"Trung bình", IF(J17>=35, "Yếu", "Kém"))))) -> Tốt
A18: 6 | B18: 22027539 | C18: Phạm Văn Bách | D18: 38105 | E18: =VLOOKUP(B18,[1]Sheet1!B$4:L$8446,4,0) -> 80 | F18: =VLOOKUP(B18,[1]Sheet1!B$4:F$8446,5,0) -> 90 | G18: =VLOOKUP(B18,[1]Sheet1!B$4:J$8446,6,0) -> 85 | H18: =VLOOKUP(B18,[1]Sheet1!B$4:H$8446,7,0) -> 85 | I18: =IF(H18>=90,"Xuất sắc",IF(H18>=80,"Tốt", IF(H18>=65,"Khá",IF(H18>=50,"Trung bình", IF(H18>=35, "Yếu", "Kém"))))) -> Tốt | J18: =VLOOKUP(B18,[1]Sheet1!B$4:K$8446,9,0) -> 85 | K18: =IF(J18>=90,"Xuất sắc",IF(J18>=80,"Tốt", IF(J18>=65,"Khá",IF(J18>=50,"Trung bình", IF(J18>=35, "Yếu", "Kém"))))) -> Tốt
A19: 7 | B19: 22027505 | C19: Nguyễn Văn Bằng | D19: 38138 | E19: =VLOOKUP(B19,[1]Sheet1!B$4:L$8446,4,0) -> 82 | F19: =VLOOKUP(B19,[1]Sheet1!B$4:F$8446,5,0) -> 92 | G19: =VLOOKUP(B19,[1]Sheet1!B$4:J$8446,6,0) -> 87 | H19: =VLOOKUP(B19,[1]Sheet1!B$4:H$8446,7,0) -> 87 | I19: =IF(H19>=90,"Xuất sắc",IF(H19>=80,"Tốt", IF(H19>=65,"Khá",IF(H19>=50,"Trung bình", IF(H19>=35, "Yếu", "Kém"))))) -> Tốt | J19: =VLOOKUP(B19,[1]Sheet1!B$4:K$8446,9,0) -> 87 | K19: =IF(J19>=90,"Xuất sắc",IF(J19>=80,"Tốt", IF(J19>=65,"Khá",IF(J19>=50,"Trung bình", IF(J19>=35, "Yếu", "Kém"))))) -> Tốt
A20: 8 | B20: 22027543 | C20: Trần Thái Bình | D20: 38132 | E20: =VLOOKUP(B20,[1]Sheet1!B$4:L$8446,4,0) -> 70 | F20: =VLOOKUP(B20,[1]Sheet1!B$4:F$8446,5,0) -> 75 | G20: =VLOOKUP(B20,[1]Sheet1!B$4:J$8446,6,0) -> 75 | H20: =VLOOKUP(B20,[1]Sheet1!B$4:H$8446,7,0) -> 75 | I20: =IF(H20>=90,"Xuất sắc",IF(H20>=80,"Tốt", IF(H20>=65,"Khá",IF(H20>=50,"Trung bình", IF(H20>=35, "Yếu", "Kém"))))) -> Khá | J20: =VLOOKUP(B20,[1]Sheet1!B$4:K$8446,9,0) -> 75 | K20: =IF(J20>=90,"Xuất sắc",IF(J20>=80,"Tốt", IF(J20>=65,"Khá",IF(J20>=50,"Trung bình", IF(J20>=35, "Yếu", "Kém"))))) -> Khá
A21: 9 | B21: 22027502 | C21: Nguyễn Tuấn Cảnh | D21: 36997 | E21: =VLOOKUP(B21,[1]Sheet1!B$4:L$8446,4,0) -> 80 | F21: =VLOOKUP(B21,[1]Sheet1!B$4:F$8446,5,0) -> 80 | G21: =VLOOKUP(B21,[1]Sheet1!B$4:J$8446,6,0) -> 80 | H21: =VLOOKUP(B21,[1]Sheet1!B$4:H$8446,7,0) -> 80 | I21: =IF(H21>=90,"Xuất sắc",IF(H21>=80,"Tốt", IF(H21>=65,"Khá",IF(H21>=50,"Trung bình", IF(H21>=35, "Yếu", "Kém"))))) -> Tốt | J21: =VLOOKUP(B21,[1]Sheet1!B$4:K$8446,9,0) -> 80 | K21: =IF(J21>=90,"Xuất sắc",IF(J21>=80,"Tốt", IF(J21>=65,"Khá",IF(J21>=50,"Trung bình", IF(J21>=35, "Yếu", "Kém"))))) -> Tốt
A22: 10 | B22: 22027550 | C22: Trần Đình Cảnh | D22: 38153 | E22: =VLOOKUP(B22,[1]Sheet1!B$4:L$8446,4,0) -> 0 | F22: =VLOOKUP(B22,[1]Sheet1!B$4:F$8446,5,0) -> 0 | G22: =VLOOKUP(B22,[1]Sheet1!B$4:J$8446,6,0) -> 0 | H22: =VLOOKUP(B22,[1]Sheet1!B$4:H$8446,7,0) -> 0 | I22: =IF(H22>=90,"Xuất sắc",IF(H22>=80,"Tốt", IF(H22>=65,"Khá",IF(H22>=50,"Trung bình", IF(H22>=35, "Yếu", "Kém"))))) -> Kém | J22: =VLOOKUP(B22,[1]Sheet1!B$4:K$8446,9,0) -> 0 | K22: =IF(J22>=90,"Xuất sắc",IF(J22>=80,"Tốt", IF(J22>=65,"Khá",IF(J22>=50,"Trung bình", IF(J22>=35, "Yếu", "Kém"))))) -> Kém
A23: 11 | B23: 22027549 | C23: Hoàng Văn Cường | D23: 38026 | E23: =VLOOKUP(B23,[1]Sheet1!B$4:L$8446,4,0) -> 90 | F23: =VLOOKUP(B23,[1]Sheet1!B$4:F$8446,5,0) -> 90 | G23: =VLOOKUP(B23,[1]Sheet1!B$4:J$8446,6,0) -> 90 | H23: =VLOOKUP(B23,[1]Sheet1!B$4:H$8446,7,0) -> 90 | I23: =IF(H23>=90,"Xuất sắc",IF(H23>=80,"Tốt", IF(H23>=65,"Khá",IF(H23>=50,"Trung bình", IF(H23>=35, "Yếu", "Kém"))))) -> Xuất sắc | J23: =VLOOKUP(B23,[1]Sheet1!B$4:K$8446,9,0) -> 90 | K23: =IF(J23>=90,"Xuất sắc",IF(J23>=80,"Tốt", IF(J23>=65,"Khá",IF(J23>=50,"Trung bình", IF(J23>=35, "Yếu", "Kém"))))) -> Xuất sắc
A24: 12 | B24: 22027501 | C24: Nguyễn Mạnh Cường | D24: 38045 | E24: =VLOOKUP(B24,[1]Sheet1!B$4:L$8446,4,0) -> 80 | F24: =VLOOKUP(B24,[1]Sheet1!B$4:F$8446,5,0) -> 90 | G24: =VLOOKUP(B24,[1]Sheet1!B$4:J$8446,6,0) -> 90 | H24: =VLOOKUP(B24,[1]Sheet1!B$4:H$8446,7,0) -> 90 | I24: =IF(H24>=90,"Xuất sắc",IF(H24>=80,"Tốt", IF(H24>=65,"Khá",IF(H24>=50,"Trung bình", IF(H24>=35, "Yếu", "Kém"))))) -> Xuất sắc | J24: =VLOOKUP(B24,[1]Sheet1!B$4:K$8446,9,0) -> 90 | K24: =IF(J24>=90,"Xuất sắc",IF(J24>=80,"Tốt", IF(J24>=65,"Khá",IF(J24>=50,"Trung bình", IF(J24>=35, "Yếu", "Kém"))))) -> Xuất sắc
... A65: 53 | B65: 22027552 | C65: Nguyễn Anh Vũ | D65: 38062 | E65: =VLOOKUP(B65,[1]Sheet1!B$4:L$8446,4,0) -> 92 | F65: =VLOOKUP(B65,[1]Sheet1!B$4:F$8446,5,0) -> 92 | G65: =VLOOKUP(B65,[1]Sheet1!B$4:J$8446,6,0) -> 92 | H65: =VLOOKUP(B65,[1]Sheet1!B$4:H$8446,7,0) -> 92 | I65: =IF(H65>=90,"Xuất sắc",IF(H65>=80,"Tốt", IF(H65>=65,"Khá",IF(H65>=50,"Trung bình", IF(H65>=35, "Yếu", "Kém"))))) -> Xuất sắc | J65: =VLOOKUP(B65,[1]Sheet1!B$4:K$8446,9,0) -> 92 | K65: =IF(J65>=90,"Xuất sắc",IF(J65>=80,"Tốt", IF(J65>=65,"Khá",IF(J65>=50,"Trung bình", IF(J65>=35, "Yếu", "Kém"))))) -> Xuất sắc
A67: Ấn định danh sách có 53 sinh viên./.

Sheet K68ECE1
A1: ĐẠI HỌC QUỐC GIA HÀ NỘI | G1: CỘNG HÒA XÃ HỘI CHỦ NGHĨA VIỆT NAM
A2: TRƯỜNG ĐẠI HỌC CÔNG NGHỆ | G2: Độc lập - Tự do - Hạnh phúc
A5: BẢNG TỔNG HỢP KẾT QUẢ RÈN LUYỆN CỦA SINH VIÊN
A6: LỚP QH-2023-I/CQ-E-CE1, HỌC KỲ 2, NĂM HỌC 2024-2025
A7: KHOA ĐIỆN TỬ VIỄN THÔNG
A10: STT | B10: MASV | C10: Họ và tên | D10: Ngày sinh | E10: Điểm tự ĐG | F10: Điểm BCS | G10: Điểm GVCN | H10: Điểm KL | J10: Điểm KL
H11: HĐ cấp Khoa | J11: HĐ cấp Trường (dự kiến)
H12: Điểm | I12: Xếp loại | J12: Điểm | K12: Xếp loại
A13: 1 | B13: 23020781 | C13: Nguyễn Quang Anh | D13: 38666 | E13: =VLOOKUP(B13,[1]Sheet1!B$4:L$8446,4,0) -> 80 | F13: =VLOOKUP(B13,[1]Sheet1!B$4:F$8446,5,0) -> 80 | G13: =VLOOKUP(B13,[1]Sheet1!B$4:J$8446,6,0) -> 80 | H13: =VLOOKUP(B13,[1]Sheet1!B$4:H$8446,7,0) -> 80 | I13: =IF(H13>=90,"Xuất sắc",IF(H13>=80,"Tốt", IF(H13>=65,"Khá",IF(H13>=50,"Trung bình", IF(H13>=35, "Yếu", "Kém"))))) -> Tốt | J13: =VLOOKUP(B13,[1]Sheet1!B$4:K$8446,9,0) -> 80 | K13: =IF(J13>=90,"Xuất sắc",IF(J13>=80,"Tốt", IF(J13>=65,"Khá",IF(J13>=50,"Trung bình", IF(J13>=35, "Yếu", "Kém"))))) -> Tốt
A14: 2 | B14: 23020783 | C14: Đỗ Hoàng Gia Bảo | D14: 38363 | E14: =VLOOKUP(B14,[1]Sheet1!B$4:L$8446,4,0) -> 90 | F14: =VLOOKUP(B14,[1]Sheet1!B$4:F$8446,5,0) -> 90 | G14: =VLOOKUP(B14,[1]Sheet1!B$4:J$8446,6,0) -> 90 | H14: =VLOOKUP(B14,[1]Sheet1!B$4:H$8446,7,0) -> 90 | I14: =IF(H14>=90,"Xuất sắc",IF(H14>=80,"Tốt", IF(H14>=65,"Khá",IF(H14>=50,"Trung bình", IF(H14>=35, "Yếu", "Kém"))))) -> Xuất sắc | J14: =VLOOKUP(B14,[1]Sheet1!B$4:K$8446,9,0) -> 90 | K14: =IF(J14>=90,"Xuất sắc",IF(J14>=80,"Tốt", IF(J14>=65,"Khá",IF(J14>=50,"Trung bình", IF(J14>=35, "Yếu", "Kém"))))) -> Xuất sắc
A15: 3 | B15: 23020785 | C15: Nguyễn Thanh Bình | D15: 38654 | E15: =VLOOKUP(B15,[1]Sheet1!B$4:L$8446,4,0) -> 90 | F15: =VLOOKUP(B15,[1]Sheet1!B$4:F$8446,5,0) -> 90 | G15: =VLOOKUP(B15,[1]Sheet1!B$4:J$8446,6,0) -> 90 | H15: =VLOOKUP(B15,[1]Sheet1!B$4:H$8446,7,0) -> 90 | I15: =IF(H15>=90,"Xuất sắc",IF(H15>=80,"Tốt", IF(H15>=65,"Khá",IF(H15>=50,"Trung bình", IF(H15>=35, "Yếu", "Kém"))))) -> Xuất sắc | J15: =VLOOKUP(B15,[1]Sheet1!B$4:K$8446,9,0) -> 90 | K15: =IF(J15>=90,"Xuất sắc",IF(J15>=80,"Tốt", IF(J15>=65,"Khá",IF(J15>=50,"Trung bình", IF(J15>=35, "Yếu", "Kém"))))) -> Xuất sắc
A16: 4 | B16: 23020787 | C16: Nguyễn Thị Phương Chi | D16: 38418 | E16: =VLOOKUP(B16,[1]Sheet1!B$4:L$8446,4,0) -> 90 | F16: =VLOOKUP(B16,[1]Sheet1!B$4:F$8446,5,0) -> 90 | G16: =VLOOKUP(B16,[1]Sheet1!B$4:J$8446,6,0) -> 90 | H16: =VLOOKUP(B16,[1]Sheet1!B$4:H$8446,7,0) -> 90 | I16: =IF(H16>=90,"Xuất sắc",IF(H16>=80,"Tốt", IF(H16>=65,"Khá",IF(H16>=50,"Trung bình", IF(H16>=35, "Yếu", "Kém"))))) -> Xuất sắc | J16: =VLOOKUP(B16,[1]Sheet1!B$4:K$8446,9,0) -> 90 | K16: =IF(J16>=90,"Xuất sắc",IF(J16>=80,"Tốt", IF(J16>=65,"Khá",IF(J16>=50,"Trung bình", IF(J16>=35, "Yếu", "Kém"))))) -> Xuất sắc
A17: 5 | B17: 23020789 | C17: Trần Minh Chiến | D17: 38363 | E17: =VLOOKUP(B17,[1]Sheet1!B$4:L$8446,4,0) -> 90 | F17: =VLOOKUP(B17,[1]Sheet1!B$4:F$8446,5,0) -> 90 | G17: =VLOOKUP(B17,[1]Sheet1!B$4:J$8446,6,0) -> 90 | H17: =VLOOKUP(B17,[1]Sheet1!B$4:H$8446,7,0) -> 90 | I17: =IF(H17>=90,"Xuất sắc",IF(H17>=80,"Tốt", IF(H17>=65,"Khá",IF(H17>=50,"Trung bình", IF(H17>=35, "Yếu", "Kém"))))) -> Xuất sắc | J17: =VLOOKUP(B17,[1]Sheet1!B$4:K$8446,9,0) -> 90 | K17: =IF(J17>=90,"Xuất sắc",IF(J17>=80,"Tốt", IF(J17>=65,"Khá",IF(J17>=50,"Trung bình", IF(J17>=35, "Yếu", "Kém"))))) -> Xuất sắc
A18: 6 | B18: 23020791 | C18: Nguyễn Đức Duân | D18: 38520 | E18: =VLOOKUP(B18,[1]Sheet1!B$4:L$8446,4,0) -> 92 | F18: =VLOOKUP(B18,[1]Sheet1!B$4:F$8446,5,0) -> 92 | G18: =VLOOKUP(B18,[1]Sheet1!B$4:J$8446,6,0) -> 92 | H18: =VLOOKUP(B18,[1]Sheet1!B$4:H$8446,7,0) -> 92 | I18: =IF(H18>=90,"Xuất sắc",IF(H18>=80,"Tốt", IF(H18>=65,"Khá",IF(H18>=50,"Trung bình", IF(H18>=35, "Yếu", "Kém"))))) -> Xuất sắc | J18: =VLOOKUP(B18,[1]Sheet1!B$4:K$8446,9,0) -> 92 | K18: =IF(J18>=90,"Xuất sắc",IF(J18>=80,"Tốt", IF(J18>=65,"Khá",IF(J18>=50,"Trung bình", IF(J18>=35, "Yếu", "Kém"))))) -> Xuất sắc
A19: 7 | B19: 23020793 | C19: Nguyễn Anh Dũng | D19: 38561 | E19: =VLOOKUP(B19,[1]Sheet1!B$4:L$8446,4,0) -> 90 | F19: =VLOOKUP(B19,[1]Sheet1!B$4:F$8446,5,0) -> 90 | G19: =VLOOKUP(B19,[1]Sheet1!B$4:J$8446,6,0) -> 90 | H19: =VLOOKUP(B19,[1]Sheet1!B$4:H$8446,7,0) -> 90 | I19: =IF(H19>=90,"Xuất sắc",IF(H19>=80,"Tốt", IF(H19>=65,"Khá",IF(H19>=50,"Trung bình", IF(H19>=35, "Yếu", "Kém"))))) -> Xuất sắc | J19: =VLOOKUP(B19,[1]Sheet1!B$4:K$8446,9,0) -> 90 | K19: =IF(J19>=90,"Xuất sắc",IF(J19>=80,"Tốt", IF(J19>=65,"Khá",IF(J19>=50,"Trung bình", IF(J19>=35, "Yếu", "Kém"))))) -> Xuất sắc
A20: 8 | B20: 23020795 | C20: Bùi Đăng Dương | D20: 38712 | E20: =VLOOKUP(B20,[1]Sheet1!B$4:L$8446,4,0) -> 90 | F20: =VLOOKUP(B20,[1]Sheet1!B$4:F$8446,5,0) -> 90 | G20: =VLOOKUP(B20,[1]Sheet1!B$4:J$8446,6,0) -> 90 | H20: =VLOOKUP(B20,[1]Sheet1!B$4:H$8446,7,0) -> 90 | I20: =IF(H20>=90,"Xuất sắc",IF(H20>=80,"Tốt", IF(H20>=65,"Khá",IF(H20>=50,"Trung bình", IF(H20>=35, "Yếu", "Kém"))))) -> Xuất sắc | J20: =VLOOKUP(B20,[1]Sheet1!B$4:K$8446,9,0) -> 90 | K20: =IF(J20>=90,"Xuất sắc",IF(J20>=80,"Tốt", IF(J20>=65,"Khá",IF(J20>=50,"Trung bình", IF(J20>=35, "Yếu", "Kém"))))) -> Xuất sắc
A21: 9 | B21: 23020797 | C21: Phan Đăng Dương | D21: 38470 | E21: =VLOOKUP(B21,[1]Sheet1!B$4:L$8446,4,0) -> 96 | F21: =VLOOKUP(B21,[1]Sheet1!B$4:F$8446,5,0) -> 94 | G21: =VLOOKUP(B21,[1]Sheet1!B$4:J$8446,6,0) -> 94 | H21: =VLOOKUP(B21,[1]Sheet1!B$4:H$8446,7,0) -> 94 | I21: =IF(H21>=90,"Xuất sắc",IF(H21>=80,"Tốt", IF(H21>=65,"Khá",IF(H21>=50,"Trung bình", IF(H21>=35, "Yếu", "Kém"))))) -> Xuất sắc | J21: =VLOOKUP(B21,[1]Sheet1!B$4:K$8446,9,0) -> 94 | K21: =IF(J21>=90,"Xuất sắc",IF(J21>=80,"Tốt", IF(J21>=65,"Khá",IF(J21>=50,"Trung bình", IF(J21>=35, "Yếu", "Kém"))))) -> Xuất sắc
A22: 10 | B22: 23020799 | C22: Phạm Tiến Đạt | D22: 38703 | E22: =VLOOKUP(B22,[1]Sheet1!B$4:L$8446,4,0) -> 70 | F22: =VLOOKUP(B22,[1]Sheet1!B$4:F$8446,5,0) -> 77 | G22: =VLOOKUP(B22,[1]Sheet1!B$4:J$8446,6,0) -> 77 | H22: =VLOOKUP(B22,[1]Sheet1!B$4:H$8446,7,0) -> 77 | I22: =IF(H22>=90,"Xuất sắc",IF(H22>=80,"Tốt", IF(H22>=65,"Khá",IF(H22>=50,"Trung bình", IF(H22>=35, "Yếu", "Kém"))))) -> Khá | J22: =VLOOKUP(B22,[1]Sheet1!B$4:K$8446,9,0) -> 77 | K22: =IF(J22>=90,"Xuất sắc",IF(J22>=80,"Tốt", IF(J22>=65,"Khá",IF(J22>=50,"Trung bình", IF(J22>=35, "Yếu", "Kém"))))) -> Khá
A23: 11 | B23: 23020801 | C23: Lê Hải Đăng | D23: 38381 | E23: =VLOOKUP(B23,[1]Sheet1!B$4:L$8446,4,0) -> 90 | F23: =VLOOKUP(B23,[1]Sheet1!B$4:F$8446,5,0) -> 90 | G23: =VLOOKUP(B23,[1]Sheet1!B$4:J$8446,6,0) -> 90 | H23: =VLOOKUP(B23,[1]Sheet1!B$4:H$8446,7,0) -> 90 | I23: =IF(H23>=90,"Xuất sắc",IF(H23>=80,"Tốt", IF(H23>=65,"Khá",IF(H23>=50,"Trung bình", IF(H23>=35, "Yếu", "Kém"))))) -> Xuất sắc | J23: =VLOOKUP(B23,[1]Sheet1!B$4:K$8446,9,0) -> 90 | K23: =IF(J23>=90,"Xuất sắc",IF(J23>=80,"Tốt", IF(J23>=65,"Khá",IF(J23>=50,"Trung bình", IF(J23>=35, "Yếu", "Kém"))))) -> Xuất sắc
A24: 12 | B24: 23020803 | C24: Trịnh Văn Giang | D24: 37213 | E24: =VLOOKUP(B24,[1]Sheet1!B$4:L$8446,4,0) -> 90 | F24: =VLOOKUP(B24,[1]Sheet1!B$4:F$8446,5,0) -> 90 | G24: =VLOOKUP(B24,[1]Sheet1!B$4:J$8446,6,0) -> 90 | H24: =VLOOKUP(B24,[1]Sheet1!B$4:H$8446,7,0) -> 90 | I24: =IF(H24>=90,"Xuất sắc",IF(H24>=80,"Tốt", IF(H24>=65,"Khá",IF(H24>=50,"Trung bình", IF(H24>=35, "Yếu", "Kém"))))) -> Xuất sắc | J24: =VLOOKUP(B24,[1]Sheet1!B$4:K$8446,9,0) -> 90 | K24: =IF(J24>=90,"Xuất sắc",IF(J24>=80,"Tốt", IF(J24>=65,"Khá",IF(J24>=50,"Trung bình", IF(J24>=35, "Yếu", "Kém"))))) -> Xuất sắc
... A69: 57 | B69: 23020897 | C69: Cao Quang Vinh | D69: 38641 | E69: =VLOOKUP(B69,[1]Sheet1!B$4:L$8446,4,0) -> 80 | F69: =VLOOKUP(B69,[1]Sheet1!B$4:F$8446,5,0) -> 80 | G69: =VLOOKUP(B69,[1]Sheet1!B$4:J$8446,6,0) -> 80 | H69: =VLOOKUP(B69,[1]Sheet1!B$4:H$8446,7,0) -> 80 | I69: =IF(H69>=90,"Xuất sắc",IF(H69>=80,"Tốt", IF(H69>=65,"Khá",IF(H69>=50,"Trung bình", IF(H69>=35, "Yếu", "Kém"))))) -> Tốt | J69: =VLOOKUP(B69,[1]Sheet1!B$4:K$8446,9,0) -> 80 | K69: =IF(J69>=90,"Xuất sắc",IF(J69>=80,"Tốt", IF(J69>=65,"Khá",IF(J69>=50,"Trung bình", IF(J69>=35, "Yếu", "Kém"))))) -> Tốt
A71: Ấn định danh sách có 57 sinh viên./.

Sheet K68ECE2
A1: ĐẠI HỌC QUỐC GIA HÀ NỘI | G1: CỘNG HÒA XÃ HỘI CHỦ NGHĨA VIỆT NAM
A2: TRƯỜNG ĐẠI HỌC CÔNG NGHỆ | G2: Độc lập - Tự do - Hạnh phúc
A5: BẢNG TỔNG HỢP KẾT QUẢ RÈN LUYỆN CỦA SINH VIÊN
A6: LỚP QH-2023-I/CQ-E-CE2, HỌC KỲ 2, NĂM HỌC 2024-2025
A7: KHOA ĐIỆN TỬ VIỄN THÔNG
A10: STT | B10: MASV | C10: Họ và tên | D10: Ngày sinh | E10: Điểm tự ĐG | F10: Điểm BCS | G10: Điểm GVCN | H10: Điểm KL | J10: Điểm KL
H11: HĐ cấp Khoa | J11: HĐ cấp Trường (dự kiến)
H12: Điểm | I12: Xếp loại | J12: Điểm | K12: Xếp loại
